Workbook
Name \A: #REF!
Name \A: #REF!
Name \A: #REF!
Name \A: #REF!
Name \P: #REF!
Name \P: #REF!
Name \P: #REF!
Name \P: #REF!
Name ____W.O.R.K.B.O.O.K..C.O.N.T.E.N.T.S____: #REF!
Name ____W.O.R.K.B.O.O.K..C.O.N.T.E.N.T.S____: #REF!
Name ____W.O.R.K.B.O.O.K..C.O.N.T.E.N.T.S____: #REF!
Name ____W.O.R.K.B.O.O.K..C.O.N.T.E.N.T.S____: #REF!
Name _ACC0320: #REF!
Name _ACC0320: #REF!
Name _ACC0320: #REF!
Name _ACC0320: #REF!
Name _BAL0320: #REF!
Name _BAL0320: #REF!
Name _BAL0320: #REF!
Name _BAL0320: #REF!
Name _BAL0344: #REF!
Name _BAL0344: #REF!
Name _BAL0344: #REF!
Name _BAL0344: #REF!
Name _BAL0348: #REF!
Name _BAL0348: #REF!
Name _BAL0348: #REF!
Name _BAL0348: #REF!
Name _BAL0360: #REF!
Name _BAL0360: #REF!
Name _BAL0360: #REF!
Name _BAL0360: #REF!
Name _BAL0361: #REF!
Name _BAL0361: #REF!
Name _BAL0361: #REF!
Name _BAL0361: #REF!
Name _BAL0367: #REF!
Name _BAL0367: #REF!
Name _BAL0367: #REF!
Name _BAL0367: #REF!
Name _BAL0370: #REF!
Name _BAL0370: #REF!
Name _BAL0370: #REF!
Name _BAL0370: #REF!
Name _BAL0375: #REF!
Name _BAL0375: #REF!
Name _BAL0375: #REF!
Name _BAL0375: #REF!
Name _BAL0384: #REF!
Name _BAL0384: #REF!
Name _BAL0384: #REF!
Name _BAL0384: #REF!
Name _BAL0385: #REF!
Name _BAL0385: #REF!
Name _BAL0385: #REF!
Name _BAL0385: #REF!
Name _BAL0386: #REF!
Name _BAL0386: #REF!
Name _BAL0386: #REF!
Name _BAL0386: #REF!

Sheet Copyright
C2: COPYRIGHT
C3: © The National Accounting Council 2018
C5: This NAC Template contains copyright material.
C6: Requests and enquiries concerning this template and rights for commercial purposes within Cambodia should be addressed to National Accounting Council at the following address: Street 92, Sangkat Wat Phnom, Khan Daun Penh, Phnom Penh, Cambodia

Sheet Entity Info
A2: =Content!B21 -> 0
A3: =Content!B22 -> 0
A4: ព័ត៌មានរបស់អង្គភាព
A5: Entity Information
A6: តើអង្គភាពជាអ្វី?ហេតុអ្វីអង្គភាពត្រូវបានបង្កើត?
A7: "Who are we?", "Why do we exist?"
C8: របាយការណ៍ហិរញ្ញវត្ថុសម្រាប់ដំណាច់ឆ្នាំ | D8: =Content!B30 -> 31 ធ្នូ 2025
C9: For the year ended:
A13: ពទ១ EI1 | C13: ឈ្មោះរបស់អង្គភាព* Legal Name of Entity* | D13: =Content!B21 -> 0
D15: =Content!B22 -> 0
A17: ពទ២ EI2 | C17: ឈ្មោះផ្សេងទៀតរបស់អង្គភាព (ប្រសិនបើមាន) Other Name of Entity (if any) | D17: គ្មាន
D19: NONE
A21: ពទ៣ EI3 | C21: ប្រភេទរបស់អង្គភាព* Type of Entity* | D21: អង្គការមិនស្វែងរកប្រាក់ចំណេញ
A25: ពទ៤ EI4 | C25: លេខចុះបញ្ជី Registration Number* | D25: លេខ ១៥៩៣​ សជណ ជាមួយក្រសួងមហាផ្ទៃ​ ១០ កក្កដា ២០១៩
A29: ពទ៥ EI5 | C29: លេខអត្តសញ្ញាណកម្មសារពើពន្ធ អ.ត.ប VAT-TIN* | D29: =Content!B24 -> 0
A34: ពទ៦ EI6 | C34: គោលបំណងរបស់អង្គភាព * Entity's Objective *
C35: គោលបំណងចម្បងរបស់អង្គភាព៖​ ១. ការរួបរួមៈ ដើម្បីសម្របសម្រួលដល់ការប្រកាសដំណឹងល្អរបស់ព្រះយេស៊ូវគ្រីស្ទ។ ដើម្បីលើកកម្ពស់កិច្ច សហប្រតិបត្តិការ ការយល់ដឹង និងការរួបរួមនៅក្នុងសហគមន៍គ្រីស្ទបរិស័ទដំណឹងល្អ។ ២. ការអភិវឌ្ឍន៍ភាពជាអ្នកដឹកនាំៈ ដើម្បីគាំទ្រក្រុមជំនុំឲ្យមានការចម្រើនលូតលាស់ខាងវិញ្ញាណ​ ក៏ដូចជាជួយអភិវឌ្ឍន៍អ្នកជឿនៅក្នុងក្រុមជំនុំរបស់ពួកគេ និងដើម្បីលើកកម្ពស់សុខុមាលភាពសង្គមរបស់ប្រជាពលរដ្ឋកម្ពុជា។ ៣. ការប្រាស្រ័យទាក់ទងៈ ដើម្បីសម្របសម្រួលការប្រាស្រ័យទាក់ទង និងការយល់ដឹងរវាងសហគមន៍គ្រីស្ទបរិស័ទដំណឹងល្អ និងរាជរដ្ឋាភិបាលកម្ពុជា។
A55: ពទ៧ EI7 | C55: អង្គការលេខរបស់អង្គភាព (រួមទាំងអភិបាលកិច្ច ប្រសិនបើមាន) * Entity Organizational Chart (Including Governance arrangements if any) *
C56: អង្គការប្រិយសម្ពន្ធគ្រីស្ទបរិស័ទកម្ពុជាមានសមាសភាពដឹកនាំដោយក្រុមប្រឹក្សាភិបាលមានសមាជិកដប់បីនាក់ដូចខាងក្រោម៖ ១. លោក ហេង ចេង ប្រធានក្រុមប្រឹក្សាភិបាល ២. លោក រួម ចំរើន អនុប្រធានទី១​ ៣. លោក លាង សាមឌី អនុប្រធានទី២ ៤. លោក ពាង​ណារ៉េត អគ្គហិរញ្ញិក ៥. លោកស្រី ណា សារ៉ាឌី លេខាធិការ ៦. លោក សរ ​ពលៈ ផ្នែកប្រតិបត្តិ ៧. លោក សួន​ បុត្រ ផ្នែកធនធានមនុស្ស ៨. លោកស្រី យស់ គាំមូល្លី ផ្នែកហិរញ្ញិក ៩. លោក យ៉ែម ទេវីនាថ ១០. លោក ប៉ា សុខា ១២. លោក ទិត្យ ហៀង ១៣. លោក ឡាង រស្មី សមាជិក។ ក្រុមប្រឹក្សាភិបាលទទួលបន្ទុកលើកការអនុម័តផែនការសកម្មភាពប្រចាំឆ្នាំ និងផែនការថវិការបស់អង្គការប្រិយសម្ពន្ធគ្រីស្ទបរិស័ទកម្ពុជា។ ក្រុមប្រឹក្សាភិបាលនេះបានជ្រើសរើសនាយកប្រតិបត្តិ លោក ម៉ារ រ៉ាវុធ ដែលទទួលខុសត្រូវលើការគ្រប់គ្រងប្រតិបត្តិ និងលោក ស៊ន ផាន់ណា អ្នកគ្រប់គ្រងជាន់ខ្ពស់ ដែលទទួលខុសត្រូវលើគម្រោងសកម្មភាពនានាក្នុងស្ថាប័ន ។ ក្រុមប្រឹក្សាភិបាល និងនាយកប្រតិបត្តិក៏ទទួលខុសត្រូវផងដែរក្នុងការជ្រើសរើស លោកស្រី យ៉ន សៀងហូ ជាអ្នកសម្របសម្រួលផ្នែកហិរញ្ញវត្ថុ លោក ឡុង គង់ ជាអ្នកសម្របសម្រួលផ្នែករដ្ឋបាល។ លោក​ ស្រស់ ភារម្យ និងលោក ជួន​​ ដាណែត ជាប្រធានកម្មវិធី។ លោកស្រី អ៊ាង នីលីដា ជាអ្នកសម្របសម្រួលគម្រោងកម្មវិធីក្នុងអង្គការប្រិយសម្ពន្ធគ្រីស្ទបរិស័ទកម្ពុជា។
A95: ពទ៨ EI8 | C95: ប្រភពចម្បងនៃសាច់ប្រាក់ និងធនធានរបស់អង្គភាព* Main Sources of the Entity's Cash and Resources*
C96: ប្រភពចម្បងនៃសាច់ប្រាក់ និងធនធានរបស់អង្គភាព បានមកពីម្ចាស់ជំនួយក្រៅប្រទេសៈ 1- ERIKS 2- Tear Fund UK 3- Mission Alliance 4- Sun Focus Foundation Ltd. 5- Multiplication Network Ministry 6- ក្នុងស្រុកមួយចំនួន និងការបង់សមាជិកភាព។
A112: ពទ៩ EI9 | C112: វិធីសាស្រ្តចម្បងដែលអង្គភាពប្រើប្រាស់ក្នុងការប្រមូលមូលនិធិ* Main Methods Used by the Entity to Raise Funds:*
C113: អង្គការប្រិយសម្ពន្ធគ្រីស្ទបរិស័ទកម្ពុជាបានប្រមូលមូលនិធិមួយភាគធំដោយការសរសេរ និងដាក់សំណើគម្រោងទៅកាន់ម្ចាស់ជំនួយម្នាក់ៗ ទាំងក្នុងស្រុក និងក្រៅប្រទេស។ ថវិកាដទៃទៀតបានមកពីការដាក់ដង្វាយរបស់សមាជិក បុគ្គលិក និងការបង់សមាជិកភាពរបស់សមាជិក។
A129: ពទ១០ EI10 | C129: ការពឹងផ្អែករបស់អង្គភាពទៅលើអ្នកស្ម័គ្រចិត្ត និងទំនិញឬសេវាបានពីការបរិច្ចាគ Entity's Reliance on Volunteers and Donated Goods or Services
C130: គ្មាន
A151: ពទ១១ EI11 | C151: ព័ត៌មានបន្ថែម Additional Information
A164: ពទ១២ EI12 | C164: ព័ត៌មានទំនាក់ទំនងលម្អិត Contact details
C166: អាសយដ្ឋានជាក់ស្តែង: Physical Address: | D166: អគារលេខ ២៤៣១ ផ្លូវលំ សង្កាត់ ឃ្មួញ ខណ្ឌ សែនសុខ រាជធានីភ្នំពេញ
C170: អាសយដ្ឋានប្រៃសណីយ៍: Postal Address: | D170: គ្មាន
C174: ទូរស័ព្ទ / ទូរសារ: Phone/Fax: | D174: 012 53 56 74
C178: អ៊ីម៉ែល / វេបសាយ: Email/Website: | D178: info@efc.org.kh www.efccambodia.org
C182: Facebook: | D182: Evangelical Fellowship of Cambodia

Sheet Content
A5: ព្រះរាជាណាចក្រកម្ពុជា ជាតិ សាសនា ព្រះមហាក្សត្រ
C17: លេខអត្តសញ្ញាណកម្ម រ.ក.ហ. F.N | F17: 22 | G17: - | H17: 0 | I17: 0 | J17: 0 | K17: 0 | L17: 0 | M17: 9 | N17: 9
A21: ឈ្មោះរបស់អង្គភាព Full name of entity
A24: លេខអត្តសញ្ញាណកម្មសារពើពន្ធ អ.ត.ប VAT-TIN
A26: អាសយដ្ឋានបច្ចុប្បន្នរបស់អង្គភាព Address | B26: អគារលេខ ២៤៣១ ផ្លូវលំ សង្កាត់ ឃ្មួញ ខណ្ឌ សែនសុខ រាជធានីភ្នំពេញ
A28: លេខទំនាក់ទំនង Contact Number:
A30: របាយការណ៍ហិរញ្ញវត្ថុសម្រាប់ដំណាច់ឆ្នាំ For the year ended: | B30: 31 ធ្នូ 2025

Sheet R&P (2)
A2: =Name -> #REF!
A3: Statement of Receipts and Payments
A4: "How was it funded?" and "What did it cost?"
A5: =#REF! -> #REF!
B7: Guidance | F7: Notes | H7: Actual* | J7: Budget | L7: Actual*
H8: This Year | J8: This Year | L8: Last Year
B9: Section 4 | H9: KHR | J9: ៛ | L9: ៛
H10: KHR'000 | J10: KHR'000 | L10: KHR'000
A11: Required sections are marked with an asterisk "*"
D12: Operating Receipts
B13: R&P1 | D13: Donations, fundraising and other similar receipts*
B14: R&P2 | D14: Fees, subscriptions and other receipts from members*
B15: R&P3 | D15: Receipts from providing goods or services*
B16: R&P4 | D16: Interest, dividends and other investment income receipts*
B17: R&P5 | D17: Other operating receipts
B20: R&P6 | D20: Total Operating Receipts | H20: =SUM(H13:H19) -> 0 | J20: =SUM(J13:J19) -> 0 | L20: =SUM(L13:L19) -> 0
D22: Operating Payments
B23: R&P7 | D23: Payments related to public fundraising*
B24: R&P8 | D24: Volunteer and employee related payments*
B25: R&P9 | D25: Payments related to providing goods or services*
B26: R&P10 | D26: Grants and donations paid*
B27: R&P11 | D27: Other operating payments
B30: R&P12 | D30: Total Operating Payments | H30: =SUM(H23:H29) -> 0 | J30: =SUM(J23:J29) -> 0 | L30: =SUM(L23:L29) -> 0
B32: R&P13 | D32: Operating Surplus or (Deficit) | H32: =H20-H30 -> 0 | J32: =J20-J30 -> 0 | L32: =L20-L30 -> 0
B34: R&P14 | D34: Capital Receipts
D35: Receipts from the sale of resources*
D36: Receipts from borrowings*
B38: R&P15 | D38: Capital Payments
D39: Purchase of resources*
D40: Repayments of borrowings*
B42: R&P16 | D42: Increase/(Decrease) in Bank Accounts and Cash* | H42: =H32+H35+H36-H39-H40 -> 0 | J42: =J32+J35+J36-J39-J40 -> 0 | L42: =L32+L35+L36-L39-L40 -> 0
B44: R&P17 | D44: Bank accounts and cash at the beginning of the financial year* | H44: =L45 -> 0
B45: R&P18 | D45: Bank Accounts and Cash at the End of the Financial Year* | H45: =H42+H44 -> 0 | J45: =J42+J44 -> 0 | L45: =L42+L44 -> 0
B47: R&P19 | D47: Represented by:*
D48: Cheque account(s)
D49: Savings account(s)
D50: Term Deposit account(s)
D51: Cash Floats
D52: Petty Cash
B54: R&P20 | D54: Total Bank Accounts and Cash at the End of the Financial Year* | H54: =SUM(H48:H53) -> 0 | J54: =SUM(J48:J53) -> 0 | L54: =SUM(L47:L53) -> 0
...

Sheet R&P
A2: =Content!B21 -> 0
A3: =Content!B22 -> 0
A4: របាយការណ៍ចំណូល និងចំណាយ
A5: Statement of Receipts and Payments
A6: តើអង្គភាពធ្វើការប្រមូលមូលនិធិដោយរបៀបណា និង តើអង្គភាពបានចំណាយទៅលើអ្វីខ្លះ?
A7: "How was it funded?" and "What did it cost?"
C8: របាយការណ៍ហិរញ្ញវត្ថុសម្រាប់ដំណាច់ឆ្នាំ | E8: =Content!B30 -> 31 ធ្នូ 2025
C9: For the year ended:
E12: កំណត់សម្គាល់ Notes | G12: ជាក់ស្តែង Actual* | I12: ផែនការថវិកា Budget | K12: ជាក់ស្តែង Actual*
G13: ឆ្នាំនេះ This Year | I13: ឆ្នាំនេះ This Year | K13: ឆ្នាំមុន Last Year
G14: ពាន់រៀល KHR'000 | I14: ពាន់រៀល KHR'000 | K14: ពាន់រៀល KHR'000
C16: ចំណូលកិច្ចប្រតិបត្តិការ Operating Receipts
A17: ចច១ R&P1 | C17: ការបរិច្ចាគ, ការរៃអង្គាសប្រាក់ និងចំណូលប្រហាក់ប្រហែលផ្សេងទៀត* Donations, fundraising and other similar receipts* | G17: =PL!I7 -> 1663368.9 | I17: 2003562 | K17: 1541450
A18: ចច២ R&P2 | C18: កម្រៃ, ការចូលរួមវិភាគទាន និងចំណូលផ្សេងទៀតពីសមាជិក* Fees, subscriptions and other receipts from members* | G18: =PL!I8 -> 126025.62 | I18: 168462 | K18: 139211.51
A19: ចច៣ R&P3 | C19: ចំណូលពីការលក់ទំនិញ ឬសេវា * Receipts from providing goods or services* | G19: 0 | I19: 0
A20: ចច៤ R&P4 | C20: ការប្រាក់, ភាគលាភ និងចំណូលពីការវិនិយោគផ្សេងទៀត* Interest, dividends and other investment income receipts* | G20: 0 | I20: 0
A21: ចច៥ R&P5 | C21: ចំណូលកិច្ចប្រតិបត្តិការផ្សេងទៀត Other operating receipts | G21: =PL!I16 -> 220770.65 | I21: 147404 | K21: 150197.52
A23: ចច៦ R&P6 | C23: ចំណូលកិច្ចប្រតិបត្តិការសរុប* Total Operating Receipts* | G23: =SUM(G17:G22) -> 2010165.2 | I23: =SUM(I17:I22) -> 2319428 | K23: =SUM(K17:K22) -> 1830859
C24: ចំណាយកិច្ចប្រតិបត្តិការ Operating Payments
A25: ចច៧ R&P7 | C25: ចំណាយទាក់ទងនឹងការរៃអង្គាសប្រាក់ជាសាធារណៈ* Payments related to public fundraising* | G25: 0
A26: ចច៨ R&P8 | C26: ចំណាយទាក់ទងនឹងនិយោជិកនិងអ្នកស្ម័គ្រចិត្ត* Volunteer and employee related payments* | G26: =PL!J131 -> 741948.16 | K26: 734784.49
A27: ចច៩ R&P9 | C27: ចំណាយទាក់ទងនឹងការផ្តល់ទំនិញ ឬសេវា* Payments related to providing goods or services* | G27: =PL!J132 -> 213003.99 | K27: 211805.49
A28: ចច១០ R&P10 | C28: អំណោយ និងការបរិច្ចាគដែលបានទូទាត់ * Grants and donations paid* | G28: 0
A29: ចច១១ R&P11 | C29: ចំណាយកិច្ចប្រតិបត្តិការផ្សេងៗ Other operating payments | G29: =PL!J133 -> 1062554.7 | K29: 1028319.5
A31: ចច១២ R&P12 | C31: ចំណាយកិច្ចប្រតិបត្តិការសរុប* Total Operating Payments* | G31: =SUM(G25:G30) -> 2017506.8 | I31: =SUM(I25:I30) -> 0 | K31: =SUM(K25:K30) -> 1974909.5
A33: ចច១៣ R&P13 | C33: អតិរេក ឬ (ឱនភាព)កិច្ចប្រតិបត្តិការ * Operating Surplus or (Deficit) * | G33: =G23-G31 -> -7341.6542 | I33: =I23-I31 -> 2319428 | K33: =K23-K31 -> -144050.44
A35: ចច១៤ R&P14 | C35: ចំណូលមូលធន Capital Receipts
C36: ចំណូលពីការលក់ធនធាន * Receipts from the sale of resources* | G36: 0
C37: ចំណូលពីកម្ចី * Receipts from borrowings* | G37: 0
A39: ចច១៥ R&P15 | C39: ចំណាយមូលធន Capital Payments
C40: ការទិញធនធាន * Purchase of resources* | G40: 0 | K40: 0
C41: ការសងកម្ចី * Repayments of borrowings* | G41: 0 | K41: 0
A43: ចច១៦ R&P16 | C43: ការកើនឡើង/(ថយចុះ) នៅក្នុងគណនីធនាគារនិងសាច់ប្រាក់* Increase/(Decrease) in Bank Accounts and Cash* | G43: =G33+G36+G37-G40-G41 -> -7341.6542 | I43: =I33+I36+I37-I40-I41 -> 2319428 | K43: =K33+K36+K37-K40-K41 -> -144050.44
A45: ចច១៧ R&P17 | C45: ភាពខុសគ្នាលើការបកប្រែរូបិយប័ណ្ណ* Difference on Currency Translation* | G45: -451 | K45: -30117
A46: ចច១៨ R&P18 | C46: គណនីធនាគារ និងសាច់ប្រាក់នាដើមឆ្នាំហិរញ្ញវត្ថុ* Bank accounts and cash at the beginning of the financial year* | G46: =K48 -> 150025.56 | K46: 324193
A48: ចច១៩ R&P19 | C48: គណនីធនាគារនិងសាច់ប្រាក់នាចុងឆ្នាំហិរញ្ញវត្ថុ* Bank Accounts and Cash at the End of the Financial Year* | G48: =SUM(G43,G45,G46) -> 142232.91 | I48: =SUM(I43,I46) -> 2319428 | K48: =SUM(K43,K45,K46) -> 150025.56
A49: ចច២០ R&P20 | C49: តំណាងដោយ:* Represented by:*
C50: គណនីមូលប្បទានបត្រ Cheque account(s) | G50: =BS!H6 -> 142140.86 | K50: 141510
C51: គណនីសន្សំ Savings account(s) | K51: 0
C52: គណនីប្រាក់បញ្ញើមានកាលកំណត់ Term Deposit account(s)
...

Sheet Note1 Policies (2)
C3: =Name -> #REF!
C4: NOTES TO FINANCIAL REPORT
C5: =#REF! -> #REF!
F7: I. REQURED NOTES
D8: Guidance
C9: Required sections are marked with an asterisk "*" | D9: Section 5 | F9: Note 1: Accounting Policies "How did we do our accounting"
D12: AP1 | F12: Basis of Preparation*
F13: =CONCATENATE(Name,#REF!) -> #REF!
D17: AP2 | F17: Value Added Tax (VAT)*
F18: =CONCATENATE(Name,#REF!) -> #REF!
F22: OR (Delete one not applicable to the entity)
D24: AP2 | F24: Value Added Tax (VAT)*
F25: =CONCATENATE(Name,#REF!) -> #REF!

Sheet Note1 Policies
A2: =Content!B21 -> 0
A3: =Content!B22 -> 0
A4: កំណត់សមា្គល់លើរបាយការណ៍ហិរញ្ញវត្ថុ
A5: NOTES TO FINANCIAL REPORT
A6: របាយការណ៍ហិរញ្ញវត្ថុសម្រាប់ដំណាច់ឆ្នាំ | E6: =Content!B30 -> 31 ធ្នូ 2025
A7: For the year ended:
A11: កំណត់សមា្គល់ទី១: គោលនយោបាយគណនេយ្យ " តើអង្គភាពបានធ្វើកិច្ចការគណនេយ្យរបស់ខ្លួនដោយរបៀបណា? "
A12: Note 1: Accounting Policies "How did we do our accounting?"
A14: គគ១ AP1 | C14: មូលដ្ឋាននៃការរៀបចំ * Basis of Preparation*
C15: =Content!B21 -> 0
C16: ត្រូវបានអនុញ្ញាតដោយច្បាប់ ឱ្យអនុវត្តាមស្តង់ដារបាយការណ៍ហិរញ្ញវត្ថុកម្ពុជាសម្រាប់អង្គភាពមិនស្វែងរកប្រាក់ចំណេញ (CFRS for NFPEs)។ រាល់ប្រតិបត្តិការត្រូវបានរាយការណ៍ក្នុងរបាយការណ៍ចំណូលនិងចំណាយ និងកំណត់សម្គាល់លើរបាយការណ៍ហិរញ្ញវត្ថុដែលពាក់ព័ន្ធតាមមូលដ្ឋានសាច់ប្រាក់។
C17: =Content!B22 -> 0
C18: is permitted by law to apply Cambodian Financial Reporting Standard for Not-For-Profit Entities (CFRS for NFPEs). All transactions are reported in the Statement of Receipts and Payments and related Notes to the Financial Report on a cash basis.
A20: គគ២ AP2 | C20: អាករលើតម្លៃបន្ថែម (អ.ត.ប.) * Value Added Tax (VAT)*
C22: ត្រូវបានចុះឈ្មោះសម្រាប់អាករលើតម្លបន្ថែម។ ដូច្នេះ ចំនួនទឹកប្រាក់ដែលបានកត់ត្រាក្នុងរបាយការណ៍ហិរញ្ញវត្ថុមិនរាប់បញ្ចូលអាករលើតម្លៃបន្ថែមឡើយ (ប្រសិនបើមាន)។ ការជំពាក់អាករ ឬការបង្វិលសងអាករលើតម្លៃបន្ថែមគិតត្រឹមកាលបរិច្ឆេទតុល្យភាពត្រូវបានបង្ហាញក្នុងកំណត់សមា្គល់ចំពោះធនធាននិងកាតព្វកិច្ច។
C24: is registered for VAT. Therefore amounts recorded in the Financial Report are exclusive of VAT (if any). VAT owing, or VAT refunds due as at balance date are shown in the Notes to Resources and Commitments.
C26: ឬ (លុបជម្រើសមួយដែលមិនអាចអនុវត្តបានចំពោះអង្គភាព) OR (Delete one not applicable to the entity)
A28: គគ២ AP2 | C28: អាករលើតម្លៃបន្ថែម (អ.ត.ប.) * Value Added Tax (VAT)*
C30: មិនត្រូវបានចុះបញ្ជីសម្រាប់អាករលើម្លៃបន្ថែមឡើយ។ ដូច្នេះ ចំនួនទឹកប្រាក់ដែលបានកត់ត្រាក្នុងរបាយការណ៍ហិរញ្ញវត្ថុរួមបញ្ចូលអាករលើតម្លៃបន្ថែម (ប្រសិនបើមាន)។
C32: is not registered for VAT. Therefore amounts recorded in the financial Report are inclusive of VAT (if any).

Sheet Note2 Receipts (2)
D2: =Name -> #REF!
D4: NOTES TO FINANCIAL REPORT
D6: =#REF! -> #REF!
D7: I. REQURED NOTES (Cont.)
A9: These are optional notes to allow the entity to provide a breakdown of the receipt and payment categories. Please ensure breakdowns provided agree to the amounts reported in the Statement of Receipts and Payments. | B9: Guidance | D9: Note 2 : Analysis of Receipts "How was it funded?"
B10: Section 5 | F10: KHR'000 | H10: KHR'000
F11: This Year | H11: Last Year
D12: Receipt Item | E12: Description | F12: ៛ | H12: ៛
B13: R&P1 | D13: Fundraising receipts
E21: Total | F21: =SUM(F13:F20) -> 0 | H21: =SUM(H13:H20) -> 0
F23: This Year | H23: Last Year
D24: Receipt Item | E24: Description | F24: ៛ | H24: ៛
B25: R&P1 | D25: Grants and donations
E33: Total | F33: =SUM(F25:F32) -> 0 | H33: =SUM(H25:H32) -> 0
F35: This Year | H35: Last Year
D36: Receipt Item | E36: Description | F36: ៛ | H36: ៛
B37: R&P2 | D37: Fees, subscriptions and other receipts from members
E45: Total | F45: =SUM(F37:F44) -> 0 | H45: =SUM(H37:H44) -> 0
F47: This Year | H47: Last Year
D48: Receipt Item | E48: Description | F48: ៛ | H48: ៛
B49: R&P3 | D49: Receipts from providing goods or services
E57: Total | F57: =SUM(F49:F56) -> 0 | H57: =SUM(H49:H56) -> 0
F59: This Year | H59: Last Year
D60: Receipt Item | E60: Description | F60: ៛ | H60: ៛
B61: R&P4 | D61: Interest, dividends and other investment income receipts
E69: Total | F69: =SUM(F61:F68) -> 0 | H69: =SUM(H61:H68) -> 0
F71: This Year | H71: Last Year
D72: Receipt Item | E72: Description | F72: ៛ | H72: ៛
B73: R&P5 | D73: Other receipts
E81: Total | F81: =SUM(F73:F80) -> 0 | H81: =SUM(H73:H80) -> 0
F83: This Year | H83: Last Year
D84: Receipt Item | E84: Description | F84: ៛ | H84: ៛
B85: R&P14 | D85: Capital receipts
E93: Total | F93: =SUM(F85:F92) -> 0 | H93: =SUM(H85:H92) -> 0

Sheet Note2 Receipts
A3: កំណត់សមា្គល់ទី២: ការវិភាគចំណូល "តើអង្គភាពធ្វើការប្រមូលមូលនិធិដោយរបៀបណា? Note 2: Analysis of Receipts "How was it funded?"
E4: ពាន់រៀល | G4: ពាន់រៀល
E5: KHR'000 | G5: KHR'000
C6: ធាតុនៃចំណូល Receipt Item | D6: ការពន្យល់ Description | E6: ឆ្នាំនេះ This Year | G6: ឆ្នាំមុន Last Year
C7: ចំណូលពីការរៃអង្គាសប្រាក់ Fundraising receipts | D7: គ្មាន | E7: 0 | G7: 0
D15: សរុប Total | E15: =SUM(E7:E14) -> 0 | G15: =SUM(G7:G14) -> 0
C17: ធាតុនៃចំណូល Receipt Item | D17: ការពន្យល់ Description | E17: ឆ្នាំនេះ This Year | G17: ឆ្នាំមុន Last Year
C18: អំណោយនិងការបរិច្ចាគ Grants and donations | D18: មូលនិធិទទួលបានពីម្ចាស់ទុន Tear Fund UK | E18: =PL!G3 -> 189639.84 | G18: 211550
D19: មូលនិធិទទួលបានពីម្ចាស់ទុន Danmission | E19: 0 | G19: 0
D20: មូលនិធិទទួលបានពីម្ចាស់ទុន Mission Alliance | E20: =PL!G4 -> 477236.8 | G20: 423384
D21: មូលនិធិទទួលបានពីម្ចាស់ទុន ERIKS | E21: =PL!G5 -> 415138.5 | G21: 375916
D22: មូលនិធិទទួលបានពីម្ចាស់ទុន Sun Focus Foundations | E22: =PL!G6 -> 72198 | G22: 71242.5
D23: មូលនិធិទទួលបានពីម្ចាស់ទុន Multiplication Ministry | E23: =PL!G7 -> 509155.74 | G23: 459357.5
D24: មូលនិធិទទួលបានពីម្ចាស់ទុន ផ្សេងៗ
D26: សរុប Total | E26: =SUM(E18:E25) -> 1663368.9 | G26: =SUM(G18:G25) -> 1541450
C28: ធាតុនៃចំណូល Receipt Item | D28: ការពន្យល់ Description | E28: ឆ្នាំនេះ This Year | G28: ឆ្នាំមុន Last Year
C29: កម្រៃ, ការចូលរួមវិភាគទាន និង ចំណូលផ្សេងទៀតពីសមាជិក Fees, subscriptions and Other receipts from members | D29: ចំណូលពីសមាជិកភាព | E29: =PL!I8 -> 126025.62 | G29: 139212
D37: សរុប Total | E37: =SUM(E29:E36) -> 126025.62 | G37: =SUM(G29:G36) -> 139212
C39: ធាតុនៃចំណូល Receipt Item | D39: ការពន្យល់ Description | E39: ឆ្នាំនេះ This Year | G39: ឆ្នាំមុន Last Year
C40: ចំណូលពីការលក់ទំនិញ ឬសេវា Receipts from providing goods or services | D40: គ្មាន | E40: 0 | G40: 0
D48: សរុប Total | E48: =SUM(E40:E47) -> 0 | G48: =SUM(G40:G47) -> 0
C50: ធាតុនៃចំណូល Receipt Item | D50: ការពន្យល់ Description | E50: ឆ្នាំនេះ This Year | G50: ឆ្នាំមុន Last Year
C51: ការប្រាក់, ភាគលាភ និង ចំណូលពីការវិនិយោគផ្សេងទៀត Interest, dividends and other investment income receipts | D51: គ្មាន | G51: 0
D59: សរុប Total | E59: =SUM(E51:E58) -> 0 | G59: =SUM(G51:G58) -> 0
C61: ធាតុនៃចំណូល Receipt Item | D61: ការពន្យល់ Description | E61: ឆ្នាំនេះ This Year | G61: ឆ្នាំមុន Last Year
C62: ចំណូលផ្សេងទៀត Other receipts | D62: មូលនិធិទទួលបានពី ចំណូលក្នុងស្រុក | E62: =PL!G9 -> 20456.1 | G62: 0
D63: មូលនិធិទទួលបានពី គម្រោងកម្មវិធី | E63: =PL!G12 -> 34462.472 | G63: 36639
D64: មូលនិធិទទួលបានពីបដិភាគការិយាល័យ | E64: =PL!G10+PL!G11 -> 75480.843 | G64: 0
D65: មូលនិធិទទួលបានពីចំណូលផ្សេងៗ | E65: =PL!G13+PL!G14 -> 39014.155 | G65: 104277
D66: មូលនិធិទទួលបានពី មជ្ឈមណ្ឌលគ្រីស្ទបរិស័ទដើម្បីរួបរួមសម្រាប់យុទ្ធសាស្រ្តថ្នាក់ជាតិ | E66: =PL!G15 -> 2005.5 | G66: 9282
D67: មូលនិធិទទួលបានពីសមាជិកក្នុងការជួយជនភៀសសឹក | E67: =PL!G16 -> 49351.585 | G67: 0
D68: សរុប Total | E68: =SUM(E62:E67) -> 220770.65 | G68: =SUM(G62:G67) -> 150198
C70: ធាតុនៃចំណូល Receipt Item | D70: ការពន្យល់ Description | E70: ឆ្នាំនេះ This Year | G70: ឆ្នាំមុន Last Year
C71: ចំណូលមូលធន Capital receipts | D71: គ្មាន | E71: 0 | G71: 0
D79: សរុប Total | E79: =SUM(E71:E78) -> 0 | G79: =SUM(G71:G78) -> 0

Sheet Note3 Payments
A3: កំណត់សមា្គល់ទី៣: ការវិភាគលើចំណាយ "តើអង្គភាពបានធ្វើអ្វីខ្លះ?" Note 3: Analysis of Payments "What did it cost?"
E4: ពាន់រៀល | G4: ពាន់រៀល
E5: KHR'000 | G5: KHR'000
C6: ធាតុនៃចំណាយ Payment Item | D6: ការពន្យល់ Description | E6: ឆ្នាំនេះ This Year | G6: ឆ្នាំមុន Last Year
C7: ចំណាយទាក់ទងនឹងការរៃអង្គាសប្រាក់ជាសាធារណៈ Payments related to public fundraising | D7: គ្មាន | E7: 0 | G7: 0
D15: សរុប Total | E15: =SUM(E7:E14) -> 0 | G15: =SUM(G7:G14) -> 0
C17: ធាតុនៃចំណាយ Payment Item | D17: ការពន្យល់ Description | E17: ឆ្នាំនេះ This Year | G17: ឆ្នាំមុន Last Year
C18: ចំណាយទាក់ទងនឹងអ្នកស្ម័គ្រចិត្ត និងនិយោជិក Volunteer and employee related payments | D18: ចំណាយលើប្រាក់ខែបុគ្គលិក | E18: =PL!G97+PL!G98 -> 677087.2 | G18: 670742
D19: ចំណាយលើធានារ៉ាប់រងគ្រោះថ្នាក់​ និងសុខភាពសម្រាប់បុគ្គលិក | E19: 0 | G19: 0
D20: ចំណាយលើការពិនិត្យសុខភាព និងថ្នាំសម្រាប់បុគ្គលិកប្រចាំឆ្នាំ | E20: =PL!G99 -> 10850.517 | G20: 10820
D21: ចំណាយលើ ប ស ស សម្រាប់បុគ្គលិក | E21: =PL!G100 -> 18926.224 | G21: 19374
D22: ចំណាយលើ ប្រាក់បំណាច់ប្រចាំឆ្នាំ | E22: =PL!G101 -> 35084.217 | G22: 33848
D26: សរុប Total | E26: =SUM(E18:E25) -> 741948.16 | G26: =SUM(G18:G25) -> 734784
C29: ធាតុនៃចំណាយ Payment Item | D29: ការពន្យល់ Description | E29: ឆ្នាំនេះ This Year | G29: ឆ្នាំមុន Last Year
C30: ចំណាយទាក់ទងនឹងការផ្តល់ទំនិញ ឬសេវា Payments related to providing goods or services | D30: ចំណាយលើ សេវាកម្មវាយតម្លៃគម្រោង | E30: =PL!G104 -> 46617.848 | G30: 0
D31: ចំណាយលើ ការត្រួតពិនិត្យគម្រោង | E31: =PL!G105 -> 1108.2393 | G31: 35708
D32: ចំណាយលើ សវនកម្មប្រចាំឆ្នាំ | E32: =PL!G106 -> 24868.2 | G32: 23591
D33: ចំណាយលើ ការសិក្សាវាយតម្លៃលើគ្រោះមហន្តរាយ | E33: 0 | G33: 0
D34: ចំណាយលើ ទូរស័ព្ទការិយាល័យ | E34: =PL!G109 -> 3389.295 | G34: 3399
D35: ចំណាយលើ អ៊ីនធឺណែត និងគេហទំព័រ | E35: =PL!G110 -> 3548.0504 | G35: 6335
D36: ចំណាយលើ សម្ភារៈការិយាល័យ | E36: =PL!G111 -> 4892.1365 | G36: 3676
D37: ចំណាយលើ ការជួបប្រជុំជាមួយអង្គការដៃគូ និងបដិសណ្ឋារកិច្ច | E37: =PL!G112 -> 3237.1578 | G37: 2270
D38: ចំណាយលើ ការថតចំលង និង ព្រីនឯកសារ | E38: =PL!G113 -> 970.42134 | G38: 41
D39: ចំណាយលើ ការចាក់សាំង និងធ្វើដំណើរ | E39: =PL!G114 -> 2653.7578 | G39: 4128
D40: ចំណាយលើ សេវាកម្មធនាគារ | E40: =PL!G116 -> 2183.6285 | G40: 4092
D41: ចំណាយលើ សមាជិកភាព | E41: =PL!G115 -> 4011 | G41: 4071
D42: ចំណាយលើ សកម្មភាពផ្សេងៗទៀតដែលមិនបានគ្រោងទុក | E42: =PL!G117 -> 2366.129 | G42: 9337
D43: ចំណាយលើ កាហ្វេ តែ និងទឹកសម្រាប់ការិយាល័យ | E43: =PL!G118 -> 2708.5481 | G43: 2995
D44: ចំណាយលើ គម្រោងបំរ៉ុងទុកសម្រាប់កម្មវិធី | E44: 0 | G44: 0
D45: ចំណាយលើ ភាគរយសម្រាប់កម្មវិធី | E45: =PL!G119 -> 34462.472 | G45: 36639
D46: ចំណាយលើ បដិភាគសម្រាប់ការិយាល័យ | E46: =PL!G120 -> 35296.64 | G46: 33189
D47: ចំណាយលើ ទឹក ភ្លើង | E47: =PL!G121 -> 17422.982 | G47: 22201
D48: ចំណាយលើ ការជួសជុលនិងថែទាំការិយាល័យ | E48: =PL!G122 -> 8379.0592 | G48: 11390
D49: ចំណាយលើ មជ្ឈមណ្ឌលគ្រីស្ទបរិស័ទដើម្បីរួបរួមសម្រាប់យុទ្ធសាស្រ្តថ្នាក់ជាតិ | E49: 0 | G49: 18492
D50: ចំណាំយលើ សន្តិសុខ | E50: =PL!G123 -> 12995.64 | G50: 15897
D51: ចំណាំយលើ ការតុបតែងការិយាល័យ | E51: =PL!G124 -> 1205.3055 | G51: 1330
D52: ចំណាយលើ ការបង់ពន្ធអចលនទ្រព្យ | E52: =PL!G125 -> 687.4854 | G52: 8732
D53: សរុប Total | E53: =SUM(E30:E52) -> 213003.99 | G53: =SUM(G30:G52) -> 247513
C55: ធាតុនៃចំណាយ Payment Item | D55: ការពន្យល់ Description | E55: ឆ្នាំនេះ This Year | G55: ឆ្នាំមុន Last Year
C56: អំណោយ និងការបរិច្ចាគដែលបានទូទាត់ Grants and donations paid | D56: ចំណាយលើ ការឧបត្ថម្ភសម្រាប់កូវីដ ១៩ | E56: 0 | G56: 0
...

Sheet Note4-7
A2: កំណត់សមា្គល់ទី៤: អាករលើតម្លៃបន្ថែម Note 4: Valued Added Tax*
I4: ពាន់រៀល | J4: ពាន់រៀល
I5: KHR'000 | J5: KHR'000
C6: អាករលើតម្លៃបន្ថែម Valued Added Tax* | D6: ការពន្យល់ Description | I6: ឆ្នាំនេះ This Year | J6: ឆ្នាំមុន Last Year
C7: អាករលើតម្លៃបន្ថែមលើធាតុចូល (VAT ចូល)* Valued Added Tax Input (VAT Input)* | D7: ចំណាយ VAT លើក្រុមហ៊ុន និងសណ្ឋាគារ សម្រាប់ជួលសិក្ខាសាលា | I7: =VAT!$C$15 -> 102071.85 | J7: =VAT!$F$15 -> 97615.065
C8: អាករលើតម្លៃបន្ថែមលើធាតុចេញ (VAT ចេញ)* Valued Added Tax Input (VAT Output)* | D8: គ្មាន | I8: 0 | J8: 0
A10: កំណត់សមា្គល់ទី៥: ការកែប្រែកំហុសឆ្គង Note 5: Correction of Errors *
I12: ពាន់រៀល | J12: ពាន់រៀល
I13: KHR'000 | J13: KHR'000
A14: អ១ O1 | C14: ការកែប្រែកំហុសឆ្គង Correction of Errors* | D14: ការពន្យល់ Description | I14: ឆ្នាំនេះ This Year | J14: ឆ្នាំមុន Last Year
C15: គ្មាន | D15: គ្មាន | I15: 0 | J15: 0
A23: កំណត់សមា្គល់ទី៦: ប្រតិបត្តិការជាមួយភាគីពាក់ព័ន្ធ Note 6: Related Party Transactions *
G25: ពាន់រៀល | H25: ពាន់រៀល | I25: ពាន់រៀល | J25: ពាន់រៀល
G26: KHR'000 | H26: KHR'000 | I26: KHR'000 | J26: KHR'000
G27: ឆ្នាំនេះ This Year | H27: ឆ្នាំមុន Last Year | I27: ឆ្នាំនេះ This Year | J27: ឆ្នាំមុន Last Year
A28: អ២ អ៣ អ៤ 02 03 04 | C28: ការពន្យល់អំពីទំនាក់ទំនងជាមួយភាគីពាក់ព័ន្ធ * Description of Related Party Relationship* | D28: ការពន្យល់អំពីប្រតិបត្តិការ (មិនថាជា សាច់ប្រាក់ ឬជាចំនួនជាវត្ថុ) * Description of the Transaction (whether in cash or amount in kind)* | G28: តម្លៃនៃប្រតិបត្តិការ * Value of Transactions* | H28: តម្លៃនៃប្រតិបត្តិការ * Value of Transactions* | I28: ចំនួនទឹកប្រាក់នៅសល់ *Amount Outstanding* | J28: ចំនួនទឹកប្រាក់នៅសល់ *Amount Outstanding*
C29: គ្មាន | D29: គ្មាន | G29: 0 | H29: 0 | I29: 0 | J29: 0
D34: សរុប Total | G34: =SUM(G29:G33) -> 0 | H34: =SUM(H29:H33) -> 0 | I34: =SUM(I29:I33) -> 0 | J34: =SUM(J29:J33) -> 0
C36: ឬ (លុបជម្រើសមួយដែលអង្គភាពមិនអាចអនុវត្តបាន) OR (Delete one not applicable to the entity)
C38: ពុំមានប្រតិបត្តិការទាក់ទងនឹងភាគីពាក់ព័ន្ធក្នុងអំឡុងឆ្នាំហិរញ្ញវត្ថុឡើយ ។ (ឆ្នាំមុន - គ្មាន) There were no transactions involving related parties during the financial year. (Last Year - Nil)
A40: កំណត់សមា្គល់ទី៧: ព្រឹត្តិការណ៍ក្រោយកាលបរិច្ឆេទរាយការណ៍ Note 7: Events After the Reporting Date*
A44: អ៥ អ៦ 05 06 | C44: ចរិកលក្ខណៈនៃព្រឹត្តិការណ៍ * Nature of the Event* | E44: ចំនួនទឹកប្រាក់ប៉ាន់ស្មាន* Estimated Amount* | F44: ព្រឹត្តិការណ៍អាចប៉ះពាល់ដល់ដំណើរការបន្តទៅមុខរបស់អង្គភាពបានយ៉ាងដូចម្តេច * How, if at all, the event is likely to affect the continuing viability of the entity*
C50: ឬ (លុបជម្រើសមួយដែលអង្គភាពមិនអាចអនុវត្តបាន) OR (Delete one not applicable to the entity)
C52: ពុំមានប្រតិបត្តិការទាក់ទងនឹងភាគីពាក់ព័ន្ធក្នុងអំឡុងឆ្នាំហិរញ្ញវត្ថុឡើយ ។ (ឆ្នាំមុន - គ្មាន) There were no transactions involving related parties during the financial year. (Last Year - Nil)

Sheet Note8-10
A1: ខ. កំណត់សមា្គល់ជាជម្រើស
A2: II. OPTIONAL NOTES
A3: កំណត់សមា្គល់ទី៨: កំណត់សម្គាល់លើសមិទ្ធកម្មសេវា Note 8: Note to Service Performance
A5: អ៧ 07 | C5: ៨.១ ការពន្យល់អំពីលទ្ធផលរបស់អង្គភាព: 8.1 Description of the Entity's Outcomes:
C6: ​អង្គការប្រិយសម្ពន្ធគ្រីស្ទបរិស័ទកម្ពុជាបានសហការយ៉ាងល្អជាមួយមន្ត្រីនាយកដ្ឋានពារហិសាសនា នៃក្រសួងធម្មការ និងសាសនា ជាមួយនឹងការងារសម្របសម្រួលផ្នែកច្បាប់នៃការចុះបញ្ជីព្រះវិហារសាសនាគ្រីស្ទ ដែលជាសមាជិករបស់ប្រិយសម្ពន្ធគ្រីស្ទបរិស័ទកម្ពុជា ក៏ដូចជាបាននឹងកំពុងជួយបណ្តុះបណ្តាល អភិវឌ្ឍចំណេះដឹង និងសមត្ថភាពដល់គ្រូកុមារ អ្នកដឹកនាំយុវជនផ្នែកកីឡា និងស្រ្តី និងការងារមនុស្សធម៌តាមរយៈបណ្តាញគ្រីស្ទបរិស័ទត្រៀមបង្ការ និងឆ្លើយតបគ្រោះមហន្តរាយ ដែលអង្គការកំពុងធ្វើដោយសហការជាមួយក្រុមព្រះវិហារសាសនាគ្រីស្ទក្នុងខេត្ត កំពង់ឆ្នាំង កំពង់ធំ កំពង់ចាម ត្បូងឃ្មុំ ក្រចេះ ខេត្តពោធិសាត់ នឹងឆ្នាំ២០២៥នេះ គម្រោងកំពុងពង្រីកការងាររបស់ខ្លួនទៅខេត្តរតនគីរី ខេត្តឧត្តរមានជ័យ ខេត្តព្រះវិហារ និងខេត្តសៀមរាប។ គម្រោងកម្មវិធីសង្រ្គោះ និងគ្រប់គ្រងគ្រោះមហន្តរាយ​ ប្រិយសម្ពន្ធគ្រីស្ទបរិស័ទបានចូលរួមយ៉ាងសកម្មជាមួយរាជរដ្ឋាភិបាលក្នុងការងារត្រៀមបង្ការ។ ហើយក៏បានឆ្លើយតបនូវកិច្ចការមួយចំនួនដូចខាងក្រោម៖ ១. ឧបត្ថម្ភដល់ការជួសជុលផ្ទះប្រជាជនដែលប៉ះពាល់ដោយសារខ្យល់កន្រ្តាក់ចំនួន៩គ្រួសារ ក្នុងភូមិដីរនាត និងសាងសង់សាលាអនុវិទ្យាល័យ(ថ្នាក់សមមូល)ស្ថិតនៅភូមិដីរនាត ឃុំមេទឹក ក្នុងស្រុកបាកាន ខេត្តពោធិ៍សាត់។ ២. គម្រោងយុវជន និងព័ន្ធកិច្ចកីឡាបានចូលរួមសហការណ៍ជាមួយសហគមន៍ សាលារៀនក្នុងការធ្វើកិច្ចការសង្គម និងឧបត្ថម្ភកុំព្យូទ័រលើតុដល់សាលាមួយចំនួនក្នុងខេត្តកំពង់ធំ ដើម្បីគាំទ្រផ្នែកបច្ចេកទេសដល់សិស្សានុសិស្ស។ មួយវិញទៀត​ ស្ថាប័នបានផ្តល់វគ្គបណ្តុះបណ្តាលជាច្រើនជាមួយគ្រីស្ទបរិស័ទនៅតាមបណ្តាខេត្តគោលដៅ ដែលមានក្នុងគម្រោងកម្មវិធីរបស់ស្ថាប័ន។ សម្រាប់ឆ្នាំ ២០២៥ ផងដែរ ដោយសារប្រទេសកម្ពុជាត្រូវបានឈ្លានពានដោយប្រទេសជិតខាងបង្កជាសង្គ្រាមកើតឡើងធ្វើអោយប្រជាជនជាច្រើនចាកចេញពីលំនៅដ្ឋានរបស់ខ្លួន ដូច្នេះ ស្ថាប័ន ប.គ.ក​ បានចូលរួមយ៉ាងសកម្មជាមួយ រាជរដ្ឋាភិបាលក្នុងការចុះជួយដល់ជនភៀសសឹកជាច្រើន និងកងទ័ពដែលបានស្នាក់នៅតាមមន្ទីរពេទ្យមួយចំនួនក្នុងខេត្តបាត់ដំបង ខេត្តព្រះវិហារ និង​ឧត្តរមានជ័យ។
D22: ជាក់ស្តែង Actual* | E22: ផែនការថវិកា Budget | F22: ជាក់ស្តែង Actual*
D23: ឆ្នាំនេះ This Year | E23: ឆ្នាំនេះ This Year | F23: ឆ្នាំមុន Last Year
A25: អ៨ O8 | C25: ៨.២ ការពន្យល់ និងការបញ្ជាក់ពីចំនួន (តាមលទ្ធភាពដែលអាចអនុវត្តបាន) ទិន្នផលរបស់អង្គភាព: 8.2 Description and Quantification (to the extent practicable) of the Entity's Outputs:
A34: កំណត់សមា្គល់ទី៩: ធនធាន និងកាតព្វកិច្ច Note 9: Resources and Commitments
A36: បញ្ជីធនធាន SCHEDULE OF RESOURCES
E37: ពាន់រៀល | G37: ពាន់រៀល
E38: KHR'000 | G38: KHR'000
A39: អ៩ O9 | C39: គណនីធនាគារ និងសាច់ប្រាក់ពីរបាយការណ៍ចំណូល និងចំណាយ Bank Accounts and Cash from Statement of Receipts and Payments | D39: ការពន្យល់ Description | E39: ឆ្នាំនេះ This Year | G39: ឆ្នាំមុន Last Year
D40: សរុបចំណូលដែលទទួលបានពីម្ចាស់ជំនួយក្រៅប្រទេស | E40: =PL!I7 -> 1663368.9 | G40: 1541450
D41: សរុបចំណូលដែលទទួលបានពីម្ចាស់ក្នុងប្រទេស | E41: =PL!I16 -> 220770.65 | G41: 150198
D42: ចំណូលបានមកពីការបង់សមាជិកភាព និងដង្វាយផ្សេងៗ | E42: =PL!I8 -> 126025.62 | G42: 139212
D43: សាច់ប្រាក់ដើមឆ្នាំ 2025 | E43: 150026 | G43: 0
D44: សាច់ប្រាក់ដើមឆ្នាំ 2024 | G44: 324193
D45: ចំណាយសរុបក្នុងឆ្នាំ 2024 | G45: -1974909.5
D46: ចំណាយ លើភាពខុសគ្នាលើអត្រាប្តូរប្រាក់ | E46: -451 | G46: -30117
D47: ចំណាយសរុបក្នុងឆ្នាំ 2025 | E47: =-PL!H135 -> -2017506.8
D50: សរុប Total | E50: =SUM(E40:E49) -> 142233.35 | G50: =SUM(G40:G49) -> 150026.5
A52: អ១០ O10 | C52: ប្រាក់រក្សាទុកជំនួសអ្នកដទៃ Money Held on Behalf of Others | D52: ការពន្យល់ Description | E52: ឆ្នាំនេះ This Year | G52: ឆ្នាំមុន Last Year
D53: គ្មាន | E53: 0 | G53: 0
G54: 0
D62: សរុប Total | E62: =SUM(E53:E61) -> 0 | G62: =SUM(G53:G61) -> 0
A65: អ១១ O11 | C65: ប្រាក់ដែលជំពាក់អង្គភាព Money Owed to the Entity | D65: ការពន្យល់ Description | E65: ឆ្នាំនេះ This Year | G65: ឆ្នាំមុន Last Year
D66: គ្មាន | E66: 0 | G66: 0
D75: សរុប Total | E75: =SUM(E66:E74) -> 0 | G75: =SUM(G66:G74) -> 0
A77: អ១២ O12 | C77: ធនធានផ្សេងទៀត Other Resources | D77: ការពន្យល់និងប្រភពនៃតម្លៃ(ថ្លៃដើម ឬតម្លៃបច្ចុប្បន្នចាំបាច់ប្រសិនបើអាចទទួលបាន) Description and Source of Value (cost or current value required if practicable to obtain) | E77: ឆ្នាំនេះ This Year | G77: ឆ្នាំមុន Last Year
D78: គ្មាន | E78: 0 | G78: 0
D87: សរុប Total | E87: =SUM(E78:E86) -> 0 | G87: =SUM(G78:G86) -> 0
A90: បញ្ជីកាតព្វកិច្ច SCHEDULE OF COMMITMENTS
A92: អ១៣ O13 | C92: ប្រាក់ដែលអង្គភាពត្រូវសង Money Payable by the Entity | D92: ការពន្យល់ Description | E92: ឆ្នាំនេះ This Year | G92: ឆ្នាំមុន Last Year
D93: គ្មាន | E93: 0 | G93: 0
D102: សរុប Total | E102: =SUM(E93:E101) -> 0 | G102: =SUM(G93:G101) -> 0
A105: អ០១៤ O14 | C105: កាតព្វកិច្ចផ្សេងទៀត Other Commitments | D105: ការពន្យល់ Description | E105: ឆ្នាំនេះ This Year | G105: ឆ្នាំមុន Last Year
D106: គ្មាន | E106: 0 | G106: 0
D115: សរុប Total | E115: =SUM(E106:E114) -> 0 | G115: =SUM(G106:G114) -> 0
A117: អ១៥ O15 | C117: ការធានា Guarantees | D117: ការពន្យល់ Description | E117: ឆ្នាំនេះ This Year | G117: ឆ្នាំមុន Last Year
...

Sheet PL
C1: US DOLLARS | G1: IN RIELS
A2: INCOME | C2: $ | D2: $ | G2: Exchange RateUS$ = 4011 | I2: 4011
A3: 401 | B3: =VLOOKUP($A3,' TB'!$A$2:$D$128,2,FALSE) -> TFUK | C3: =VLOOKUP($A3,' TB'!$A$2:$D$128,4,FALSE) -> 47279.94 | G3: =C3*$I$2/1000 -> 189639.84
A4: 409 | B4: =VLOOKUP($A4,' TB'!$A$2:$D$128,2,FALSE) -> Mission Alliance | C4: =VLOOKUP($A4,' TB'!$A$2:$D$128,4,FALSE) -> 118982 | G4: =C4*$I$2/1000 -> 477236.8
A5: 412 | B5: =VLOOKUP($A5,' TB'!$A$2:$D$128,2,FALSE) -> ERIKS | C5: =VLOOKUP($A5,' TB'!$A$2:$D$128,4,FALSE) -> 103500 | G5: =C5*$I$2/1000 -> 415138.5
A6: 415 | B6: =VLOOKUP($A6,' TB'!$A$2:$D$128,2,FALSE) -> Sun Focus Foundation Ltd. | C6: =VLOOKUP($A6,' TB'!$A$2:$D$128,4,FALSE) -> 18000 | G6: =C6*$I$2/1000 -> 72198
A7: 419 | B7: =VLOOKUP($A7,' TB'!$A$2:$D$128,2,FALSE) -> Multiplication Network Ministry | C7: =VLOOKUP($A7,' TB'!$A$2:$D$128,4,FALSE) -> 126939.85 | G7: =C7*$I$2/1000 -> 509155.74 | I7: =SUM(G3:G7) -> 1663368.9
A8: 503 | B8: =VLOOKUP($A8,' TB'!$A$2:$D$128,2,FALSE) -> Membership fee | C8: =VLOOKUP($A8,' TB'!$A$2:$D$128,4,FALSE) -> 31420 | G8: =C8*$I$2/1000 -> 126025.62 | I8: =G8 -> 126025.62
A9: 504 | B9: =VLOOKUP($A9,' TB'!$A$2:$D$128,2,FALSE) -> Donation Income | C9: =VLOOKUP($A9,' TB'!$A$2:$D$128,4,FALSE) -> 5100 | G9: =C9*$I$2/1000 -> 20456.1
A10: 505 | B10: =VLOOKUP($A10,' TB'!$A$2:$D$128,2,FALSE) -> Office Contribution | C10: =VLOOKUP($A10,' TB'!$A$2:$D$128,4,FALSE) -> 8799.96 | G10: =C10*$I$2/1000 -> 35296.64
A11: 506 | B11: =VLOOKUP($A11,' TB'!$A$2:$D$128,2,FALSE) -> Contribution for BP | C11: =VLOOKUP($A11,' TB'!$A$2:$D$128,4,FALSE) -> 10018.5 | G11: =C11*$I$2/1000 -> 40184.204
A12: 507 | B12: =VLOOKUP($A12,' TB'!$A$2:$D$128,2,FALSE) -> Program charge | C12: =VLOOKUP($A12,' TB'!$A$2:$D$128,4,FALSE) -> 8591.99 | G12: =C12*$I$2/1000 -> 34462.472
A13: 510 | B13: =VLOOKUP($A13,' TB'!$A$2:$D$128,2,FALSE) -> Bank Interest | C13: =VLOOKUP($A13,' TB'!$A$2:$D$128,4,FALSE) -> 1695.04 | G13: =C13*$I$2/1000 -> 6798.8054
A14: 511 | B14: =VLOOKUP($A14,' TB'!$A$2:$D$128,2,FALSE) -> Miscellanceous Income | C14: =VLOOKUP($A14,' TB'!$A$2:$D$128,4,FALSE) -> 8031.75 | G14: =C14*$I$2/1000 -> 32215.349
A15: 512 | B15: =VLOOKUP($A15,' TB'!$A$2:$D$128,2,FALSE) -> Donation for CCUNS | C15: =VLOOKUP($A15,' TB'!$A$2:$D$128,4,FALSE) -> 500 | G15: =C15*$I$2/1000 -> 2005.5
A16: 516 | B16: =VLOOKUP($A16,' TB'!$A$2:$D$128,2,FALSE) -> Foundation for Refugees | C16: =VLOOKUP($A16,' TB'!$A$2:$D$128,4,FALSE) -> 12304.06 | G16: =C16*$I$2/1000 -> 49351.585 | I16: =SUM(G9:G16) -> 220770.65
B17: Total Income | D17: =SUM(C3:C16) -> 501163.09 | H17: =SUM(G3:G16) -> 2010165.2
B18: Gross Profit | E18: =D17 -> 501163.09
A20: Program Actvities Expenses
A21: 611 | B21: =VLOOKUP($A21,' TB'!$A$2:$D$128,2,FALSE) -> Board/EFC Senior Advisor Meetin | C21: =VLOOKUP($A21,' TB'!$A$2:$D$128,3,FALSE) -> 1644.28 | G21: =C21*$I$2/1000 -> 6595.2071
A22: 612 | B22: =VLOOKUP($A22,' TB'!$A$2:$D$128,2,FALSE) -> Board Fundrasing/ Local or In't | C22: =VLOOKUP($A22,' TB'!$A$2:$D$128,3,FALSE) -> 750 | G22: =C22*$I$2/1000 -> 3008.25
A23: 613 | B23: =VLOOKUP($A23,' TB'!$A$2:$D$128,2,FALSE) -> Board Annual Strategic plan/Ret | C23: =VLOOKUP($A23,' TB'!$A$2:$D$128,3,FALSE) -> 2925.15 | G23: =C23*$I$2/1000 -> 11732.777
A24: 621 | B24: =VLOOKUP($A24,' TB'!$A$2:$D$128,2,FALSE) -> Staff Capacity Building | C24: =VLOOKUP($A24,' TB'!$A$2:$D$128,3,FALSE) -> 5135.56 | G24: =C24*$I$2/1000 -> 20598.731
A25: 622 | B25: =VLOOKUP($A25,' TB'!$A$2:$D$128,2,FALSE) -> Program Reflection Mid-year AR | C25: =VLOOKUP($A25,' TB'!$A$2:$D$128,3,FALSE) -> 726.53 | G25: =C25*$I$2/1000 -> 2914.1118
A26: 623 | B26: =VLOOKUP($A26,' TB'!$A$2:$D$128,2,FALSE) -> In-House staff Capacity/MTM | C26: =VLOOKUP($A26,' TB'!$A$2:$D$128,3,FALSE) -> 1060.21 | G26: =C26*$I$2/1000 -> 4252.5023
A27: 624 | B27: =VLOOKUP($A27,' TB'!$A$2:$D$128,2,FALSE) -> Staff Annual Retreat | C27: =VLOOKUP($A27,' TB'!$A$2:$D$128,3,FALSE) -> 2700 | G27: =C27*$I$2/1000 -> 10829.7
A28: 625 | B28: =VLOOKUP($A28,' TB'!$A$2:$D$128,2,FALSE) -> Oraganizational Strategic Plan- | C28: =VLOOKUP($A28,' TB'!$A$2:$D$128,3,FALSE) -> 1207.5 | G28: =C28*$I$2/1000 -> 4843.2825
A29: 632 | B29: =VLOOKUP($A29,' TB'!$A$2:$D$128,2,FALSE) -> EFC Annual National Assembly | C29: =VLOOKUP($A29,' TB'!$A$2:$D$128,3,FALSE) -> 7793.56 | G29: =C29*$I$2/1000 -> 31259.969
A30: 634 | B30: =VLOOKUP($A30,' TB'!$A$2:$D$128,2,FALSE) -> Medias & Website design/Update | C30: =VLOOKUP($A30,' TB'!$A$2:$D$128,3,FALSE) -> 1490.89 | G30: =C30*$I$2/1000 -> 5979.9598
A31: 638 | B31: =VLOOKUP($A31,' TB'!$A$2:$D$128,2,FALSE) -> Relief/Refugees | C31: =VLOOKUP($A31,' TB'!$A$2:$D$128,3,FALSE) -> 2996.81 | G31: =C31*$I$2/1000 -> 12020.205
A32: 639 | B32: =VLOOKUP($A32,' TB'!$A$2:$D$128,2,FALSE) -> Provincial Leadership F & Gath | C32: =VLOOKUP($A32,' TB'!$A$2:$D$128,3,FALSE) -> 644.38 | G32: =C32*$I$2/1000 -> 2584.6082
... A86: 679-09 | B86: =VLOOKUP($A86,' TB'!$A$2:$D$128,2,FALSE) -> Learning Opportunity & Relevant | C86: =VLOOKUP($A86,' TB'!$A$2:$D$128,3,FALSE) -> 4128.37 | G86: =C86*$I$2/1000 -> 16558.892
B87: Sub-Total | D87: =SUM(C21:C86) -> 219347.61 | H87: =SUM(G21:G86) -> 879803.26 | I87: R&P 11
A88: Networking Expenses
A89: 681 | B89: =VLOOKUP($A89,' TB'!$A$2:$D$128,2,FALSE) -> Government Relationship | C89: =VLOOKUP($A89,' TB'!$A$2:$D$128,3,FALSE) -> 522 | G89: =C89*$I$2/1000 -> 2093.742
A90: 682 | B90: =VLOOKUP($A90,' TB'!$A$2:$D$128,2,FALSE) -> Meeting with Networks | C90: =VLOOKUP($A90,' TB'!$A$2:$D$128,3,FALSE) -> 1295.73 | G90: =C90*$I$2/1000 -> 5197.173
A91: 683 | B91: =VLOOKUP($A91,' TB'!$A$2:$D$128,2,FALSE) -> Donor Relation/Visitation | C91: =VLOOKUP($A91,' TB'!$A$2:$D$128,3,FALSE) -> 207.67 | G91: =C91*$I$2/1000 -> 832.96437
A92: 684 | B92: =VLOOKUP($A92,' TB'!$A$2:$D$128,2,FALSE) -> Christmas /Khmer New Year | C92: =VLOOKUP($A92,' TB'!$A$2:$D$128,3,FALSE) -> 1967.5 | G92: =C92*$I$2/1000 -> 7891.6425
A93: 685 | B93: =VLOOKUP($A93,' TB'!$A$2:$D$128,2,FALSE) -> National/IC/ Workshop | C93: =VLOOKUP($A93,' TB'!$A$2:$D$128,3,FALSE) -> 6653.18 | G93: =C93*$I$2/1000 -> 26685.905
A94: 686 | B94: =VLOOKUP($A94,' TB'!$A$2:$D$128,2,FALSE) -> Communication | C94: =VLOOKUP($A94,' TB'!$A$2:$D$128,3,FALSE) -> 1930 | G94: =C94*$I$2/1000 -> 7741.23
...

Sheet BS
C1: Total | G1: In Riels
G2: Excahnge Rate | I2: 4013
A3: Current Assets
A4: 101 | B4: =VLOOKUP($A4,' TB'!$A$2:$D$128,2,FALSE) -> CPB. | C4: =VLOOKUP($A4,' TB'!$A$2:$D$128,3,FALSE) -> 3016.92 | G4: =C4*$I$2/1000 -> 12106.9
A5: 107 | B5: =VLOOKUP($A5,' TB'!$A$2:$D$128,2,FALSE) -> ABA. | C5: =VLOOKUP($A5,' TB'!$A$2:$D$128,3,FALSE) -> 369.65 | G5: =C5*$I$2/1000 -> 1483.4054
A6: 108 | B6: =VLOOKUP($A6,' TB'!$A$2:$D$128,2,FALSE) -> Phillip Bank Plc | C6: =VLOOKUP($A6,' TB'!$A$2:$D$128,3,FALSE) -> 32033.53 | G6: =C6*$I$2/1000 -> 128550.56 | H6: =G4+G5+G6 -> 142140.86
A7: 111 | B7: =VLOOKUP($A7,' TB'!$A$2:$D$128,2,FALSE) -> Cash on Hand | C7: =VLOOKUP($A7,' TB'!$A$2:$D$128,3,FALSE) -> 23.07 | G7: =C7*$I$2/1000 -> 92.57991
A8: Total Current Assets | D8: =SUM(C4:C7) -> 35443.17 | H8: =SUM(G4:G7) -> 142233.44
A9: Non-Current Assets
G10: =C10*$I$2 -> 0
D11: =SUM(C10) -> 0 | H11: =SUM(G10) -> 0
E12: =D8+D11 -> 35443.17 | I12: =H8+H11 -> 142233.44
A13: Liabilities and shareholder's equity
B14: Current liabilities:
G15: =(C15*$I$2) -> 0
B16: Total current liabilities | D16: =SUM(C15:C15) -> 0 | H16: =SUM(G15:G15) -> 0
A17: Shareholders' equity:
B18: Net Income | C18: =PL!E137 -> -1830.38 | G18: =C18*$I$2/1000 -> -7345.3149
A19: 200 | B19: =VLOOKUP($A19,' TB'!$A$2:$D$123,2,FALSE) -> Retained Earnings | C19: =VLOOKUP($A19,' TB'!$A$2:$D$123,4,FALSE) -> 37273.55 | G19: =C19*$I$2/1000 -> 149578.76
B20: Total shareholders' equity | D20: =SUM(C18:C19) -> 35443.17 | H20: =SUM(G18:G19) -> 142233.44
B21: Total liabilities and equity | E21: =(D16)+(D20) -> 35443.17 | I21: =H16+H20 -> 142233.44
I23: =I21-I12 -> 0

Sheet  TB
C1: Debit | D1: Credit
A2: 101 | B2: CPB. | C2: 3016.92
A3: 107 | B3: ABA. | C3: 369.65
A4: 108 | B4: Phillip Bank Plc | C4: 32033.53
A5: 111 | B5: Cash on Hand | C5: 23.07
A6: 200 | B6: Retained Earnings | D6: 37273.55
A7: 401 | B7: TFUK | D7: 47279.94
A8: 409 | B8: Mission Alliance | D8: 118982
A9: 412 | B9: ERIKS | D9: 103500
A10: 415 | B10: Sun Focus Foundation Ltd. | D10: 18000
A11: 419 | B11: Multiplication Network Ministry | D11: 126939.85
A12: 503 | B12: Membership fee | D12: 31420
A13: 504 | B13: Donation Income | D13: 5100
A14: 505 | B14: Office Contribution | D14: 8799.96
A15: 506 | B15: Contribution for BP | D15: 10018.5
A16: 507 | B16: Program charge | D16: 8591.99
A17: 510 | B17: Bank Interest | D17: 1695.04
... A20: 516 | B20: Foundation for Refugees | D20: 12304.06
A21: 611 | B21: Board/EFC Senior Advisor Meetin | C21: 1644.28
A22: 612 | B22: Board Fundrasing/ Local or In't | C22: 750
A23: 613 | B23: Board Annual Strategic plan/Ret | C23: 2925.15
A24: 621 | B24: Staff Capacity Building | C24: 5135.56
A25: 622 | B25: Program Reflection Mid-year AR | C25: 726.53
A26: 623 | B26: In-House staff Capacity/MTM | C26: 1060.21
A27: 624 | B27: Staff Annual Retreat | C27: 2700
A28: 625 | B28: Oraganizational Strategic Plan- | C28: 1207.5
A29: 632 | B29: EFC Annual National Assembly | C29: 7793.56
A30: 634 | B30: Medias & Website design/Update | C30: 1490.89
A31: 638 | B31: Relief/Refugees | C31: 2996.81
A32: 639 | B32: Provincial Leadership F & Gath | C32: 644.38
... A122: 786 | B122: LCD/Printer | C122: 550
A123: TOTAL | C123: =ROUND(SUM(C2:C122),5) -> 538436.64 | D123: =ROUND(SUM(D2:D122),5) -> 538436.64

Sheet VAT
A1: 2025 | C1: រៀល | D1: 2024 | F1: រៀល
A2: Month | B2: Input | C2: 4011 | D2: Month | E2: Input | F2: 4071
A3: JAN | B3: 559.19 | C3: =B3*C2 -> 2242911.1 | D3: JAN | E3: 1080.26 | F3: =E3*$C$2 -> 4332922.9
A4: FEB | B4: 941.49 | C4: =B4*C2 -> 3776316.4 | D4: FEB | E4: 1532.06 | F4: =E4*$C$2 -> 6145092.7
A5: MAR | B5: 1434.09 | C5: =B5*C2 -> 5752135 | D5: MAR | E5: 1638.9 | F5: =E5*$C$2 -> 6573627.9
A6: APR | B6: 743.16 | C6: =B6*C2 -> 2980814.8 | D6: APR | E6: 1538.46 | F6: =E6*$C$2 -> 6170763.1
A7: MAY | B7: 445.02 | C7: =B7*C2 -> 1784975.2 | D7: MAY | E7: 835.7 | F7: =E7*$C$2 -> 3351992.7
A8: JUN | B8: 1752.23 | C8: =B8*C2 -> 7028194.5 | D8: JUN | E8: 2475.7 | F8: =E8*$C$2 -> 9930032.7
A9: JUL | B9: 657.15 | C9: =B9*C2 -> 2635828.6 | D9: JUL | E9: 2172.69 | F9: =E9*$C$2 -> 8714659.6
A10: AUG | B10: 958.62 | C10: =B10*C2 -> 3845024.8 | D10: AUG | E10: 1578.34 | F10: =E10*$C$2 -> 6330721.7
A11: SEP | B11: 10779.54 | C11: =B11*C2 -> 43236735 | D11: SEP | E11: 2498.77 | F11: =E11*$C$2 -> 10022566
A12: OCT | B12: 681.11 | C12: =B12*C2 -> 2731932.2 | D12: OCT | E12: 454.74 | F12: =E12*$C$2 -> 1823962.1
A13: NOV | B13: 2712.31 | C13: =B13*C2 -> 10879075 | D13: NOV | E13: 4792.3 | F13: =E13*$C$2 -> 19221915
A14: DEC | B14: 3784.07 | C14: =B14*C2 -> 15177905 | D14: DEC | E14: 3738.92 | F14: =E14*$C$2 -> 14996808
B15: =SUM(B3:B14) -> 25447.98 | C15: =SUM(C3:C14)/1000 -> 102071.85 | E15: =SUM(E3:E14) -> 24336.84 | F15: =SUM(F3:F14)/1000 -> 97615.065
