Workbook

Sheet SetUp
A1: G/L Account | D1: Chat Account of Tax | O1: Period | P1: Quarter | R1: Donor Code | S1: Donor | V1: Formulas
D2: យោង | E2: បរិយាយ/Description | O2: 202201 | P2: Q1 | R2: PID65000 | S2: EU
A3: 45520 | B3: Repairs and maintenance of computers | D3: A0 | E3: I- ទ្រព្យសកម្ម (A0=A1+ A13)/ Assets (A0=A1+ A13) | F3: =D3&"-"&E3 -> A0-I- ទ្រព្យសកម្ម (A0=A1+ A13)/ Assets (A0=A1+ A13) | O3: 202202 | P3: Q1 | R3: PID66000 | S3: DFAT | V3: 1 | W3: IF
A4: 45020 | B4: Electricity | D4: A1 | E4: ទ្រព្យសកម្មរយៈពេលវែង [A1=សរុប(A2:A12)]/Non-Current Assets / Fixed Assets [A1=Sum(A2:A12)] | F4: =D4&"-"&E4 -> A1-ទ្រព្យសកម្មរយៈពេលវែង [A1=សរុប(A2:A12)]/Non-Current Assets / Fixed Assets [A1=Sum(A2:A12)] | O4: 202203 | P4: Q1 | R4: PID67000 | S4: SIDA | V4: 2 | W4: Sumif
A5: 46150 | B5: Printed matter | D5: A2 | E5: ដីធ្លីរបស់សហគ្រាស/ Freehold land | F5: =D5&"-"&E5 -> A2-ដីធ្លីរបស់សហគ្រាស/ Freehold land | O5: 202204 | P5: Q2 | R5: PID68000 | S5: USAID | V5: 3 | W5: Sumifs
A6: 47622 | B6: Health care (Regional offices) | D6: A3 | E6: ការរៀបចំតុបតែងលំអដីធ្លីរបស់សហគ្រាស/Improvements and preparation of land | F6: =D6&"-"&E6 -> A3-ការរៀបចំតុបតែងលំអដីធ្លីរបស់សហគ្រាស/Improvements and preparation of land | O6: 202205 | P6: Q2 | V6: 4 | W6: Filter
A7: 47390 | B7: Other employee benefits | D7: A4 | E7: សំណង់អាគាររបស់សហគ្រាស/Freehold buildings | F7: =D7&"-"&E7 -> A4-សំណង់អាគាររបស់សហគ្រាស/Freehold buildings | O7: 202206 | P7: Q2 | V7: 5 | W7: GroupBy
A8: 47211 | B8: Salary (employees outside HO) | D8: A5 | E8: សំណង់អាគារលើដីធ្លីក្រោមភតិសន្យា/Freehold buildings on leasehold land | F8: =D8&"-"&E8 -> A5-សំណង់អាគារលើដីធ្លីក្រោមភតិសន្យា/Freehold buildings on leasehold land | O8: 202207 | P8: Q3 | V8: 6 | W8: Pivot Table
A9: 47090 | B9: Change in accrued holiday pay provision | D9: A6 | E9: ទ្រព្យសកម្មរយៈពេលវែងកំពុងដំណើរការ/Non-current assets in progress | F9: =D9&"-"&E9 -> A6-ទ្រព្យសកម្មរយៈពេលវែងកំពុងដំណើរការ/Non-current assets in progress | O9: 202208 | P9: Q3 | V9: 7 | W9: UNIQUE
A10: 47217 | B10: Severance pay | D10: A7 | E10: រោងចក្រ ( ក្រៅពីអាគារ) និងបរិក្ខារ/Plant and equipment | F10: =D10&"-"&E10 -> A7-រោងចក្រ ( ក្រៅពីអាគារ) និងបរិក្ខារ/Plant and equipment | O10: 202209 | P10: Q3 | V10: 8 | W10: Xlookup
A11: 46570 | B11: Banking costs | D11: A8 | E11: កេរ្តិ៍ឈ្មោះ/មូលនិធិពាណិជ្ជកម្ម/Goodwill | F11: =D11&"-"&E11 -> A8-កេរ្តិ៍ឈ្មោះ/មូលនិធិពាណិជ្ជកម្ម/Goodwill | O11: 202210 | P11: Q4 | V11: 9 | W11: VSTACK
A12: 47586 | B12: Personnel insurance (employees outside HO) | D12: A9 | E12: ចំណាយបង្កើតសហគ្រាសដំបូង/Preliminary business formation expenses | F12: =D12&"-"&E12 -> A9-ចំណាយបង្កើតសហគ្រាសដំបូង/Preliminary business formation expenses | O12: 202211 | P12: Q4 | V12: 10 | W12: Others (mostly work on text)
A13: 46990 | B13: Other external expenses | D13: A10 | E13: ទ្រព្យសកម្មក្រោមភតិសន្យា និងបុព្វលាភនៃការប្រើប្រាស់/Leasehold assets and lease premiums | F13: =D13&"-"&E13 -> A10-ទ្រព្យសកម្មក្រោមភតិសន្យា និងបុព្វលាភនៃការប្រើប្រាស់/Leasehold assets and lease premiums | O13: 202212 | P13: Q4
A14: 49561 | B14: Internal expenses, employee costs | D14: A11 | E14: វិនិយោគក្នុងសហគ្រាសដទៃ/Investment in other enterprises | F14: =D14&"-"&E14 -> A11-វិនិយោគក្នុងសហគ្រាសដទៃ/Investment in other enterprises
A15: 49510 | B15: Internal expenses, support TA/FC | D15: A12 | E15: ទ្រព្យសកម្មរយៈពេលវែងផ្សេងៗ/Other non-current assets | F15: =D15&"-"&E15 -> A12-ទ្រព្យសកម្មរយៈពេលវែងផ្សេងៗ/Other non-current assets
A16: 45010 | B16: Rent | D16: A13 | E16: ទ្រព្យសកម្មរយៈពេលខ្លី [A13=សរុប(A14:A27)]/ Current Assets [A13=Sum(A14:A27)] | F16: =D16&"-"&E16 -> A13-ទ្រព្យសកម្មរយៈពេលខ្លី [A13=សរុប(A14:A27)]/ Current Assets [A13=Sum(A14:A27)]
A17: 46212 | B17: Mobile telephone | D17: A14 | E17: ស្តុកវត្ថុធាតុដើម និងសំភារៈផ្គត់ផ្គង់/ Stock of raw materials and supplies | F17: =D17&"-"&E17 -> A14-ស្តុកវត្ថុធាតុដើម និងសំភារៈផ្គត់ផ្គង់/ Stock of raw materials and supplies
A18: 45460 | B18: Consumable materials | D18: A15 | E18: ស្តុកទំនិញ/ Stocks of goods | F18: =D18&"-"&E18 -> A15-ស្តុកទំនិញ/ Stocks of goods
A19: 46310 | B19: Corporate insurance | D19: A16 | E19: ស្តុកផលិតផលសម្រេច/ Stocks of finished products | F19: =D19&"-"&E19 -> A16-ស្តុកផលិតផលសម្រេច/ Stocks of finished products
A20: 44323 | B20: Sub granting | D20: A17 | E20: ផលិតផលកំពុងផលិត/ Products in progress | F20: =D20&"-"&E20 -> A17-ផលិតផលកំពុងផលិត/ Products in progress
A21: 47326 | B21: Subsistence allowances (employees outside HO) | D21: A18 | E21: គណនីត្រូវទទួល / អតិថិជន/ Accounts receivable / trade debtors | F21: =D21&"-"&E21 -> A18-គណនីត្រូវទទួល / អតិថិជន/ Accounts receivable / trade debtors
A22: 45813 | B22: Travel expenses, not in | D22: A19 | E22: គណនីត្រូវទទួលផ្សេងៗ / Other accounts receivable | F22: =D22&"-"&E22 -> A19-គណនីត្រូវទទួលផ្សេងៗ / Other accounts receivable | H22: លេខកូដ Code | I22: ឈ្មោះគណនី / Item name
A23: 47639 | B23: Meeting expenses and similar | D23: A20 | E23: ចំណាយបានកត់ត្រាមុន/ Prepaid expenses | F23: =D23&"-"&E23 -> A20-ចំណាយបានកត់ត្រាមុន/ Prepaid expenses | H23: RE-2 | I23: ប្រាក់ចំណូលហិរញ្ញវត្ថុ / Finance Income | J23: =H23&"-"&I23 -> RE-2-ប្រាក់ចំណូលហិរញ្ញវត្ថុ / Finance Income
A24: 45832 | B24: Board and lodging, not in | D24: A21 | E24: សាច់ប្រាក់នៅក្នុងបេឡា / Cash on hand | F24: =D24&"-"&E24 -> A21-សាច់ប្រាក់នៅក្នុងបេឡា / Cash on hand | H24: RE-3 | I24: ប្រាក់ចំណូលពីភាគលាភ / Dividend income | J24: =H24&"-"&I24 -> RE-3-ប្រាក់ចំណូលពីភាគលាភ / Dividend income
A25: 46523 | B25: Travel expenses, not in | D25: A22 | E25: សាច់ប្រាក់នៅធនាគារ/ Cash in banks | F25: =D25&"-"&E25 -> A22-សាច់ប្រាក់នៅធនាគារ/ Cash in banks | H25: RE-4 | I25: ប្រាក់ចំណូលពីសួយសារ / Royalties income | J25: =H25&"-"&I25 -> RE-4-ប្រាក់ចំណូលពីសួយសារ / Royalties income
A26: 45890 | B26: Other travel expenses | D26: A23 | E26: ឥណទានប្រាក់រំដោះពន្ធលើប្រាក់ចំណូល/Credit on Prepayment on income tax | F26: =D26&"-"&E26 -> A23-ឥណទានប្រាក់រំដោះពន្ធលើប្រាក់ចំណូល/Credit on Prepayment on income tax | H26: RE-5 | I26: ការបរិច្ចាគ, ការរៃអង្គាសប្រាក់ និងចំណូលប្រហាក់ប្រហែលផ្សេងទៀត / Donations, fundraising and other similar revenue | J26: =H26&"-"&I26 -> RE-5-ការបរិច្ចាគ, ការរៃអង្គាសប្រាក់ និងចំណូលប្រហាក់ប្រហែលផ្សេងទៀត / Donations, fundraising and other similar revenue
A27: 44321 | B27: Contribution local NGO:s (spec items +agreement) | D27: A24 | E27: ឥណទានអាករលើតម្លៃបន្ថែម/ Value added tax credit | F27: =D27&"-"&E27 -> A24-ឥណទានអាករលើតម្លៃបន្ថែម/ Value added tax credit | H27: RE-96 | I27: ចំណេញសុទ្ធពីការប្តូររូបិយបណ្ណបរទេស / Foreign exchange gain-net | J27: =H27&"-"&I27 -> RE-96-ចំណេញសុទ្ធពីការប្តូររូបិយបណ្ណបរទេស / Foreign exchange gain-net
A28: 44322 | B28: Contribution local NGO:s (spec items-no agreement) | D28: A25 | E28: ឥណទានពន្ធ-អាករដទៃទៀត/ Other taxes credit | F28: =D28&"-"&E28 -> A25-ឥណទានពន្ធ-អាករដទៃទៀត/ Other taxes credit | H28: RE-97 | I28: ប្រាក់ចំណូលផ្សេងទៀត / Other income | J28: =H28&"-"&I28 -> RE-97-ប្រាក់ចំណូលផ្សេងទៀត / Other income
A29: 44329 | B29: Other contributions | D29: A26 | E29: ទ្រព្យសកម្មរយៈពេលខ្លីផ្សេងៗ/ Other current assets | F29: =D29&"-"&E29 -> A26-ទ្រព្យសកម្មរយៈពេលខ្លីផ្សេងៗ/ Other current assets | H29: XN-1 | I29: ការទិញ និងចំណាយពាក់ព័ន្ធ / Purchases and related costs | J29: =H29&"-"&I29 -> XN-1-ការទិញ និងចំណាយពាក់ព័ន្ធ / Purchases and related costs
A30: 44330 | B30: Contribution networks/Swedish organisations | D30: A27 | E30: លម្អៀងពីការប្តូរប្រាក់នៃទ្រព្យសកម្ម/ Gain/(loss) on currency translation of assets | F30: =D30&"-"&E30 -> A27-លម្អៀងពីការប្តូរប្រាក់នៃទ្រព្យសកម្ម/ Gain/(loss) on currency translation of assets | H30: XN-2 | I30: ការប្រែប្រួល WIP និងសន្និធិផលិតផលសម្រេច / Changes of WIP and Finished Goods Inventories | J30: =H30&"-"&I30 -> XN-2-ការប្រែប្រួល WIP និងសន្និធិផលិតផលសម្រេច / Changes of WIP and Finished Goods Inventories
A31: 44340 | B31: Contribution International organisations | D31: A28 | E31: II- មូលនិធិ/ទុនម្ចាស់ទ្រព្យ និងបំណុល [A28=សរុប(A29+A37+A42)]/ Equity and Liabilities [A28=sum(A29+A37+A42)] | F31: =D31&"-"&E31 -> A28-II- មូលនិធិ/ទុនម្ចាស់ទ្រព្យ និងបំណុល [A28=សរុប(A29+A37+A42)]/ Equity and Liabilities [A28=sum(A29+A37+A42)] | H31: XN-3 | I31: វត្ថុធាតុដើម និងទំនិញដែលបានប្រើប្រាស់ / Raw material and consumables used | J31: =H31&"-"&I31 -> XN-3-វត្ថុធាតុដើម និងទំនិញដែលបានប្រើប្រាស់ / Raw material and consumables used
A32: 45040 | B32: Water and sewerage | D32: A29 | E32: មូលនិធិ/ទុនម្ចាស់ទ្រព្យ [A29=សរុប(A30:A36)]/ Equity [A29=sum(A30:A36)] | F32: =D32&"-"&E32 -> A29-មូលនិធិ/ទុនម្ចាស់ទ្រព្យ [A29=សរុប(A30:A36)]/ Equity [A29=sum(A30:A36)] | H32: XN-4 | I32: ប្រាក់ខែ និងអត្ថប្រយោជន៍និយោជិត / Salaries and employee benefits | J32: =H32&"-"&I32 -> XN-4-ប្រាក់ខែ និងអត្ថប្រយោជន៍និយោជិត / Salaries and employee benefits
A33: 45050 | B33: Fittings belonging to premises | D33: A30 | E33: មូលធន/មូលធនភាគហ៊ុន/ មូលនិធិសាខាក្រុមហ៊ុនបរទេស ឬការិយាល័យតំណាង/ Capital / Share capital / fund of foreign Branch or Representative Office | F33: =D33&"-"&E33 -> A30- មូលធន/មូលធនភាគហ៊ុន/ មូលនិធិសាខាក្រុមហ៊ុនបរទេស ឬការិយាល័យតំណាង/ Capital / Share capital / fund of foreign Branch or Representative Office | H33: XN-5 | I33: ចំណាយរំលស់ / Depreciation and amortisation expense | J33: =H33&"-"&I33 -> XN-5-ចំណាយរំលស់ / Depreciation and amortisation expense
A34: 45060 | B34: Cleaning and refuse collection | D34: A31 | E34: តម្លៃលើសនៃការលក់ប័ណ្ណភាគហ៊ុន/ Share premium | F34: =D34&"-"&E34 -> A31- តម្លៃលើសនៃការលក់ប័ណ្ណភាគហ៊ុន/ Share premium | H34: XN-6 | I34: ការធ្លាក់ចុះតម្លៃនៃទ្រព្យសកម្ម / Impairment of assets | J34: =H34&"-"&I34 -> XN-6-ការធ្លាក់ចុះតម្លៃនៃទ្រព្យសកម្ម / Impairment of assets
... A40: 45420 | B40: IT licence fees and Software | D40: A37 | E40: បំណុលរយៈពេលវែង [A37=សរុប(A38:A41)]/ Non-current Liabilities [A37=sum(A38:A41)] | F40: =D40&"-"&E40 -> A37- បំណុលរយៈពេលវែង [A37=សរុប(A38:A41)]/ Non-current Liabilities [A37=sum(A38:A41)] | H40: XN-97 | I40: ចំណាយកិច្ចប្រតិបត្តិការផ្សេងទៀត / Other operating expenses | J40: =H40&"-"&I40 -> XN-97-ចំណាយកិច្ចប្រតិបត្តិការផ្សេងទៀត / Other operating expenses
A41: 45430 | B41: IT maintenance and support contracts | D41: A38 | E41: បំណុលភាគីជាប់ទាក់ទិន/ Loan from related parties | F41: =D41&"-"&E41 -> A38- បំណុលភាគីជាប់ទាក់ទិន/ Loan from related parties | I41: ចំណាយសរុបមុនបង់ពន្ធ / Total expenses before tax | J41: =H41&"-"&I41 -> -ចំណាយសរុបមុនបង់ពន្ធ / Total expenses before tax
A42: 45510 | B42: Repairs and maintenance of equipment | D42: A39 | E42: បំណុលធនាគារ និងបំណុលភាគីមិនជាប់ទាក់ទិនផ្សេងៗ/ Loan from banks and other external parties | F42: =D42&"-"&E42 -> A39- បំណុលធនាគារ និងបំណុលភាគីមិនជាប់ទាក់ទិនផ្សេងៗ/ Loan from banks and other external parties | H42: XN-98 | I42: ចំណាយបង់ពន្ធ / Tax Expense | J42: =H42&"-"&I42 -> XN-98-ចំណាយបង់ពន្ធ / Tax Expense
A43: 45600 | B43: Budget account, travelcosts | D43: A40 | E43: សំវិធានធន/ Provisions | F43: =D43&"-"&E43 -> A40- សំវិធានធន/ Provisions | H43: RE-2 | I43: ប្រាក់ចំណូលហិរញ្ញវត្ថុ / Finance Income | J43: =H43&"-"&I43 -> RE-2-ប្រាក់ចំណូលហិរញ្ញវត្ថុ / Finance Income
A44: 45611 | B44: Passenger cars, fuel | D44: A41 | E44: បំណុលរយៈពេលវែងផ្សេងៗ/ Other non-current liabilities | F44: =D44&"-"&E44 -> A41- បំណុលរយៈពេលវែងផ្សេងៗ/ Other non-current liabilities | H44: RE-3 | I44: ប្រាក់ចំណូលពីភាគលាភ / Dividend income | J44: =H44&"-"&I44 -> RE-3-ប្រាក់ចំណូលពីភាគលាភ / Dividend income
A45: 45612 | B45: Passenger cars, insurance and tax | D45: A42 | E45: បំណុលរយៈពេលខ្លី [A42=សរុប(A43:A52)]/ Current Liabilities [A42=sum(A43:A52)] | F45: =D45&"-"&E45 -> A42- បំណុលរយៈពេលខ្លី [A42=សរុប(A43:A52)]/ Current Liabilities [A42=sum(A43:A52)] | H45: RE-4 | I45: ប្រាក់ចំណូលពីសួយសារ / Royalties income | J45: =H45&"-"&I45 -> RE-4-ប្រាក់ចំណូលពីសួយសារ / Royalties income
...

Sheet Bud_Vs_Exp
C1: FINANCE REPORT
C2: Company name: | D2: ABC
C3: Project Title: | D3: KH123-PT
C4: SNV Organization Number: | D4: 4l I 45789645
C5: Fundig Source: | D5: EU
C6: Project Period: | D6: Jan 1, 2021 to December 31, 2023
C7: EXPENDITURE REPORT
C8: Reporting period | D8: 01 January 2021 - 31 December 2023
C9: Opening Balance 1 Jan 2021 | D9: 0
E11: SEK
A12: Activity Code/Class/Job/Sec | B12: Donor Line# | C12: Nature of the expeses according to proposed budget | D12: TOTAL Latest BUDGET | E12: Acumulated costs (before current report) | F12: Expenditure in this period | G12: Acumulated costs (from start of implementation to present report included) | H12: Balance | I12: Depletion % | J12: Explain | L12: Expenditure in this period
C13: 1. Human Resources
A14: 65801 | B14: 1.1.1.32 | C14: 1.1.1.32 Program Manager/PM (1 Position @ 28%) | D14: 6734.6709 | E14: 5387.7367 | F14: =SUMIF(Data!$J$4:$J$10000,A14,Data!$S$4:$S$10000) -> 1438.92 | G14: =SUM(E14:F14) -> 6826.6567 | H14: =D14-G14 -> -91.985823 | I14: =IFERROR(G14/D14,"") -> 1.0136585 | L14: =SUMIF('Favourite Formulas'!$B$5:$B$36,A14,'Favourite Formulas'!$C$5:$C$36) -> 1438.92
A15: 65802 | B15: 1.1.1.33 | C15: 1.1.1.33 Program Officer/PO (1 Position @ 100%) | D15: 34000 | E15: 12236.565 | F15: =SUMIF(Data!$J$4:$J$10000,A15,Data!$S$4:$S$10000) -> 23017.95 | G15: =SUM(E15:F15) -> 35254.515 | H15: =D15-G15 -> -1254.5155 | I15: =IFERROR(G15/D15,"") -> 1.0368975 | L15: =SUMIF('Favourite Formulas'!$B$5:$B$36,A15,'Favourite Formulas'!$C$5:$C$36) -> 23017.95
A16: 65803 | B16: 1.1.1.34 | C16: 1.1.1.34 Grant Management Officer/GMO (1 Position @ 17%) | D16: 3468.6557 | E16: 2980.6852 | F16: =SUMIF(Data!$J$4:$J$10000,A16,Data!$S$4:$S$10000) -> 1640.39 | G16: =SUM(E16:F16) -> 4621.0752 | H16: =D16-G16 -> -1152.4195 | I16: =IFERROR(G16/D16,"") -> 1.3322381 | L16: =SUMIF('Favourite Formulas'!$B$5:$B$36,A16,'Favourite Formulas'!$C$5:$C$36) -> 1640.39
C17: 1.1.2 Administrative/ support staff | D17: 0 | E17: 0 | F17: =SUMIF(Data!$J$4:$J$10000,A17,Data!$S$4:$S$10000) -> 0 | G17: =SUM(E17:F17) -> 0 | H17: =D17-G17 -> 0 | I17: =IFERROR(G17/D17,"") | L17: =SUMIF('Favourite Formulas'!$B$5:$B$36,A17,'Favourite Formulas'!$C$5:$C$36) -> 0
A18: 65804 | B18: 1.1.2.26 | C18: 1.1.2.26 Finance, Administration and HR Manager/FAHM (1 Position @ 18%) | D18: 15032 | E18: 2826.8112 | F18: =SUMIF(Data!$J$4:$J$10000,A18,Data!$S$4:$S$10000) -> 9712.29 | G18: =SUM(E18:F18) -> 12539.101 | H18: =D18-G18 -> 2492.8988 | I18: =IFERROR(G18/D18,"") -> 0.83416054 | L18: =SUMIF('Favourite Formulas'!$B$5:$B$36,A18,'Favourite Formulas'!$C$5:$C$36) -> 9712.29
A19: 65805 | B19: 1.1.2.27 | C19: 1.1.2.27 Finance Officer (1 Position @ 18%) | D19: 3500 | E19: 1411.7653 | F19: =SUMIF(Data!$J$4:$J$10000,A19,Data!$S$4:$S$10000) -> 2200.65 | G19: =SUM(E19:F19) -> 3612.4153 | H19: =D19-G19 -> -112.41527 | I19: =IFERROR(G19/D19,"") -> 1.0321186 | L19: =SUMIF('Favourite Formulas'!$B$5:$B$36,A19,'Favourite Formulas'!$C$5:$C$36) -> 2200.65
A20: 65806 | B20: 1.1.2.28 | C20: 1.1.2.28 Administration and IT Officer ((1 Position @ 10%) | D20: 1157.5163 | E20: 783.30808 | F20: =SUMIF(Data!$J$4:$J$10000,A20,Data!$S$4:$S$10000) -> 581.06 | G20: =SUM(E20:F20) -> 1364.3681 | H20: =D20-G20 -> -206.85176 | I20: =IFERROR(G20/D20,"") -> 1.1787031 | L20: =SUMIF('Favourite Formulas'!$B$5:$B$36,A20,'Favourite Formulas'!$C$5:$C$36) -> 581.06
A21: 65807 | B21: 1.1.2.29 | C21: 1.1.2.29 Driver and Support Officer 1, Cleaner 1, and Security Guard 1.( 3 Positions @ 10%) | D21: 1377.7614 | E21: 978.96867 | F21: =SUMIF(Data!$J$4:$J$10000,A21,Data!$S$4:$S$10000) -> 494.41 | G21: =SUM(E21:F21) -> 1473.3787 | H21: =D21-G21 -> -95.617273 | I21: =IFERROR(G21/D21,"") -> 1.0694005 | L21: =SUMIF('Favourite Formulas'!$B$5:$B$36,A21,'Favourite Formulas'!$C$5:$C$36) -> 494.41
A22: 65808 | B22: 1.2.15 | C22: 1.2.15 Country Manager (1 position @ 10%) | D22: 18745 | E22: 4875.0228 | F22: =SUMIF(Data!$J$4:$J$10000,A22,Data!$S$4:$S$10000) -> 7400 | G22: =SUM(E22:F22) -> 12275.023 | H22: =D22-G22 -> 6469.9772 | I22: =IFERROR(G22/D22,"") -> 0.65484251 | L22: =SUMIF('Favourite Formulas'!$B$5:$B$36,A22,'Favourite Formulas'!$C$5:$C$36) -> 7400
A23: 65809 | B23: 1.2.16 | C23: 1.2.16 HO Program Support and Quality Controllers (1 position @10%) | D23: 8795 | E23: 3929.5507 | F23: =SUMIF(Data!$J$4:$J$10000,A23,Data!$S$4:$S$10000) -> 3700 | G23: =SUM(E23:F23) -> 7629.5507 | H23: =D23-G23 -> 1165.4493 | I23: =IFERROR(G23/D23,"") -> 0.86748728 | L23: =SUMIF('Favourite Formulas'!$B$5:$B$36,A23,'Favourite Formulas'!$C$5:$C$36) -> 3700
C24: 1.3 Perdiems for missions/travel5 | D24: 0 | E24: 0 | F24: =SUMIF(Data!$J$4:$J$10000,A24,Data!$S$4:$S$10000) -> 0 | G24: =SUM(E24:F24) -> 0 | H24: =D24-G24 -> 0 | I24: =IFERROR(G24/D24,"") | L24: =SUMIF('Favourite Formulas'!$B$5:$B$36,A24,'Favourite Formulas'!$C$5:$C$36) -> 0
B25: 1.3.1 | C25: 1.3.1 Country Abroad (Staff assigned to the action) | D25: 549.32782 | E25: 498.16461 | F25: =SUMIF(Data!$J$4:$J$10000,A25,Data!$S$4:$S$10000) -> 0 | G25: =SUM(E25:F25) -> 498.16461 | H25: =D25-G25 -> 51.163212 | I25: =IFERROR(G25/D25,"") -> 0.90686215 | L25: =SUMIF('Favourite Formulas'!$B$5:$B$36,A25,'Favourite Formulas'!$C$5:$C$36) -> 0
A26: 65813 | B26: 1.3.2 | C26: 1.3.2 Local (Staff assigned to the action) | D26: 5980 | E26: 2251.3036 | F26: =SUMIF(Data!$J$4:$J$10000,A26,Data!$S$4:$S$10000) -> 1339.74 | G26: =SUM(E26:F26) -> 3591.0436 | H26: =D26-G26 -> 2388.9564 | I26: =IFERROR(G26/D26,"") -> 0.60050896 | L26: =SUMIF('Favourite Formulas'!$B$5:$B$36,A26,'Favourite Formulas'!$C$5:$C$36) -> 1339.74
B27: 1.3.3 | C27: 1.3.3 Seminar/conference participants (Staff assigned to the action) | D27: 0 | E27: 0 | F27: =SUMIF(Data!$J$4:$J$10000,A27,Data!$S$4:$S$10000) -> 0 | G27: =SUM(E27:F27) -> 0 | H27: =D27-G27 -> 0 | I27: =IFERROR(G27/D27,"") | L27: =SUMIF('Favourite Formulas'!$B$5:$B$36,A27,'Favourite Formulas'!$C$5:$C$36) -> 0
B28: I | C28: Subtotal Human Resources | D28: =SUM(D14:D27) -> 99339.932 | E28: =SUM(E14:E27) -> 38159.882 | F28: =SUM(F14:F27) -> 51525.41 | G28: =SUM(G14:G27) -> 89685.292 | H28: =SUM(H14:H27) -> 9654.6398 | I28: =IFERROR(G28/D28,"") -> 0.9028121 | L28: =SUM(L14:L27) -> 51525.41
C29: 2. Travel | D29: 0 | E29: 0 | F29: =SUMIF(Data!$J$4:$J$10000,A29,Data!$S$4:$S$10000) -> 0 | G29: =SUM(E29:F29) -> 0 | H29: =D29-G29 -> 0 | I29: =IFERROR(G29/D29,"") | L29: =SUMIF('Favourite Formulas'!$B$5:$B$36,A29,'Favourite Formulas'!$C$5:$C$36) -> 0
C30: 2.1. International travel_Airfare for international travel to join the meeting at HO. | D30: 500 | E30: 489.49389 | F30: =SUMIF(Data!$J$4:$J$10000,A30,Data!$S$4:$S$10000) -> 0 | G30: =SUM(E30:F30) -> 489.49389 | H30: =D30-G30 -> 10.506106 | I30: =IFERROR(G30/D30,"") -> 0.97898779 | L30: =SUMIF('Favourite Formulas'!$B$5:$B$36,A30,'Favourite Formulas'!$C$5:$C$36) -> 0
A31: 65814 | B31: 2.4 | C31: 2.4 Local transportation_Gasoline for staff to monitor/technical support visit to Partners and joining with stackholders at the provinces | D31: 3500 | E31: 1306.6959 | F31: =SUMIF(Data!$J$4:$J$10000,A31,Data!$S$4:$S$10000) -> 1689.85 | G31: =SUM(E31:F31) -> 2996.5459 | H31: =D31-G31 -> 503.45408 | I31: =IFERROR(G31/D31,"") -> 0.85615598 | L31: =SUMIF('Favourite Formulas'!$B$5:$B$36,A31,'Favourite Formulas'!$C$5:$C$36) -> 1689.85
B32: II | C32: Subtotal Travel | D32: =SUM(D29:D31) -> 4000 | E32: =SUM(E29:E31) -> 1796.1898 | F32: =SUM(F29:F31) -> 1689.85 | G32: =SUM(G29:G31) -> 3486.0398 | H32: =SUM(H29:H31) -> 513.96018 | I32: =IFERROR(G32/D32,"") -> 0.87150995 | L32: =SUM(L29:L31) -> 1689.85
C33: 3. Equipment and supplies | D33: 0 | E33: 0 | F33: =SUMIF(Data!$J$4:$J$10000,A33,Data!$S$4:$S$10000) -> 0 | G33: =SUM(E33:F33) -> 0 | H33: =D33-G33 -> 0 | I33: =IFERROR(G33/D33,"") | L33: =SUMIF('Favourite Formulas'!$B$5:$B$36,A33,'Favourite Formulas'!$C$5:$C$36) -> 0
A34: 65815 | B34: 3.1 | C34: 3.1 Purchase or rent of vehicles | D34: 0 | E34: 0 | F34: =SUMIF(Data!$J$4:$J$10000,A34,Data!$S$4:$S$10000) -> 0 | G34: =SUM(E34:F34) -> 0 | H34: =D34-G34 -> 0 | I34: =IFERROR(G34/D34,"") | L34: =SUMIF('Favourite Formulas'!$B$5:$B$36,A34,'Favourite Formulas'!$C$5:$C$36) -> 0
A35: 65816 | B35: 3.2 | C35: 3.2 Furniture, computer equipment | D35: 821 | E35: 582.37529 | F35: =SUMIF(Data!$J$4:$J$10000,A35,Data!$S$4:$S$10000) -> 0 | G35: =SUM(E35:F35) -> 582.37529 | H35: =D35-G35 -> 238.62471 | I35: =IFERROR(G35/D35,"") -> 0.70934871 | L35: =SUMIF('Favourite Formulas'!$B$5:$B$36,A35,'Favourite Formulas'!$C$5:$C$36) -> 0
A36: 65817 | B36: 3.3 | C36: 3.3 Machines, tools.. | D36: 0 | E36: 0 | F36: =SUMIF(Data!$J$4:$J$10000,A36,Data!$S$4:$S$10000) -> 0 | G36: =SUM(E36:F36) -> 0 | H36: =D36-G36 -> 0 | I36: =IFERROR(G36/D36,"") | L36: =SUMIF('Favourite Formulas'!$B$5:$B$36,A36,'Favourite Formulas'!$C$5:$C$36) -> 0
A37: 65818 | B37: 3.4 | C37: 3.4 Spare parts/equipment for machines, tools | D37: 200 | E37: 184.12853 | F37: =SUMIF(Data!$J$4:$J$10000,A37,Data!$S$4:$S$10000) -> 0 | G37: =SUM(E37:F37) -> 184.12853 | H37: =D37-G37 -> 15.871473 | I37: =IFERROR(G37/D37,"") -> 0.92064263 | L37: =SUMIF('Favourite Formulas'!$B$5:$B$36,A37,'Favourite Formulas'!$C$5:$C$36) -> 0
A38: 65819 | B38: 3.5 | C38: 3.5 Other (please specify) | D38: 0 | E38: 0 | F38: =SUMIF(Data!$J$4:$J$10000,A38,Data!$S$4:$S$10000) -> 0 | G38: =SUM(E38:F38) -> 0 | H38: =D38-G38 -> 0 | I38: =IFERROR(G38/D38,"") | L38: =SUMIF('Favourite Formulas'!$B$5:$B$36,A38,'Favourite Formulas'!$C$5:$C$36) -> 0
B39: III | C39: Subtotal Equipment and supplies | D39: =SUM(D33:D38) -> 1021 | E39: =SUM(E33:E38) -> 766.50382 | F39: =SUM(F33:F38) -> 0 | G39: =SUM(G33:G38) -> 766.50382 | H39: =SUM(H33:H38) -> 254.49618 | I39: =IFERROR(G39/D39,"") -> 0.75073831 | L39: =SUM(L33:L38) -> 0
C40: 4. Local office | D40: 0 | E40: 0 | F40: =SUMIF(Data!$J$4:$J$10000,A40,Data!$S$4:$S$10000) -> 0 | G40: =SUM(E40:F40) -> 0 | H40: =D40-G40 -> 0 | I40: =IFERROR(G40/D40,"") | L40: =SUMIF('Favourite Formulas'!$B$5:$B$36,A40,'Favourite Formulas'!$C$5:$C$36) -> 0
B41: 4.1 | C41: 4.1 Vehicle costs | D41: 603.8469 | E41: 346.80134 | F41: =SUMIF(Data!$J$4:$J$10000,A41,Data!$S$4:$S$10000) -> 0 | G41: =SUM(E41:F41) -> 346.80134 | H41: =D41-G41 -> 257.04556 | I41: =IFERROR(G41/D41,"") -> 0.57431998 | L41: =SUMIF('Favourite Formulas'!$B$5:$B$36,A41,'Favourite Formulas'!$C$5:$C$36) -> 0
...

Sheet Data
A1: Original Data from Accouting Sytem | S1: =SUBTOTAL(9,S4:S1000) -> 205244.56
A3: T | B3: TT | C3: TransNo | D3: # | E3: Trans.date | F3: Period | G3: Account | H3: Account (T) | I3: Unit | J3: Activity code | K3: Project | L3: Project (T) | M3: Resource | N3: Resource (T) | O3: Costce | P3: Costce (T) | Q3: TC | R3: Text | S3: Company Curr | T3: Budget Code | U3: Quarter
A4: B | B4: H5 | C4: 1572754 | D4: 1 | E4: 44536 | F4: 202212 | G4: 45520 | H4: Repairs and maintenance of computers | I4: 590 | J4: 65822 | K4: PID65000 | L4: EU | O4: 5 | P4: Southeast Asia | Q4: 0 | R4: Monthly**************e_Trust***** | S4: 53.9 | T4: =IF(J4="","","FCR-"&_xlfn.XLOOKUP(J4,Bud_Vs_Exp!$A$14:$A$72,Bud_Vs_Exp!$B$14:$B$72,"")) -> FCR-4.4 | U4: =_xlfn.XLOOKUP(F4,SetUp!$O$2:$O$13,SetUp!$P$2:$P$13,"") -> Q4
A5: B | B5: H5 | C5: 1572760 | D5: 1 | E5: 44544 | F5: 202212 | G5: 45020 | H5: Electricity | I5: 590 | J5: 65822 | K5: PID65000 | L5: EU | O5: 5 | P5: Southeast Asia | Q5: 0 | R5: Electri************** 72_Nov***** | S5: 64.75 | T5: =IF(J5="","","FCR-"&_xlfn.XLOOKUP(J5,Bud_Vs_Exp!$A$14:$A$72,Bud_Vs_Exp!$B$14:$B$72,"")) -> FCR-4.4 | U5: =_xlfn.XLOOKUP(F5,SetUp!$O$2:$O$13,SetUp!$P$2:$P$13,"") -> Q4
A6: B | B6: H5 | C6: 1572760 | D6: 0 | E6: 44544 | F6: 202212 | G6: 46150 | H6: Printed matter | I6: 590 | J6: 65821 | K6: PID65000 | L6: EU | O6: 5 | P6: Southeast Asia | Q6: 0 | R6: Printin************** shop_s***** | S6: 4.22 | T6: =IF(J6="","","FCR-"&_xlfn.XLOOKUP(J6,Bud_Vs_Exp!$A$14:$A$72,Bud_Vs_Exp!$B$14:$B$72,"")) -> FCR-4.3 | U6: =_xlfn.XLOOKUP(F6,SetUp!$O$2:$O$13,SetUp!$P$2:$P$13,"") -> Q4
A7: B | B7: H5 | C7: 1572766 | D7: 0 | E7: 44553 | F7: 202212 | G7: 47622 | H7: Health care (Regional offices) | I7: 590 | J7: 65802 | K7: PID65000 | L7: EU | O7: 5 | P7: Southeast Asia | Q7: 0 | R7: Remaini**************cal cos***** | S7: 291.22 | T7: =IF(J7="","","FCR-"&_xlfn.XLOOKUP(J7,Bud_Vs_Exp!$A$14:$A$72,Bud_Vs_Exp!$B$14:$B$72,"")) -> FCR-1.1.1.33 | U7: =_xlfn.XLOOKUP(F7,SetUp!$O$2:$O$13,SetUp!$P$2:$P$13,"") -> Q4
A8: B | B8: H5 | C8: 1572766 | D8: 4 | E8: 44553 | F8: 202212 | G8: 47622 | H8: Health care (Regional offices) | I8: 590 | J8: 65804 | K8: PID65000 | L8: EU | O8: 5 | P8: Southeast Asia | Q8: 0 | R8: Remaini**************cal cos***** | S8: 22.26 | T8: =IF(J8="","","FCR-"&_xlfn.XLOOKUP(J8,Bud_Vs_Exp!$A$14:$A$72,Bud_Vs_Exp!$B$14:$B$72,"")) -> FCR-1.1.2.26 | U8: =_xlfn.XLOOKUP(F8,SetUp!$O$2:$O$13,SetUp!$P$2:$P$13,"") -> Q4
A9: B | B9: H5 | C9: 1572766 | D9: 9 | E9: 44553 | F9: 202212 | G9: 47622 | H9: Health care (Regional offices) | I9: 590 | J9: 65807 | K9: PID65000 | L9: EU | O9: 5 | P9: Southeast Asia | Q9: 0 | R9: Remaini**************cal cos***** | S9: 38.71 | T9: =IF(J9="","","FCR-"&_xlfn.XLOOKUP(J9,Bud_Vs_Exp!$A$14:$A$72,Bud_Vs_Exp!$B$14:$B$72,"")) -> FCR-1.1.2.29 | U9: =_xlfn.XLOOKUP(F9,SetUp!$O$2:$O$13,SetUp!$P$2:$P$13,"") -> Q4
A10: B | B10: H5 | C10: 1572766 | D10: 14 | E10: 44553 | F10: 202212 | G10: 47622 | H10: Health care (Regional offices) | I10: 590 | J10: 65806 | K10: PID65000 | L10: EU | O10: 5 | P10: Southeast Asia | Q10: 0 | R10: Remaini**************cal cos***** | S10: 54.1 | T10: =IF(J10="","","FCR-"&_xlfn.XLOOKUP(J10,Bud_Vs_Exp!$A$14:$A$72,Bud_Vs_Exp!$B$14:$B$72,"")) -> FCR-1.1.2.28 | U10: =_xlfn.XLOOKUP(F10,SetUp!$O$2:$O$13,SetUp!$P$2:$P$13,"") -> Q4
A11: B | B11: H5 | C11: 1572767 | D11: 7 | E11: 44553 | F11: 202212 | G11: 47390 | H11: Other employee benefits | I11: 590 | J11: 65801 | K11: PID65000 | L11: EU | O11: 5 | P11: Southeast Asia | Q11: 0 | R11: Communi**************rey_Dec***** | S11: 20.47 | T11: =IF(J11="","","FCR-"&_xlfn.XLOOKUP(J11,Bud_Vs_Exp!$A$14:$A$72,Bud_Vs_Exp!$B$14:$B$72,"")) -> FCR-1.1.1.32 | U11: =_xlfn.XLOOKUP(F11,SetUp!$O$2:$O$13,SetUp!$P$2:$P$13,"") -> Q4
A12: B | B12: H5 | C12: 1572767 | D12: 1 | E12: 44553 | F12: 202212 | G12: 47211 | H12: Salary (employees outside HO) | I12: 590 | J12: 65801 | K12: PID65000 | L12: EU | O12: 5 | P12: Southeast Asia | Q12: 0 | R12: Salary **************1_EU***** | S12: 1096.78 | T12: =IF(J12="","","FCR-"&_xlfn.XLOOKUP(J12,Bud_Vs_Exp!$A$14:$A$72,Bud_Vs_Exp!$B$14:$B$72,"")) -> FCR-1.1.1.32 | U12: =_xlfn.XLOOKUP(F12,SetUp!$O$2:$O$13,SetUp!$P$2:$P$13,"") -> Q4
A13: B | B13: H5 | C13: 1572767 | D13: 4 | E13: 44553 | F13: 202212 | G13: 47211 | H13: Salary (employees outside HO) | I13: 590 | J13: 65801 | K13: PID65000 | L13: EU | O13: 5 | P13: Southeast Asia | Q13: 0 | R13: Seniori************** 2021 B***** | S13: 387.3 | T13: =IF(J13="","","FCR-"&_xlfn.XLOOKUP(J13,Bud_Vs_Exp!$A$14:$A$72,Bud_Vs_Exp!$B$14:$B$72,"")) -> FCR-1.1.1.32 | U13: =_xlfn.XLOOKUP(F13,SetUp!$O$2:$O$13,SetUp!$P$2:$P$13,"") -> Q4
A14: B | B14: X5 | C14: 1572770 | D14: 2 | E14: 44558 | F14: 202212 | G14: 47090 | H14: Change in accrued holiday pay provision | I14: 590 | J14: 65801 | K14: PID65000 | L14: EU | O14: 5 | P14: Southeast Asia | Q14: 0 | R14: Rev: Ac**************eave Bo***** | S14: -76.11 | T14: =IF(J14="","","FCR-"&_xlfn.XLOOKUP(J14,Bud_Vs_Exp!$A$14:$A$72,Bud_Vs_Exp!$B$14:$B$72,"")) -> FCR-1.1.1.32 | U14: =_xlfn.XLOOKUP(F14,SetUp!$O$2:$O$13,SetUp!$P$2:$P$13,"") -> Q4
A15: B | B15: X5 | C15: 1572770 | D15: 14 | E15: 44558 | F15: 202212 | G15: 47090 | H15: Change in accrued holiday pay provision | I15: 590 | J15: 65802 | K15: PID65000 | L15: EU | O15: 5 | P15: Southeast Asia | Q15: 0 | R15: Accrued**************LyLy fr***** | S15: 207.28 | T15: =IF(J15="","","FCR-"&_xlfn.XLOOKUP(J15,Bud_Vs_Exp!$A$14:$A$72,Bud_Vs_Exp!$B$14:$B$72,"")) -> FCR-1.1.1.33 | U15: =_xlfn.XLOOKUP(F15,SetUp!$O$2:$O$13,SetUp!$P$2:$P$13,"") -> Q4
... A20: B | B20: X5 | C20: 1572772 | D20: 0 | E20: 44558 | F20: 202212 | G20: 47217 | H20: Severance pay | I20: 590 | J20: 65806 | K20: PID65000 | L20: EU | O20: 5 | P20: Southeast Asia | Q20: 0 | R20: Seniori************** of 202***** | S20: 47.48 | T20: =IF(J20="","","FCR-"&_xlfn.XLOOKUP(J20,Bud_Vs_Exp!$A$14:$A$72,Bud_Vs_Exp!$B$14:$B$72,"")) -> FCR-1.1.2.28 | U20: =_xlfn.XLOOKUP(F20,SetUp!$O$2:$O$13,SetUp!$P$2:$P$13,"") -> Q4
A21: B | B21: X5 | C21: 1572772 | D21: 11 | E21: 44558 | F21: 202212 | G21: 47217 | H21: Severance pay | I21: 590 | J21: 65805 | K21: PID65000 | L21: =IF(LEFT(J21,3)="658","EU") -> EU | O21: 5 | P21: Southeast Asia | Q21: 0 | R21: Seniori************** of 202***** | S21: 80.01 | T21: =IF(J21="","","FCR-"&_xlfn.XLOOKUP(J21,Bud_Vs_Exp!$A$14:$A$72,Bud_Vs_Exp!$B$14:$B$72,"")) -> FCR-1.1.2.27 | U21: =_xlfn.XLOOKUP(F21,SetUp!$O$2:$O$13,SetUp!$P$2:$P$13,"") -> Q4
A22: B | B22: X5 | C22: 1572772 | D22: 9 | E22: 44558 | F22: 202212 | G22: 47217 | H22: Severance pay | I22: 590 | J22: 65802 | K22: PID65000 | L22: EU | O22: 5 | P22: Southeast Asia | Q22: 0 | R22: Seniori************** of 202***** | S22: 504.57 | T22: =IF(J22="","","FCR-"&_xlfn.XLOOKUP(J22,Bud_Vs_Exp!$A$14:$A$72,Bud_Vs_Exp!$B$14:$B$72,"")) -> FCR-1.1.1.33 | U22: =_xlfn.XLOOKUP(F22,SetUp!$O$2:$O$13,SetUp!$P$2:$P$13,"") -> Q4
A23: B | B23: X5 | C23: 1572772 | D23: 6 | E23: 44558 | F23: 202212 | G23: 47217 | H23: Severance pay | I23: 590 | J23: 65804 | K23: PID65000 | L23: EU | O23: 5 | P23: Southeast Asia | Q23: 0 | R23: Seniori************** of 202***** | S23: 103.84 | T23: =IF(J23="","","FCR-"&_xlfn.XLOOKUP(J23,Bud_Vs_Exp!$A$14:$A$72,Bud_Vs_Exp!$B$14:$B$72,"")) -> FCR-1.1.2.26 | U23: =_xlfn.XLOOKUP(F23,SetUp!$O$2:$O$13,SetUp!$P$2:$P$13,"") -> Q4
A24: B | B24: H5 | C24: 1572773 | D24: 0 | E24: 44561 | F24: 202212 | G24: 46570 | H24: Banking costs | I24: 590 | J24: 65827 | K24: PID65000 | L24: EU | O24: 5 | P24: Southeast Asia | Q24: 0 | R24: Monthly**************Dec'21***** | S24: 1.5 | T24: =IF(J24="","","FCR-"&_xlfn.XLOOKUP(J24,Bud_Vs_Exp!$A$14:$A$72,Bud_Vs_Exp!$B$14:$B$72,"")) -> FCR-5.6 | U24: =_xlfn.XLOOKUP(F24,SetUp!$O$2:$O$13,SetUp!$P$2:$P$13,"") -> Q4
A25: B | B25: H5 | C25: 1572774 | D25: 0 | E25: 44561 | F25: 202212 | G25: 45020 | H25: Electricity | I25: 590 | J25: 65822 | K25: PID65000 | L25: EU | O25: 5 | P25: Southeast Asia | Q25: 0 | R25: Accrued**************partmen***** | S25: 50.58 | T25: =IF(J25="","","FCR-"&_xlfn.XLOOKUP(J25,Bud_Vs_Exp!$A$14:$A$72,Bud_Vs_Exp!$B$14:$B$72,"")) -> FCR-4.4 | U25: =_xlfn.XLOOKUP(F25,SetUp!$O$2:$O$13,SetUp!$P$2:$P$13,"") -> Q4
A26: B | B26: X5 | C26: 1572775 | D26: 2 | E26: 44561 | F26: 202212 | G26: 47211 | H26: Salary (employees outside HO) | I26: 590 | J26: 65806 | K26: PID65000 | L26: EU | O26: 5 | P26: Southeast Asia | Q26: 0 | R26: Salary **************c'21_EU***** | S26: 131.46 | T26: =IF(J26="","","FCR-"&_xlfn.XLOOKUP(J26,Bud_Vs_Exp!$A$14:$A$72,Bud_Vs_Exp!$B$14:$B$72,"")) -> FCR-1.1.2.28 | U26: =_xlfn.XLOOKUP(F26,SetUp!$O$2:$O$13,SetUp!$P$2:$P$13,"") -> Q4
A27: B | B27: X5 | C27: 1572775 | D27: 5 | E27: 44561 | F27: 202212 | G27: 47211 | H27: Salary (employees outside HO) | I27: 590 | J27: 65804 | K27: PID65000 | L27: EU | O27: 5 | P27: Southeast Asia | Q27: 0 | R27: Salary **************'21_EU***** | S27: 301.77 | T27: =IF(J27="","","FCR-"&_xlfn.XLOOKUP(J27,Bud_Vs_Exp!$A$14:$A$72,Bud_Vs_Exp!$B$14:$B$72,"")) -> FCR-1.1.2.26 | U27: =_xlfn.XLOOKUP(F27,SetUp!$O$2:$O$13,SetUp!$P$2:$P$13,"") -> Q4
A28: B | B28: X5 | C28: 1572775 | D28: 7 | E28: 44561 | F28: 202212 | G28: 47211 | H28: Salary (employees outside HO) | I28: 590 | J28: 65802 | K28: PID65000 | L28: EU | O28: 5 | P28: Southeast Asia | Q28: 0 | R28: Salary **************'21_EU***** | S28: 1517.15 | T28: =IF(J28="","","FCR-"&_xlfn.XLOOKUP(J28,Bud_Vs_Exp!$A$14:$A$72,Bud_Vs_Exp!$B$14:$B$72,"")) -> FCR-1.1.1.33 | U28: =_xlfn.XLOOKUP(F28,SetUp!$O$2:$O$13,SetUp!$P$2:$P$13,"") -> Q4
A29: B | B29: X5 | C29: 1572775 | D29: 9 | E29: 44561 | F29: 202212 | G29: 47211 | H29: Salary (employees outside HO) | I29: 590 | J29: 65805 | K29: PID65000 | L29: =IF(LEFT(J29,3)="658","EU") -> EU | O29: 5 | P29: Southeast Asia | Q29: 0 | R29: Salary **************'21_EU***** | S29: 234.84 | T29: =IF(J29="","","FCR-"&_xlfn.XLOOKUP(J29,Bud_Vs_Exp!$A$14:$A$72,Bud_Vs_Exp!$B$14:$B$72,"")) -> FCR-1.1.2.27 | U29: =_xlfn.XLOOKUP(F29,SetUp!$O$2:$O$13,SetUp!$P$2:$P$13,"") -> Q4
A30: B | B30: X5 | C30: 1572775 | D30: 12 | E30: 44561 | F30: 202212 | G30: 47211 | H30: Salary (employees outside HO) | I30: 590 | J30: 65807 | K30: PID65000 | L30: EU | O30: 5 | P30: Southeast Asia | Q30: 0 | R30: Salary **************c'21_EU***** | S30: 54.56 | T30: =IF(J30="","","FCR-"&_xlfn.XLOOKUP(J30,Bud_Vs_Exp!$A$14:$A$72,Bud_Vs_Exp!$B$14:$B$72,"")) -> FCR-1.1.2.29 | U30: =_xlfn.XLOOKUP(F30,SetUp!$O$2:$O$13,SetUp!$P$2:$P$13,"") -> Q4
A31: B | B31: X5 | C31: 1572776 | D31: 2 | E31: 44561 | F31: 202212 | G31: 47390 | H31: Other employee benefits | I31: 590 | J31: 65806 | K31: PID65000 | L31: EU | O31: 5 | P31: Southeast Asia | Q31: 0 | R31: Communi**************nea in ***** | S31: 2.7 | T31: =IF(J31="","","FCR-"&_xlfn.XLOOKUP(J31,Bud_Vs_Exp!$A$14:$A$72,Bud_Vs_Exp!$B$14:$B$72,"")) -> FCR-1.1.2.28 | U31: =_xlfn.XLOOKUP(F31,SetUp!$O$2:$O$13,SetUp!$P$2:$P$13,"") -> Q4
A32: B | B32: X5 | C32: 1572776 | D32: 5 | E32: 44561 | F32: 202212 | G32: 47390 | H32: Other employee benefits | I32: 590 | J32: 65804 | K32: PID65000 | L32: EU | O32: 5 | P32: Southeast Asia | Q32: 0 | R32: Communi**************Da in D***** | S32: 5.58 | T32: =IF(J32="","","FCR-"&_xlfn.XLOOKUP(J32,Bud_Vs_Exp!$A$14:$A$72,Bud_Vs_Exp!$B$14:$B$72,"")) -> FCR-1.1.2.26 | U32: =_xlfn.XLOOKUP(F32,SetUp!$O$2:$O$13,SetUp!$P$2:$P$13,"") -> Q4
A33: B | B33: X5 | C33: 1572776 | D33: 7 | E33: 44561 | F33: 202212 | G33: 47390 | H33: Other employee benefits | I33: 590 | J33: 65802 | K33: PID65000 | L33: EU | O33: 5 | P33: Southeast Asia | Q33: 0 | R33: Communi**************Ly in D***** | S33: 39.92 | T33: =IF(J33="","","FCR-"&_xlfn.XLOOKUP(J33,Bud_Vs_Exp!$A$14:$A$72,Bud_Vs_Exp!$B$14:$B$72,"")) -> FCR-1.1.1.33 | U33: =_xlfn.XLOOKUP(F33,SetUp!$O$2:$O$13,SetUp!$P$2:$P$13,"") -> Q4
A34: B | B34: X5 | C34: 1572776 | D34: 9 | E34: 44561 | F34: 202212 | G34: 47390 | H34: Other employee benefits | I34: 590 | J34: 65805 | K34: PID65000 | L34: =IF(LEFT(J34,3)="658","EU") -> EU | O34: 5 | P34: Southeast Asia | Q34: 0 | R34: Communi**************sa in D***** | S34: 2.85 | T34: =IF(J34="","","FCR-"&_xlfn.XLOOKUP(J34,Bud_Vs_Exp!$A$14:$A$72,Bud_Vs_Exp!$B$14:$B$72,"")) -> FCR-1.1.2.27 | U34: =_xlfn.XLOOKUP(F34,SetUp!$O$2:$O$13,SetUp!$P$2:$P$13,"") -> Q4
A35: B | B35: X5 | C35: 1572776 | D35: 12 | E35: 44561 | F35: 202212 | G35: 47390 | H35: Other employee benefits | I35: 590 | J35: 65807 | K35: PID65000 | L35: EU | O35: 5 | P35: Southeast Asia | Q35: 0 | R35: Communi**************uch in ***** | S35: 0.75 | T35: =IF(J35="","","FCR-"&_xlfn.XLOOKUP(J35,Bud_Vs_Exp!$A$14:$A$72,Bud_Vs_Exp!$B$14:$B$72,"")) -> FCR-1.1.2.29 | U35: =_xlfn.XLOOKUP(F35,SetUp!$O$2:$O$13,SetUp!$P$2:$P$13,"") -> Q4
A36: B | B36: X5 | C36: 1572777 | D36: 10 | E36: 44561 | F36: 202212 | G36: 47586 | H36: Personnel insurance (employees outside HO) | I36: 590 | J36: 65802 | K36: PID65000 | L36: EU | O36: 5 | P36: Southeast Asia | Q36: 0 | R36: health **************urance ***** | S36: 12.51 | T36: =IF(J36="","","FCR-"&_xlfn.XLOOKUP(J36,Bud_Vs_Exp!$A$14:$A$72,Bud_Vs_Exp!$B$14:$B$72,"")) -> FCR-1.1.1.33 | U36: =_xlfn.XLOOKUP(F36,SetUp!$O$2:$O$13,SetUp!$P$2:$P$13,"") -> Q4
A37: B | B37: X5 | C37: 1572777 | D37: 2 | E37: 44561 | F37: 202212 | G37: 47586 | H37: Personnel insurance (employees outside HO) | I37: 590 | J37: 65801 | K37: PID65000 | L37: EU | O37: 5 | P37: Southeast Asia | Q37: 0 | R37: health **************urance ***** | S37: 6.41 | T37: =IF(J37="","","FCR-"&_xlfn.XLOOKUP(J37,Bud_Vs_Exp!$A$14:$A$72,Bud_Vs_Exp!$B$14:$B$72,"")) -> FCR-1.1.1.32 | U37: =_xlfn.XLOOKUP(F37,SetUp!$O$2:$O$13,SetUp!$P$2:$P$13,"") -> Q4
A38: B | B38: X5 | C38: 1572777 | D38: 5 | E38: 44561 | F38: 202212 | G38: 47586 | H38: Personnel insurance (employees outside HO) | I38: 590 | J38: 65806 | K38: PID65000 | L38: EU | O38: 5 | P38: Southeast Asia | Q38: 0 | R38: health **************urance ***** | S38: 1.7 | T38: =IF(J38="","","FCR-"&_xlfn.XLOOKUP(J38,Bud_Vs_Exp!$A$14:$A$72,Bud_Vs_Exp!$B$14:$B$72,"")) -> FCR-1.1.2.28 | U38: =_xlfn.XLOOKUP(F38,SetUp!$O$2:$O$13,SetUp!$P$2:$P$13,"") -> Q4
A39: B | B39: X5 | C39: 1572777 | D39: 8 | E39: 44561 | F39: 202212 | G39: 47586 | H39: Personnel insurance (employees outside HO) | I39: 590 | J39: 65804 | K39: PID65000 | L39: EU | O39: 5 | P39: Southeast Asia | Q39: 0 | R39: health **************urance ***** | S39: 1.75 | T39: =IF(J39="","","FCR-"&_xlfn.XLOOKUP(J39,Bud_Vs_Exp!$A$14:$A$72,Bud_Vs_Exp!$B$14:$B$72,"")) -> FCR-1.1.2.26 | U39: =_xlfn.XLOOKUP(F39,SetUp!$O$2:$O$13,SetUp!$P$2:$P$13,"") -> Q4
A40: B | B40: X5 | C40: 1572777 | D40: 12 | E40: 44561 | F40: 202212 | G40: 47586 | H40: Personnel insurance (employees outside HO) | I40: 590 | J40: 65805 | K40: PID65000 | L40: =IF(LEFT(J40,3)="658","EU") -> EU | O40: 5 | P40: Southeast Asia | Q40: 0 | R40: health **************urance ***** | S40: 2.98 | T40: =IF(J40="","","FCR-"&_xlfn.XLOOKUP(J40,Bud_Vs_Exp!$A$14:$A$72,Bud_Vs_Exp!$B$14:$B$72,"")) -> FCR-1.1.2.27 | U40: =_xlfn.XLOOKUP(F40,SetUp!$O$2:$O$13,SetUp!$P$2:$P$13,"") -> Q4
A41: B | B41: X5 | C41: 1572777 | D41: 15 | E41: 44561 | F41: 202212 | G41: 47586 | H41: Personnel insurance (employees outside HO) | I41: 590 | J41: 65807 | K41: PID65000 | L41: EU | O41: 5 | P41: Southeast Asia | Q41: 0 | R41: health **************urance ***** | S41: 2.35 | T41: =IF(J41="","","FCR-"&_xlfn.XLOOKUP(J41,Bud_Vs_Exp!$A$14:$A$72,Bud_Vs_Exp!$B$14:$B$72,"")) -> FCR-1.1.2.29 | U41: =_xlfn.XLOOKUP(F41,SetUp!$O$2:$O$13,SetUp!$P$2:$P$13,"") -> Q4
A42: B | B42: X5 | C42: 1572778 | D42: 8 | E42: 44561 | F42: 202212 | G42: 46990 | H42: Other external expenses | I42: 590 | J42: 65804 | K42: PID65000 | L42: EU | O42: 5 | P42: Southeast Asia | Q42: 0 | R42: NSSF to**************1_EU***** | S42: 1.11 | T42: =IF(J42="","","FCR-"&_xlfn.XLOOKUP(J42,Bud_Vs_Exp!$A$14:$A$72,Bud_Vs_Exp!$B$14:$B$72,"")) -> FCR-1.1.2.26 | U42: =_xlfn.XLOOKUP(F42,SetUp!$O$2:$O$13,SetUp!$P$2:$P$13,"") -> Q4
A43: B | B43: X5 | C43: 1572778 | D43: 10 | E43: 44561 | F43: 202212 | G43: 46990 | H43: Other external expenses | I43: 590 | J43: 65802 | K43: PID65000 | L43: EU | O43: 5 | P43: Southeast Asia | Q43: 0 | R43: NSSF to**************1_EU***** | S43: 7.94 | T43: =IF(J43="","","FCR-"&_xlfn.XLOOKUP(J43,Bud_Vs_Exp!$A$14:$A$72,Bud_Vs_Exp!$B$14:$B$72,"")) -> FCR-1.1.1.33 | U43: =_xlfn.XLOOKUP(F43,SetUp!$O$2:$O$13,SetUp!$P$2:$P$13,"") -> Q4
A44: B | B44: X5 | C44: 1572778 | D44: 12 | E44: 44561 | F44: 202212 | G44: 46990 | H44: Other external expenses | I44: 590 | J44: 65805 | K44: PID65000 | L44: =IF(LEFT(J44,3)="658","EU") -> EU | O44: 5 | P44: Southeast Asia | Q44: 0 | R44: NSSF to**************1_EU***** | S44: 1.89 | T44: =IF(J44="","","FCR-"&_xlfn.XLOOKUP(J44,Bud_Vs_Exp!$A$14:$A$72,Bud_Vs_Exp!$B$14:$B$72,"")) -> FCR-1.1.2.27 | U44: =_xlfn.XLOOKUP(F44,SetUp!$O$2:$O$13,SetUp!$P$2:$P$13,"") -> Q4
A45: B | B45: X5 | C45: 1572778 | D45: 15 | E45: 44561 | F45: 202212 | G45: 46990 | H45: Other external expenses | I45: 590 | J45: 65807 | K45: PID65000 | L45: EU | O45: 5 | P45: Southeast Asia | Q45: 0 | R45: NSSF to**************21_EU***** | S45: 1.49 | T45: =IF(J45="","","FCR-"&_xlfn.XLOOKUP(J45,Bud_Vs_Exp!$A$14:$A$72,Bud_Vs_Exp!$B$14:$B$72,"")) -> FCR-1.1.2.29 | U45: =_xlfn.XLOOKUP(F45,SetUp!$O$2:$O$13,SetUp!$P$2:$P$13,"") -> Q4
...

Sheet Filter
A1: DFAT | R1: TOTAL | S1: =SUM(S3:S90) -> 22088.68 | Y1: VSTACK
A3: T | B3: TT | C3: TransNo | D3: # | E3: Trans.date | F3: Period | G3: Account | H3: Account (T) | I3: Unit | J3: Activity code | K3: Project | L3: Project (T) | M3: Resource | N3: Resource (T) | O3: Costce | P3: Costce (T) | Q3: TC | R3: Text | S3: Company Curr | T3: Budget Code | U3: Quarter | Y3: {=_xlfn.VSTACK($A$3:$U$90,A104:U723)} -> T | Z3: TT | AA3: TransNo | AB3: # | AC3: Trans.date | AD3: Period | AE3: Account | AF3: Account (T) | AG3: Unit | AH3: Activity code | AI3: Project | AJ3: Project (T) | AK3: Resource | AL3: Resource (T) | AM3: Costce | AN3: Costce (T) | AO3: TC | AP3: Text | AQ3: Company Curr | AR3: Budget Code | AS3: Quarter
A4: {=_xlfn._xlws.FILTER(Data!$A$4:$U$1000,Data!$L$4:$L$1000=A1)} -> B | B4: H5 | C4: 1572766 | D4: 1 | E4: 44553 | F4: 202212 | G4: 47622 | H4: Health care (Regional offices) | I4: 590 | J4: 66131 | K4: PID66000 | L4: DFAT | M4: 0 | N4: 0 | O4: 5 | P4: Southeast Asia | Q4: 0 | R4: Remaini**************cal cos***** | S4: 73.49 | T4: FCR- | U4: Q4 | Y4: B | Z4: H5 | AA4: 1572766 | AB4: 1 | AC4: 44553 | AD4: 202212 | AE4: 47622 | AF4: Health care (Regional offices) | AG4: 590 | AH4: 66131 | AI4: PID66000 | AJ4: DFAT | AK4: 0 | AL4: 0 | AM4: 5 | AN4: Southeast Asia | AO4: 0 | AP4: Remaini**************cal cos***** | AQ4: 73.49 | AR4: FCR- | AS4: Q4
A5: B | B5: H5 | C5: 1572767 | D5: 6 | E5: 44553 | F5: 202212 | G5: 47390 | H5: Other employee benefits | I5: 590 | J5: 66136 | K5: PID66000 | L5: DFAT | M5: 0 | N5: 0 | O5: 5 | P5: Southeast Asia | Q5: 0 | R5: Communi**************rey_Dec***** | S5: 4.22 | T5: FCR- | U5: Q4 | Y5: B | Z5: H5 | AA5: 1572767 | AB5: 6 | AC5: 44553 | AD5: 202212 | AE5: 47390 | AF5: Other employee benefits | AG5: 590 | AH5: 66136 | AI5: PID66000 | AJ5: DFAT | AK5: 0 | AL5: 0 | AM5: 5 | AN5: Southeast Asia | AO5: 0 | AP5: Communi**************rey_Dec***** | AQ5: 4.22 | AR5: FCR- | AS5: Q4
A6: B | B6: H5 | C6: 1572767 | D6: 0 | E6: 44553 | F6: 202212 | G6: 47211 | H6: Salary (employees outside HO) | I6: 590 | J6: 66136 | K6: PID66000 | L6: DFAT | M6: 0 | N6: 0 | O6: 5 | P6: Southeast Asia | Q6: 0 | R6: Salary **************1_MACP***** | S6: 226.11 | T6: FCR- | U6: Q4 | Y6: B | Z6: H5 | AA6: 1572767 | AB6: 0 | AC6: 44553 | AD6: 202212 | AE6: 47211 | AF6: Salary (employees outside HO) | AG6: 590 | AH6: 66136 | AI6: PID66000 | AJ6: DFAT | AK6: 0 | AL6: 0 | AM6: 5 | AN6: Southeast Asia | AO6: 0 | AP6: Salary **************1_MACP***** | AQ6: 226.11 | AR6: FCR- | AS6: Q4
A7: B | B7: H5 | C7: 1572767 | D7: 3 | E7: 44553 | F7: 202212 | G7: 47211 | H7: Salary (employees outside HO) | I7: 590 | J7: 66136 | K7: PID66000 | L7: DFAT | M7: 0 | N7: 0 | O7: 5 | P7: Southeast Asia | Q7: 0 | R7: Seniori************** 2021 B***** | S7: 209.98 | T7: FCR- | U7: Q4 | Y7: B | Z7: H5 | AA7: 1572767 | AB7: 3 | AC7: 44553 | AD7: 202212 | AE7: 47211 | AF7: Salary (employees outside HO) | AG7: 590 | AH7: 66136 | AI7: PID66000 | AJ7: DFAT | AK7: 0 | AL7: 0 | AM7: 5 | AN7: Southeast Asia | AO7: 0 | AP7: Seniori************** 2021 B***** | AQ7: 209.98 | AR7: FCR- | AS7: Q4
A8: B | B8: X5 | C8: 1572770 | D8: 1 | E8: 44558 | F8: 202212 | G8: 47090 | H8: Change in accrued holiday pay provision | I8: 590 | J8: 66136 | K8: PID66000 | L8: DFAT | M8: 0 | N8: 0 | O8: 5 | P8: Southeast Asia | Q8: 0 | R8: Rev: Ac**************eave Bo***** | S8: -127.27 | T8: FCR- | U8: Q4 | Y8: B | Z8: X5 | AA8: 1572770 | AB8: 1 | AC8: 44558 | AD8: 202212 | AE8: 47090 | AF8: Change in accrued holiday pay provision | AG8: 590 | AH8: 66136 | AI8: PID66000 | AJ8: DFAT | AK8: 0 | AL8: 0 | AM8: 5 | AN8: Southeast Asia | AO8: 0 | AP8: Rev: Ac**************eave Bo***** | AQ8: -127.27 | AR8: FCR- | AS8: Q4
A9: B | B9: X5 | C9: 1572770 | D9: 13 | E9: 44558 | F9: 202212 | G9: 47090 | H9: Change in accrued holiday pay provision | I9: 590 | J9: 66131 | K9: PID66000 | L9: DFAT | M9: 0 | N9: 0 | O9: 5 | P9: Southeast Asia | Q9: 0 | R9: Accrued**************LyLy fr***** | S9: 51.81 | T9: FCR- | U9: Q4 | Y9: B | Z9: X5 | AA9: 1572770 | AB9: 13 | AC9: 44558 | AD9: 202212 | AE9: 47090 | AF9: Change in accrued holiday pay provision | AG9: 590 | AH9: 66131 | AI9: PID66000 | AJ9: DFAT | AK9: 0 | AL9: 0 | AM9: 5 | AN9: Southeast Asia | AO9: 0 | AP9: Accrued**************LyLy fr***** | AQ9: 51.81 | AR9: FCR- | AS9: Q4
A10: B | B10: X5 | C10: 1572772 | D10: 10 | E10: 44558 | F10: 202212 | G10: 47217 | H10: Severance pay | I10: 590 | J10: 66131 | K10: PID66000 | L10: DFAT | M10: 0 | N10: 0 | O10: 5 | P10: Southeast Asia | Q10: 0 | R10: Seniori************** of 202***** | S10: 126.11 | T10: FCR- | U10: Q4 | Y10: B | Z10: X5 | AA10: 1572772 | AB10: 10 | AC10: 44558 | AD10: 202212 | AE10: 47217 | AF10: Severance pay | AG10: 590 | AH10: 66131 | AI10: PID66000 | AJ10: DFAT | AK10: 0 | AL10: 0 | AM10: 5 | AN10: Southeast Asia | AO10: 0 | AP10: Seniori************** of 202***** | AQ10: 126.11 | AR10: FCR- | AS10: Q4
A11: B | B11: X5 | C11: 1572775 | D11: 6 | E11: 44561 | F11: 202212 | G11: 47211 | H11: Salary (employees outside HO) | I11: 590 | J11: 66131 | K11: PID66000 | L11: DFAT | M11: 0 | N11: 0 | O11: 5 | P11: Southeast Asia | Q11: 0 | R11: Salary **************'21_Mac***** | S11: 382.85 | T11: FCR- | U11: Q4 | Y11: B | Z11: X5 | AA11: 1572775 | AB11: 6 | AC11: 44561 | AD11: 202212 | AE11: 47211 | AF11: Salary (employees outside HO) | AG11: 590 | AH11: 66131 | AI11: PID66000 | AJ11: DFAT | AK11: 0 | AL11: 0 | AM11: 5 | AN11: Southeast Asia | AO11: 0 | AP11: Salary **************'21_Mac***** | AQ11: 382.85 | AR11: FCR- | AS11: Q4
A12: B | B12: X5 | C12: 1572777 | D12: 1 | E12: 44561 | F12: 202212 | G12: 47586 | H12: Personnel insurance (employees outside HO) | I12: 590 | J12: 66136 | K12: PID66000 | L12: DFAT | M12: 0 | N12: 0 | O12: 5 | P12: Southeast Asia | Q12: 0 | R12: health **************urance ***** | S12: 1.32 | T12: FCR- | U12: Q4 | Y12: B | Z12: X5 | AA12: 1572777 | AB12: 1 | AC12: 44561 | AD12: 202212 | AE12: 47586 | AF12: Personnel insurance (employees outside HO) | AG12: 590 | AH12: 66136 | AI12: PID66000 | AJ12: DFAT | AK12: 0 | AL12: 0 | AM12: 5 | AN12: Southeast Asia | AO12: 0 | AP12: health **************urance ***** | AQ12: 1.32 | AR12: FCR- | AS12: Q4
A13: B | B13: X5 | C13: 1572777 | D13: 9 | E13: 44561 | F13: 202212 | G13: 47586 | H13: Personnel insurance (employees outside HO) | I13: 590 | J13: 66131 | K13: PID66000 | L13: DFAT | M13: 0 | N13: 0 | O13: 5 | P13: Southeast Asia | Q13: 0 | R13: health **************urance ***** | S13: 3.16 | T13: FCR- | U13: Q4 | Y13: B | Z13: X5 | AA13: 1572777 | AB13: 9 | AC13: 44561 | AD13: 202212 | AE13: 47586 | AF13: Personnel insurance (employees outside HO) | AG13: 590 | AH13: 66131 | AI13: PID66000 | AJ13: DFAT | AK13: 0 | AL13: 0 | AM13: 5 | AN13: Southeast Asia | AO13: 0 | AP13: health **************urance ***** | AQ13: 3.16 | AR13: FCR- | AS13: Q4
A14: B | B14: X5 | C14: 1572778 | D14: 9 | E14: 44561 | F14: 202212 | G14: 46990 | H14: Other external expenses | I14: 590 | J14: 66131 | K14: PID66000 | L14: DFAT | M14: 0 | N14: 0 | O14: 5 | P14: Southeast Asia | Q14: 0 | R14: NSSF to**************1_MacP***** | S14: 2 | T14: FCR- | U14: Q4 | Y14: B | Z14: X5 | AA14: 1572778 | AB14: 9 | AC14: 44561 | AD14: 202212 | AE14: 46990 | AF14: Other external expenses | AG14: 590 | AH14: 66131 | AI14: PID66000 | AJ14: DFAT | AK14: 0 | AL14: 0 | AM14: 5 | AN14: Southeast Asia | AO14: 0 | AP14: NSSF to**************1_MacP***** | AQ14: 2 | AR14: FCR- | AS14: Q4
A15: B | B15: X5 | C15: 1572778 | D15: 1 | E15: 44561 | F15: 202212 | G15: 46990 | H15: Other external expenses | I15: 590 | J15: 66136 | K15: PID66000 | L15: DFAT | M15: 0 | N15: 0 | O15: 5 | P15: Southeast Asia | Q15: 0 | R15: NSSF to**************21_DFAT***** | S15: 0.84 | T15: FCR- | U15: Q4 | Y15: B | Z15: X5 | AA15: 1572778 | AB15: 1 | AC15: 44561 | AD15: 202212 | AE15: 46990 | AF15: Other external expenses | AG15: 590 | AH15: 66136 | AI15: PID66000 | AJ15: DFAT | AK15: 0 | AL15: 0 | AM15: 5 | AN15: Southeast Asia | AO15: 0 | AP15: NSSF to**************21_DFAT***** | AQ15: 0.84 | AR15: FCR- | AS15: Q4
A16: B | B16: X5 | C16: 1573424 | D16: 6 | E16: 44592 | F16: 202201 | G16: 47586 | H16: Personnel insurance (employees outside HO) | I16: 590 | J16: 66131 | K16: PID66000 | L16: DFAT | M16: 0 | N16: 0 | O16: 5 | P16: Southeast Asia | Q16: 0 | R16: health **************urance ***** | S16: 4.92 | T16: FCR- | U16: Q1 | Y16: B | Z16: X5 | AA16: 1573424 | AB16: 6 | AC16: 44592 | AD16: 202201 | AE16: 47586 | AF16: Personnel insurance (employees outside HO) | AG16: 590 | AH16: 66131 | AI16: PID66000 | AJ16: DFAT | AK16: 0 | AL16: 0 | AM16: 5 | AN16: Southeast Asia | AO16: 0 | AP16: health **************urance ***** | AQ16: 4.92 | AR16: FCR- | AS16: Q1
... A86: B | B86: X5 | C86: 1573577 | D86: 7 | E86: 44742 | F86: 202206 | G86: 47217 | H86: Severance pay | I86: 590 | J86: 66135 | K86: PID66000 | L86: DFAT | M86: 0 | N86: 0 | O86: 5 | P86: Southeast Asia | Q86: 0 | R86: Seniori**************a on Ja***** | S86: 37.17 | T86: FCR- | U86: Q2 | Y86: B | Z86: X5 | AA86: 1573577 | AB86: 7 | AC86: 44742 | AD86: 202206 | AE86: 47217 | AF86: Severance pay | AG86: 590 | AH86: 66135 | AI86: PID66000 | AJ86: DFAT | AK86: 0 | AL86: 0 | AM86: 5 | AN86: Southeast Asia | AO86: 0 | AP86: Seniori**************a on Ja***** | AQ86: 37.17 | AR86: FCR- | AS86: Q2
Y87: 0 | Z87: 0 | AA87: 0 | AB87: 0 | AC87: 0 | AD87: 0 | AE87: 0 | AF87: 0 | AG87: 0 | AH87: 0 | AI87: 0 | AJ87: 0 | AK87: 0 | AL87: 0 | AM87: 0 | AN87: 0 | AO87: 0 | AP87: 0 | AQ87: 0 | AR87: 0 | AS87: 0
Y88: 0 | Z88: 0 | AA88: 0 | AB88: 0 | AC88: 0 | AD88: 0 | AE88: 0 | AF88: 0 | AG88: 0 | AH88: 0 | AI88: 0 | AJ88: 0 | AK88: 0 | AL88: 0 | AM88: 0 | AN88: 0 | AO88: 0 | AP88: 0 | AQ88: 0 | AR88: 0 | AS88: 0
Y89: 0 | Z89: 0 | AA89: 0 | AB89: 0 | AC89: 0 | AD89: 0 | AE89: 0 | AF89: 0 | AG89: 0 | AH89: 0 | AI89: 0 | AJ89: 0 | AK89: 0 | AL89: 0 | AM89: 0 | AN89: 0 | AO89: 0 | AP89: 0 | AQ89: 0 | AR89: 0 | AS89: 0
Y90: 0 | Z90: 0 | AA90: 0 | AB90: 0 | AC90: 0 | AD90: 0 | AE90: 0 | AF90: 0 | AG90: 0 | AH90: 0 | AI90: 0 | AJ90: 0 | AK90: 0 | AL90: 0 | AM90: 0 | AN90: 0 | AO90: 0 | AP90: 0 | AQ90: 0 | AR90: 0 | AS90: 0
Y91: B | Z91: H5 | AA91: 1572754 | AB91: 1 | AC91: 44536 | AD91: 202212 | AE91: 45520 | AF91: Repairs and maintenance of computers | AG91: 590 | AH91: 65822 | AI91: PID65000 | AJ91: EU | AK91: 0 | AL91: 0 | AM91: 5 | AN91: Southeast Asia | AO91: 0 | AP91: Monthly**************e_Trust***** | AQ91: 53.9 | AR91: FCR-4.4 | AS91: Q4
Y92: B | Z92: H5 | AA92: 1572760 | AB92: 1 | AC92: 44544 | AD92: 202212 | AE92: 45020 | AF92: Electricity | AG92: 590 | AH92: 65822 | AI92: PID65000 | AJ92: EU | AK92: 0 | AL92: 0 | AM92: 5 | AN92: Southeast Asia | AO92: 0 | AP92: Electri************** 72_Nov***** | AQ92: 64.75 | AR92: FCR-4.4 | AS92: Q4
Y93: B | Z93: H5 | AA93: 1572760 | AB93: 0 | AC93: 44544 | AD93: 202212 | AE93: 46150 | AF93: Printed matter | AG93: 590 | AH93: 65821 | AI93: PID65000 | AJ93: EU | AK93: 0 | AL93: 0 | AM93: 5 | AN93: Southeast Asia | AO93: 0 | AP93: Printin************** shop_s***** | AQ93: 4.22 | AR93: FCR-4.3 | AS93: Q4
Y94: B | Z94: H5 | AA94: 1572766 | AB94: 0 | AC94: 44553 | AD94: 202212 | AE94: 47622 | AF94: Health care (Regional offices) | AG94: 590 | AH94: 65802 | AI94: PID65000 | AJ94: EU | AK94: 0 | AL94: 0 | AM94: 5 | AN94: Southeast Asia | AO94: 0 | AP94: Remaini**************cal cos***** | AQ94: 291.22 | AR94: FCR-1.1.1.33 | AS94: Q4
Y95: B | Z95: H5 | AA95: 1572766 | AB95: 4 | AC95: 44553 | AD95: 202212 | AE95: 47622 | AF95: Health care (Regional offices) | AG95: 590 | AH95: 65804 | AI95: PID65000 | AJ95: EU | AK95: 0 | AL95: 0 | AM95: 5 | AN95: Southeast Asia | AO95: 0 | AP95: Remaini**************cal cos***** | AQ95: 22.26 | AR95: FCR-1.1.2.26 | AS95: Q4
Y96: B | Z96: H5 | AA96: 1572766 | AB96: 9 | AC96: 44553 | AD96: 202212 | AE96: 47622 | AF96: Health care (Regional offices) | AG96: 590 | AH96: 65807 | AI96: PID65000 | AJ96: EU | AK96: 0 | AL96: 0 | AM96: 5 | AN96: Southeast Asia | AO96: 0 | AP96: Remaini**************cal cos***** | AQ96: 38.71 | AR96: FCR-1.1.2.29 | AS96: Q4
Y97: B | Z97: H5 | AA97: 1572766 | AB97: 14 | AC97: 44553 | AD97: 202212 | AE97: 47622 | AF97: Health care (Regional offices) | AG97: 590 | AH97: 65806 | AI97: PID65000 | AJ97: EU | AK97: 0 | AL97: 0 | AM97: 5 | AN97: Southeast Asia | AO97: 0 | AP97: Remaini**************cal cos***** | AQ97: 54.1 | AR97: FCR-1.1.2.28 | AS97: Q4
Y98: B | Z98: H5 | AA98: 1572767 | AB98: 7 | AC98: 44553 | AD98: 202212 | AE98: 47390 | AF98: Other employee benefits | AG98: 590 | AH98: 65801 | AI98: PID65000 | AJ98: EU | AK98: 0 | AL98: 0 | AM98: 5 | AN98: Southeast Asia | AO98: 0 | AP98: Communi**************rey_Dec***** | AQ98: 20.47 | AR98: FCR-1.1.1.32 | AS98: Q4
Y99: B | Z99: H5 | AA99: 1572767 | AB99: 1 | AC99: 44553 | AD99: 202212 | AE99: 47211 | AF99: Salary (employees outside HO) | AG99: 590 | AH99: 65801 | AI99: PID65000 | AJ99: EU | AK99: 0 | AL99: 0 | AM99: 5 | AN99: Southeast Asia | AO99: 0 | AP99: Salary **************1_EU***** | AQ99: 1096.78 | AR99: FCR-1.1.1.32 | AS99: Q4
Y100: B | Z100: H5 | AA100: 1572767 | AB100: 4 | AC100: 44553 | AD100: 202212 | AE100: 47211 | AF100: Salary (employees outside HO) | AG100: 590 | AH100: 65801 | AI100: PID65000 | AJ100: EU | AK100: 0 | AL100: 0 | AM100: 5 | AN100: Southeast Asia | AO100: 0 | AP100: Seniori************** 2021 B***** | AQ100: 387.3 | AR100: FCR-1.1.1.32 | AS100: Q4
A101: EU | R101: TOTAL | S101: =SUM(S103:S1101) -> 183155.88 | T101: =S1 -> 22088.68 | Y101: B | Z101: X5 | AA101: 1572770 | AB101: 2 | AC101: 44558 | AD101: 202212 | AE101: 47090 | AF101: Change in accrued holiday pay provision | AG101: 590 | AH101: 65801 | AI101: PID65000 | AJ101: EU | AK101: 0 | AL101: 0 | AM101: 5 | AN101: Southeast Asia | AO101: 0 | AP101: Rev: Ac**************eave Bo***** | AQ101: -76.11 | AR101: FCR-1.1.1.32 | AS101: Q4
Y102: B | Z102: X5 | AA102: 1572770 | AB102: 14 | AC102: 44558 | AD102: 202212 | AE102: 47090 | AF102: Change in accrued holiday pay provision | AG102: 590 | AH102: 65802 | AI102: PID65000 | AJ102: EU | AK102: 0 | AL102: 0 | AM102: 5 | AN102: Southeast Asia | AO102: 0 | AP102: Accrued**************LyLy fr***** | AQ102: 207.28 | AR102: FCR-1.1.1.33 | AS102: Q4
A103: T | B103: TT | C103: TransNo | D103: # | E103: Trans.date | F103: Period | G103: Account | H103: Account (T) | I103: Unit | J103: Activity code | K103: Project | L103: Project (T) | M103: Resource | N103: Resource (T) | O103: Costce | P103: Costce (T) | Q103: TC | R103: Text | S103: Company Curr | T103: Budget Code | U103: Quarter | Y103: B | Z103: X5 | AA103: 1572770 | AB103: 12 | AC103: 44558 | AD103: 202212 | AE103: 47090 | AF103: Change in accrued holiday pay provision | AG103: 590 | AH103: 65804 | AI103: PID65000 | AJ103: EU | AK103: 0 | AL103: 0 | AM103: 5 | AN103: Southeast Asia | AO103: 0 | AP103: Accrued**************DaDa fr***** | AQ103: 69.17 | AR103: FCR-1.1.2.26 | AS103: Q4
A104: {=_xlfn._xlws.FILTER(Data!$A$4:$U$1000,Data!$L$4:$L$1000=A101)} -> B | B104: H5 | C104: 1572754 | D104: 1 | E104: 44536 | F104: 202212 | G104: 45520 | H104: Repairs and maintenance of computers | I104: 590 | J104: 65822 | K104: PID65000 | L104: EU | M104: 0 | N104: 0 | O104: 5 | P104: Southeast Asia | Q104: 0 | R104: Monthly**************e_Trust***** | S104: 53.9 | T104: FCR-4.4 | U104: Q4 | Y104: B | Z104: X5 | AA104: 1572770 | AB104: 9 | AC104: 44558 | AD104: 202212 | AE104: 47090 | AF104: Change in accrued holiday pay provision | AG104: 590 | AH104: 65806 | AI104: PID65000 | AJ104: EU | AK104: 0 | AL104: 0 | AM104: 5 | AN104: Southeast Asia | AO104: 0 | AP104: Accrued**************Minea f***** | AQ104: 12.22 | AR104: FCR-1.1.2.28 | AS104: Q4
A105: B | B105: H5 | C105: 1572760 | D105: 1 | E105: 44544 | F105: 202212 | G105: 45020 | H105: Electricity | I105: 590 | J105: 65822 | K105: PID65000 | L105: EU | M105: 0 | N105: 0 | O105: 5 | P105: Southeast Asia | Q105: 0 | R105: Electri************** 72_Nov***** | S105: 64.75 | T105: FCR-4.4 | U105: Q4 | Y105: B | Z105: X5 | AA105: 1572770 | AB105: 6 | AC105: 44558 | AD105: 202212 | AE105: 47090 | AF105: Change in accrued holiday pay provision | AG105: 590 | AH105: 65807 | AI105: PID65000 | AJ105: EU | AK105: 0 | AL105: 0 | AM105: 5 | AN105: Southeast Asia | AO105: 0 | AP105: Accrued**************Touch J***** | AQ105: 5.57 | AR105: FCR-1.1.2.29 | AS105: Q4
A106: B | B106: H5 | C106: 1572760 | D106: 0 | E106: 44544 | F106: 202212 | G106: 46150 | H106: Printed matter | I106: 590 | J106: 65821 | K106: PID65000 | L106: EU | M106: 0 | N106: 0 | O106: 5 | P106: Southeast Asia | Q106: 0 | R106: Printin************** shop_s***** | S106: 4.22 | T106: FCR-4.3 | U106: Q4 | Y106: B | Z106: X5 | AA106: 1572772 | AB106: 3 | AC106: 44558 | AD106: 202212 | AE106: 47217 | AF106: Severance pay | AG106: 590 | AH106: 65807 | AI106: PID65000 | AJ106: EU | AK106: 0 | AL106: 0 | AM106: 5 | AN106: Southeast Asia | AO106: 0 | AP106: Seniori************** of 202***** | AQ106: 18.74 | AR106: FCR-1.1.2.29 | AS106: Q4
A107: B | B107: H5 | C107: 1572766 | D107: 0 | E107: 44553 | F107: 202212 | G107: 47622 | H107: Health care (Regional offices) | I107: 590 | J107: 65802 | K107: PID65000 | L107: EU | M107: 0 | N107: 0 | O107: 5 | P107: Southeast Asia | Q107: 0 | R107: Remaini**************cal cos***** | S107: 291.22 | T107: FCR-1.1.1.33 | U107: Q4 | Y107: B | Z107: X5 | AA107: 1572772 | AB107: 0 | AC107: 44558 | AD107: 202212 | AE107: 47217 | AF107: Severance pay | AG107: 590 | AH107: 65806 | AI107: PID65000 | AJ107: EU | AK107: 0 | AL107: 0 | AM107: 5 | AN107: Southeast Asia | AO107: 0 | AP107: Seniori************** of 202***** | AQ107: 47.48 | AR107: FCR-1.1.2.28 | AS107: Q4
A108: B | B108: H5 | C108: 1572766 | D108: 4 | E108: 44553 | F108: 202212 | G108: 47622 | H108: Health care (Regional offices) | I108: 590 | J108: 65804 | K108: PID65000 | L108: EU | M108: 0 | N108: 0 | O108: 5 | P108: Southeast Asia | Q108: 0 | R108: Remaini**************cal cos***** | S108: 22.26 | T108: FCR-1.1.2.26 | U108: Q4 | Y108: B | Z108: X5 | AA108: 1572772 | AB108: 11 | AC108: 44558 | AD108: 202212 | AE108: 47217 | AF108: Severance pay | AG108: 590 | AH108: 65805 | AI108: PID65000 | AJ108: EU | AK108: 0 | AL108: 0 | AM108: 5 | AN108: Southeast Asia | AO108: 0 | AP108: Seniori************** of 202***** | AQ108: 80.01 | AR108: FCR-1.1.2.27 | AS108: Q4
A109: B | B109: H5 | C109: 1572766 | D109: 9 | E109: 44553 | F109: 202212 | G109: 47622 | H109: Health care (Regional offices) | I109: 590 | J109: 65807 | K109: PID65000 | L109: EU | M109: 0 | N109: 0 | O109: 5 | P109: Southeast Asia | Q109: 0 | R109: Remaini**************cal cos***** | S109: 38.71 | T109: FCR-1.1.2.29 | U109: Q4 | Y109: B | Z109: X5 | AA109: 1572772 | AB109: 9 | AC109: 44558 | AD109: 202212 | AE109: 47217 | AF109: Severance pay | AG109: 590 | AH109: 65802 | AI109: PID65000 | AJ109: EU | AK109: 0 | AL109: 0 | AM109: 5 | AN109: Southeast Asia | AO109: 0 | AP109: Seniori************** of 202***** | AQ109: 504.57 | AR109: FCR-1.1.1.33 | AS109: Q4
A110: B | B110: H5 | C110: 1572766 | D110: 14 | E110: 44553 | F110: 202212 | G110: 47622 | H110: Health care (Regional offices) | I110: 590 | J110: 65806 | K110: PID65000 | L110: EU | M110: 0 | N110: 0 | O110: 5 | P110: Southeast Asia | Q110: 0 | R110: Remaini**************cal cos***** | S110: 54.1 | T110: FCR-1.1.2.28 | U110: Q4 | Y110: B | Z110: X5 | AA110: 1572772 | AB110: 6 | AC110: 44558 | AD110: 202212 | AE110: 47217 | AF110: Severance pay | AG110: 590 | AH110: 65804 | AI110: PID65000 | AJ110: EU | AK110: 0 | AL110: 0 | AM110: 5 | AN110: Southeast Asia | AO110: 0 | AP110: Seniori************** of 202***** | AQ110: 103.84 | AR110: FCR-1.1.2.26 | AS110: Q4
...

Sheet Favourite Formulas
B1: External Report | S1: Internal/Organizational report | AE1: Project (T) | AF1: (All)
C3: Sumif | F3: Sumifs | K3: Sum of Company Curr | L3: Column Labels | AE3: Sum of Company Curr | AG3: Quarter | AP3: Mapping to Tax Report | AS3: Mapping to ACAR Report
B4: Activity Code | E4: Activity Code | F4: EU | G4: DFAT | H4: TOTAL | K4: Row Labels | L4: DFAT | M4: EU | N4: (blank) | O4: Grand Total | S4: G/L Account | U4: Annual Expenditure | W4: TOTAL | X4: {=TRANSPOSE(_xlfn.UNIQUE(Data!U4:U1000))} -> Q4 | Y4: Q1 | Z4: Q2 | AA4: Q3 | AE4: Account | AF4: Account (T) | AH4: Q1 | AI4: Q2 | AJ4: Q3 | AK4: Q4 | AL4: (blank) | AM4: Grand Total | AP4: យោង | AQ4: បរិយាយ/Description | AS4: លេខកូដ Code | AT4: ឈ្មោះគណនី / Item name
