Workbook
Name Commitment1: #REF!
Name Commitment2: #REF!
Name Commitment3: #REF!
Name Date: #REF!
Name Name: #REF!
Name Payment1: #REF!
Name Payment2: #REF!
Name Payment3: #REF!
Name Payment4: #REF!
Name Payment5: #REF!
Name Payment6: #REF!
Name Receipts1: #REF!
Name Receipts2: #REF!
Name Receipts3: #REF!
Name Receipts4: #REF!
Name Receipts5: #REF!
Name Receipts6: #REF!
Name Receipts7: #REF!
Name Resources1: #REF!
Name Resources2: #REF!
Name Resources3: #REF!
Name Resources4: #REF!

Sheet Copyright
C2: COPYRIGHT
C3: © The National Accounting Council 2018
C5: This NAC Template contains copyright material.
C6: Requests and enquiries concerning this template and rights for commercial purposes within Cambodia should be addressed to National Accounting Council at the following address: Street 92, Sangkat Wat Phnom, Khan Daun Penh, Phnom Penh, Cambodia

Sheet Content
A5: ព្រះរាជាណាចក្រកម្ពុជា ជាតិ សាសនា ព្រះមហាក្សត្រ
C17: លេខអត្តសញ្ញាណកម្ម រ.ក.ហ. F.N | F17: 22 | G17: - | H17: 0 | I17: 0 | J17: 0 | K17: 0 | L17: 0 | M17: 8 | N17: 6
A21: ឈ្មោះរបស់អង្គភាព Full name of entity | B21: អង្គការ ដៃគូអភិវឌ្ឍន៍ អេរិក្ស
B22: ERIKSHJALPEN
A24: លេខអត្តសញ្ញាណកម្មសារពើពន្ធ អ.ត.ប VAT-TIN | B24: K002-902101275
A26: អាសយដ្ឋានបច្ចុប្បន្នរបស់អង្គភាព Address | B26: អគារភ្នំពេញវិឡា ជាន់ទី9 បន្ទប់ 902 #26, St 388, ទួលស្វាយព្រៃ1 ខណ្ឌបឹងកេងកង រាជធានីភ្នំពេញ
A28: លេខទំនាក់ទំនង Contact Number: | B28: 012 893 742
A30: របាយការណ៍ហិរញ្ញវត្ថុសម្រាប់ដំណាច់ឆ្នាំ For the year ended: | B30: 31 ធ្នូ 2023

Sheet Entity Info
A2: =Content!B21 -> អង្គការ ដៃគូអភិវឌ្ឍន៍ អេរិក្ស
A3: =Content!B22 -> ERIKSHJALPEN
A4: ព័ត៌មានរបស់អង្គភាព
A5: Entity Information
A6: តើអង្គភាពជាអ្វី?ហេតុអ្វីអង្គភាពត្រូវបានបង្កើត?
A7: "Who are we?", "Why do we exist?"
C8: របាយការណ៍ហិរញ្ញវត្ថុសម្រាប់ដំណាច់ឆ្នាំ | D8: =Content!B30 -> 31 ធ្នូ 2023
C9: For the year ended:
A13: ពទ១ EI1 | C13: ឈ្មោះរបស់អង្គភាព* Legal Name of Entity* | D13: =Content!B21 -> អង្គការ ដៃគូអភិវឌ្ឍន៍ អេរិក្ស
D15: =Content!B22 -> ERIKSHJALPEN
A17: ពទ២ EI2 | C17: ឈ្មោះផ្សេងទៀតរបស់អង្គភាព (ប្រសិនបើមាន) Other Name of Entity (if any) | D17: គ្មាន
D19: NONE
A21: ពទ៣ EI3 | C21: ប្រភេទរបស់អង្គភាព* Type of Entity* | D21: អង្គការមិនស្វែងរកប្រាក់ចំណេញ
A25: ពទ៤ EI4 | C25: លេខចុះបញ្ជី Registration Number* | D25: MoU 25 Jan 2021 with MoFAIC
A29: ពទ៥ EI5 | C29: លេខអត្តសញ្ញាណកម្មសារពើពន្ធ អ.ត.ប VAT-TIN* | D29: =Content!B24 -> K002-902101275
A34: ពទ៦ EI6 | C34: គោលបំណងរបស់អង្គភាព * Entity's Objective *
C35: Erikshjälpen អង្គការដៃគូអភិវឌ្ឍន៍ អេរិក្ស បាននិងកំពុងធ្វើការក្នុងវិធីសាស្រ្ត និងយុទ្ធសាស្ត្រចំនួនបួននៅក្នុងបេសកកម្មរបស់ខ្លួនក្នុងការប្រយុទ្ធប្រឆាំងនឹងភាពក្រីក្រ និងភាពងាយរងគ្រោះដោយការលើកកម្ពស់សិទ្ធិរបស់កុមារ៖ វិធីសាស្រ្តផ្អែកលើការលើកកំពស់សិទ្ធិមនុស្ស ដោយធ្វើការជាមួយដៃគូអង្គការក្នុងស្រុក ក្នុងការលើកកម្ពស់ការចូលរួមរបស់កុមារ និងភាពធន់ ដើម្បីអោយសុបិន្តកុមារក្លាយជាពិត។
A55: ពទ៧ EI7 | C55: អង្គការលេខរបស់អង្គភាព (រួមទាំងអភិបាលកិច្ច ប្រសិនបើមាន) * Entity Organizational Chart (Including Governance arrangements if any) *
C56: នាយកគ្របគ្រងប្រចាំតំបន់អាស៊ី អាគ្នេយ៍ ចំនួន ១នាក់ មន្ត្រីត្រួតពិនិត្យគម្រោងកម្មវិធី ចំនួន ២ នាក់ មន្ត្រីត្រួតពិនិត្យគម្រោងហិរញ្ញវត្ថុ ចំនួន ២ នាក់
A77: ពទ៨ EI8 | C77: ប្រភពចម្បងនៃសាច់ប្រាក់ និងធនធានរបស់អង្គភាព* Main Sources of the Entity's Cash and Resources*
C78: ប្រភពចម្បងនៃសាច់ប្រាក់ និងធនធានរបស់អង្គភាព បានមកពីអង្គការ ERIKSHJALPEN ការិយាល័យកណ្តាលនៅប្រទេស ស៊ុយអែត ហើយប្រភពចំណូលរបស់ ERIKS ការិយាល័យកណ្តាលទទួលបានមកពី 31% ទទួលបានពី សប្បុរសជននៃប្រជាជនស៊ុយអែត 20%​ទទួលបានពីការលក់សម្ភារះមួយទឹកនៅប្រទេសស៊ុយអែត 27%ទទួលបានមកពីរដ្ឋាភិបាលស៊ុយអែត 18%​ទទួលបានពីក្រុមហ៊ុន PostCode Lottery, Children world compaign and RadioAids 4%ទទួលបានពីប្រភពផ្សេងៗ។
A94: ពទ៩ EI9 | C94: វិធីសាស្រ្តចម្បងដែលអង្គភាពប្រើប្រាស់ក្នុងការប្រមូលមូលនិធិ* Main Methods Used by the Entity to Raise Funds:*
C95: វិធីសាស្រ្តចម្បងដែលអង្គភាពប្រើប្រាស់ក្នុងការប្រមូលមូលនិធិ៖ 1-Communicaion 2- Quality Assurance 3- FRII's Quality Standards 4- Sustainability Statement
A111: ពទ១០ EI10 | C111: ការពឹងផ្អែករបស់អង្គភាពទៅលើអ្នកស្ម័គ្រចិត្ត និងទំនិញឬសេវាបានពីការបរិច្ចាគ Entity's Reliance on Volunteers and Donated Goods or Services
C112: គ្មាន
A133: ពទ១១ EI11 | C133: ព័ត៌មានបន្ថែម Additional Information
A146: ពទ១២ EI12 | C146: ព័ត៌មានទំនាក់ទំនងលម្អិត Contact details
C148: អាសយដ្ឋានជាក់ស្តែង: Physical Address: | D148: អគារលេខ 26 (ភ្នំពេញវិឡា អាផាតមែន ជាន់ទិ៩ បន្ទប់លេខ ៩០២) ផ្លូវលេខ 388 សង្កាត់ ទួលស្វាយព្រៃ ខណ្ឌ ចំការមន រាជធានីភ្នំពេញ
C152: អាសយដ្ឋានប្រៃសណីយ៍: Postal Address: | D152: គ្មាន
C156: ទូរស័ព្ទ / ទូរសារ: Phone/Fax: | D156: 012 893 742
C160: អ៊ីម៉ែល / វេបសាយ: Email/Website: | D160: rasmey.keo@eriksdevelopment.org www.eriksdevelopment.org
C164: Facebook: | D164: ERIKS Development Partner South East Asia

Sheet R&P (2)
A2: =Name -> #REF!
A3: Statement of Receipts and Payments
A4: "How was it funded?" and "What did it cost?"
A5: =#REF! -> #REF!
B7: Guidance | F7: Notes | H7: Actual* | J7: Budget | L7: Actual*
H8: This Year | J8: This Year | L8: Last Year
B9: Section 4 | H9: KHR | J9: ៛ | L9: ៛
H10: KHR'000 | J10: KHR'000 | L10: KHR'000
A11: Required sections are marked with an asterisk "*"
D12: Operating Receipts
B13: R&P1 | D13: Donations, fundraising and other similar receipts*
B14: R&P2 | D14: Fees, subscriptions and other receipts from members*
B15: R&P3 | D15: Receipts from providing goods or services*
B16: R&P4 | D16: Interest, dividends and other investment income receipts*
B17: R&P5 | D17: Other operating receipts
B20: R&P6 | D20: Total Operating Receipts | H20: =SUM(H13:H19) -> 0 | J20: =SUM(J13:J19) -> 0 | L20: =SUM(L13:L19) -> 0
D22: Operating Payments
B23: R&P7 | D23: Payments related to public fundraising*
B24: R&P8 | D24: Volunteer and employee related payments*
B25: R&P9 | D25: Payments related to providing goods or services*
B26: R&P10 | D26: Grants and donations paid*
B27: R&P11 | D27: Other operating payments
B30: R&P12 | D30: Total Operating Payments | H30: =SUM(H23:H29) -> 0 | J30: =SUM(J23:J29) -> 0 | L30: =SUM(L23:L29) -> 0
B32: R&P13 | D32: Operating Surplus or (Deficit) | H32: =H20-H30 -> 0 | J32: =J20-J30 -> 0 | L32: =L20-L30 -> 0
B34: R&P14 | D34: Capital Receipts
D35: Receipts from the sale of resources*
D36: Receipts from borrowings*
B38: R&P15 | D38: Capital Payments
D39: Purchase of resources*
D40: Repayments of borrowings*
B42: R&P16 | D42: Increase/(Decrease) in Bank Accounts and Cash* | H42: =H32+H35+H36-H39-H40 -> 0 | J42: =J32+J35+J36-J39-J40 -> 0 | L42: =L32+L35+L36-L39-L40 -> 0
B44: R&P17 | D44: Bank accounts and cash at the beginning of the financial year* | H44: =L45 -> 0
B45: R&P18 | D45: Bank Accounts and Cash at the End of the Financial Year* | H45: =H42+H44 -> 0 | J45: =J42+J44 -> 0 | L45: =L42+L44 -> 0
B47: R&P19 | D47: Represented by:*
D48: Cheque account(s)
D49: Savings account(s)
D50: Term Deposit account(s)
D51: Cash Floats
D52: Petty Cash
B54: R&P20 | D54: Total Bank Accounts and Cash at the End of the Financial Year* | H54: =SUM(H48:H53) -> 0 | J54: =SUM(J48:J53) -> 0 | L54: =SUM(L47:L53) -> 0
...

Sheet R&P
A2: =Content!B21 -> អង្គការ ដៃគូអភិវឌ្ឍន៍ អេរិក្ស
A3: =Content!B22 -> ERIKSHJALPEN
A4: របាយការណ៍ចំណូល និងចំណាយ
A5: Statement of Receipts and Payments
A6: តើអង្គភាពធ្វើការប្រមូលមូលនិធិដោយរបៀបណា និង តើអង្គភាពបានចំណាយទៅលើអ្វីខ្លះ?
A7: "How was it funded?" and "What did it cost?"
C8: របាយការណ៍ហិរញ្ញវត្ថុសម្រាប់ដំណាច់ឆ្នាំ | E8: =Content!B30 -> 31 ធ្នូ 2023
C9: For the year ended:
E12: កំណត់សម្គាល់ Notes | G12: ជាក់ស្តែង Actual* | I12: ផែនការថវិកា Budget | K12: ជាក់ស្តែង Actual*
G13: ឆ្នាំនេះ This Year | I13: ឆ្នាំនេះ This Year | K13: ឆ្នាំមុន Last Year
G14: ពាន់រៀល KHR'000 | I14: ពាន់រៀល KHR'000 | K14: ពាន់រៀល KHR'000
C16: ចំណូលកិច្ចប្រតិបត្តិការ Operating Receipts
A17: ចច១ R&P1 | C17: ការបរិច្ចាគ, ការរៃអង្គាសប្រាក់ និងចំណូលប្រហាក់ប្រហែលផ្សេងទៀត* Donations, fundraising and other similar receipts* | G17: =PL!K7 -> 1022005.7 | I17: 995280 | K17: 725906
A18: ចច២ R&P2 | C18: កម្រៃ, ការចូលរួមវិភាគទាន និងចំណូលផ្សេងទៀតពីសមាជិក* Fees, subscriptions and other receipts from members* | G18: 0 | I18: 0
A19: ចច៣ R&P3 | C19: ចំណូលពីការលក់ទំនិញ ឬសេវា * Receipts from providing goods or services* | G19: 0 | I19: 0
A20: ចច៤ R&P4 | C20: ការប្រាក់, ភាគលាភ និងចំណូលពីការវិនិយោគផ្សេងទៀត* Interest, dividends and other investment income receipts* | G20: 0 | I20: 0
A21: ចច៥ R&P5 | C21: ចំណូលកិច្ចប្រតិបត្តិការផ្សេងទៀត Other operating receipts | G21: =PL!K8 -> 523.73785 | I21: 0
A23: ចច៦ R&P6 | C23: ចំណូលកិច្ចប្រតិបត្តិការសរុប* Total Operating Receipts* | G23: =SUM(G17:G22) -> 1022529.5 | I23: =SUM(I17:I22) -> 995280 | K23: =SUM(K17:K22) -> 725906
C24: ចំណាយកិច្ចប្រតិបត្តិការ Operating Payments
A25: ចច៧ R&P7 | C25: ចំណាយទាក់ទងនឹងការរៃអង្គាសប្រាក់ជាសាធារណៈ* Payments related to public fundraising* | G25: 0
A26: ចច៨ R&P8 | C26: ចំណាយទាក់ទងនឹងនិយោជិកនិងអ្នកស្ម័គ្រចិត្ត* Volunteer and employee related payments* | G26: =PL!K12 -> 579980.01 | K26: 547627
A27: ចច៩ R&P9 | C27: ចំណាយទាក់ទងនឹងការផ្តល់ទំនិញ ឬសេវា* Payments related to providing goods or services* | G27: =PL!K18 -> 220223.82 | K27: 88221
A28: ចច១០ R&P10 | C28: អំណោយ និងការបរិច្ចាគដែលបានទូទាត់ * Grants and donations paid* | G28: 0
A29: ចច១១ R&P11 | C29: ចំណាយកិច្ចប្រតិបត្តិការផ្សេងៗ Other operating payments | G29: =PL!K31 -> 146399.78 | K29: 84061
A31: ចច១២ R&P12 | C31: ចំណាយកិច្ចប្រតិបត្តិការសរុប* Total Operating Payments* | G31: =SUM(G25:G30) -> 946603.61 | I31: =SUM(I25:I30) -> 0 | K31: =SUM(K25:K30) -> 719909
A33: ចច១៣ R&P13 | C33: អតិរេក ឬ (ឱនភាព)កិច្ចប្រតិបត្តិការ * Operating Surplus or (Deficit) * | G33: =G23-G31 -> 75925.853 | I33: =I23-I31 -> 995280 | K33: =K23-K31 -> 5997
A35: ចច១៤ R&P14 | C35: ចំណូលមូលធន Capital Receipts
C36: ចំណូលពីការលក់ធនធាន * Receipts from the sale of resources* | G36: 0
C37: ចំណូលពីកម្ចី * Receipts from borrowings* | G37: 0
A39: ចច១៥ R&P15 | C39: ចំណាយមូលធន Capital Payments
C40: ការទិញធនធាន * Purchase of resources* | G40: 0
C41: ការសងកម្ចី * Repayments of borrowings* | G41: 0
A43: ចច១៦ R&P16 | C43: ការកើនឡើង/(ថយចុះ) នៅក្នុងគណនីធនាគារនិងសាច់ប្រាក់* Increase/(Decrease) in Bank Accounts and Cash* | G43: =G33+G36+G37-G40-G41 -> 75925.853 | I43: =I33+I36+I37-I40-I41 -> 995280 | K43: =K33+K36+K37-K40-K41 -> 5997
A45: ចច១៧ R&P17 | C45: ភាពខុសគ្នាលើការបកប្រែរូបិយប័ណ្ណ* Difference on Currency Translation* | G45: =(BS!G22+BS!H32)/1000 -> 110118.7
A46: ចច១៨ R&P18 | C46: គណនីធនាគារ និងសាច់ប្រាក់នាដើមឆ្នាំហិរញ្ញវត្ថុ* Bank accounts and cash at the beginning of the financial year* | G46: =BS!G21/1000 -> -23455.77 | K46: 22248
A48: ចច១៩ R&P19 | C48: គណនីធនាគារនិងសាច់ប្រាក់នាចុងឆ្នាំហិរញ្ញវត្ថុ* Bank Accounts and Cash at the End of the Financial Year* | G48: =SUM(G43,G45,G46) -> 162588.78 | I48: =SUM(I43,I46) -> 995280 | K48: =SUM(K43,K45,K46) -> 28245
A49: ចច២០ R&P20 | C49: តំណាងដោយ:* Represented by:*
C50: គណនីមូលប្បទានបត្រ Cheque account(s) | G50: =BS!I12 -> 163053.44
C51: គណនីសន្សំ Savings account(s) | G51: 0 | K51: 17245
C52: គណនីប្រាក់បញ្ញើមានកាលកំណត់ Term Deposit account(s) | G52: 0
...

Sheet Note1 Policies (2)
C3: =Name -> #REF!
C4: NOTES TO FINANCIAL REPORT
C5: =#REF! -> #REF!
F7: I. REQURED NOTES
D8: Guidance
C9: Required sections are marked with an asterisk "*" | D9: Section 5 | F9: Note 1: Accounting Policies "How did we do our accounting"
D12: AP1 | F12: Basis of Preparation*
F13: =CONCATENATE(Name,#REF!) -> #REF!
D17: AP2 | F17: Value Added Tax (VAT)*
F18: =CONCATENATE(Name,#REF!) -> #REF!
F22: OR (Delete one not applicable to the entity)
D24: AP2 | F24: Value Added Tax (VAT)*
F25: =CONCATENATE(Name,#REF!) -> #REF!

Sheet Note1 Policies
A2: =Content!B21 -> អង្គការ ដៃគូអភិវឌ្ឍន៍ អេរិក្ស
A3: =Content!B22 -> ERIKSHJALPEN
A4: កំណត់សមា្គល់លើរបាយការណ៍ហិរញ្ញវត្ថុ
A5: NOTES TO FINANCIAL REPORT
A6: របាយការណ៍ហិរញ្ញវត្ថុសម្រាប់ដំណាច់ឆ្នាំ | E6: =Content!B30 -> 31 ធ្នូ 2023
A7: For the year ended:
A11: កំណត់សមា្គល់ទី១: គោលនយោបាយគណនេយ្យ " តើអង្គភាពបានធ្វើកិច្ចការគណនេយ្យរបស់ខ្លួនដោយរបៀបណា? "
A12: Note 1: Accounting Policies "How did we do our accounting?"
A14: គគ១ AP1 | C14: មូលដ្ឋាននៃការរៀបចំ * Basis of Preparation*
C15: =Content!B21 -> អង្គការ ដៃគូអភិវឌ្ឍន៍ អេរិក្ស
C16: ត្រូវបានអនុញ្ញាតដោយច្បាប់ ឱ្យអនុវត្តាមស្តង់ដារបាយការណ៍ហិរញ្ញវត្ថុកម្ពុជាសម្រាប់អង្គភាពមិនស្វែងរកប្រាក់ចំណេញ (CFRS for NFPEs)។ រាល់ប្រតិបត្តិការត្រូវបានរាយការណ៍ក្នុងរបាយការណ៍ចំណូលនិងចំណាយ និងកំណត់សម្គាល់លើរបាយការណ៍ហិរញ្ញវត្ថុដែលពាក់ព័ន្ធតាមមូលដ្ឋានសាច់ប្រាក់។
C17: =Content!B22 -> ERIKSHJALPEN
C18: is permitted by law to apply Cambodian Financial Reporting Standard for Not-For-Profit Entities (CFRS for NFPEs). All transactions are reported in the Statement of Receipts and Payments and related Notes to the Financial Report on a cash basis.
A20: គគ២ AP2 | C20: អាករលើតម្លៃបន្ថែម (អ.ត.ប.) * Value Added Tax (VAT)*
C22: ត្រូវបានចុះឈ្មោះសម្រាប់អាករលើតម្លបន្ថែម។ ដូច្នេះ ចំនួនទឹកប្រាក់ដែលបានកត់ត្រាក្នុងរបាយការណ៍ហិរញ្ញវត្ថុមិនរាប់បញ្ចូលអាករលើតម្លៃបន្ថែមឡើយ (ប្រសិនបើមាន)។ ការជំពាក់អាករ ឬការបង្វិលសងអាករលើតម្លៃបន្ថែមគិតត្រឹមកាលបរិច្ឆេទតុល្យភាពត្រូវបានបង្ហាញក្នុងកំណត់សមា្គល់ចំពោះធនធាននិងកាតព្វកិច្ច។
C24: is registered for VAT. Therefore amounts recorded in the Financial Report are exclusive of VAT (if any). VAT owing, or VAT refunds due as at balance date are shown in the Notes to Resources and Commitments.
C26: ឬ (លុបជម្រើសមួយដែលមិនអាចអនុវត្តបានចំពោះអង្គភាព) OR (Delete one not applicable to the entity)
A28: គគ២ AP2 | C28: អាករលើតម្លៃបន្ថែម (អ.ត.ប.) * Value Added Tax (VAT)*
C30: មិនត្រូវបានចុះបញ្ជីសម្រាប់អាករលើម្លៃបន្ថែមឡើយ។ ដូច្នេះ ចំនួនទឹកប្រាក់ដែលបានកត់ត្រាក្នុងរបាយការណ៍ហិរញ្ញវត្ថុរួមបញ្ចូលអាករលើតម្លៃបន្ថែម (ប្រសិនបើមាន)។
C32: is not registered for VAT. Therefore amounts recorded in the financial Report are inclusive of VAT (if any).

Sheet Note2 Receipts (2)
D2: =Name -> #REF!
D4: NOTES TO FINANCIAL REPORT
D6: =#REF! -> #REF!
D7: I. REQURED NOTES (Cont.)
A9: These are optional notes to allow the entity to provide a breakdown of the receipt and payment categories. Please ensure breakdowns provided agree to the amounts reported in the Statement of Receipts and Payments. | B9: Guidance | D9: Note 2 : Analysis of Receipts "How was it funded?"
B10: Section 5 | F10: KHR'000 | H10: KHR'000
F11: This Year | H11: Last Year
D12: Receipt Item | E12: Description | F12: ៛ | H12: ៛
B13: R&P1 | D13: Fundraising receipts
E21: Total | F21: =SUM(F13:F20) -> 0 | H21: =SUM(H13:H20) -> 0
F23: This Year | H23: Last Year
D24: Receipt Item | E24: Description | F24: ៛ | H24: ៛
B25: R&P1 | D25: Grants and donations
E33: Total | F33: =SUM(F25:F32) -> 0 | H33: =SUM(H25:H32) -> 0
F35: This Year | H35: Last Year
D36: Receipt Item | E36: Description | F36: ៛ | H36: ៛
B37: R&P2 | D37: Fees, subscriptions and other receipts from members
E45: Total | F45: =SUM(F37:F44) -> 0 | H45: =SUM(H37:H44) -> 0
F47: This Year | H47: Last Year
D48: Receipt Item | E48: Description | F48: ៛ | H48: ៛
B49: R&P3 | D49: Receipts from providing goods or services
E57: Total | F57: =SUM(F49:F56) -> 0 | H57: =SUM(H49:H56) -> 0
F59: This Year | H59: Last Year
D60: Receipt Item | E60: Description | F60: ៛ | H60: ៛
B61: R&P4 | D61: Interest, dividends and other investment income receipts
E69: Total | F69: =SUM(F61:F68) -> 0 | H69: =SUM(H61:H68) -> 0
F71: This Year | H71: Last Year
D72: Receipt Item | E72: Description | F72: ៛ | H72: ៛
B73: R&P5 | D73: Other receipts
E81: Total | F81: =SUM(F73:F80) -> 0 | H81: =SUM(H73:H80) -> 0
F83: This Year | H83: Last Year
D84: Receipt Item | E84: Description | F84: ៛ | H84: ៛
B85: R&P14 | D85: Capital receipts
E93: Total | F93: =SUM(F85:F92) -> 0 | H93: =SUM(H85:H92) -> 0

Sheet Note2 Receipts
A3: កំណត់សមា្គល់ទី២: ការវិភាគចំណូល "តើអង្គភាពធ្វើការប្រមូលមូលនិធិដោយរបៀបណា? Note 2: Analysis of Receipts "How was it funded?"
E4: ពាន់រៀល | G4: ពាន់រៀល
E5: KHR'000 | G5: KHR'000
C6: ធាតុនៃចំណូល Receipt Item | D6: ការពន្យល់ Description | E6: ឆ្នាំនេះ This Year | G6: ឆ្នាំមុន Last Year
C7: ចំណូលពីការរៃអង្គាសប្រាក់ Fundraising receipts | D7: គ្មាន | E7: 0 | G7: 0
D15: សរុប Total | E15: =SUM(E7:E14) -> 0 | G15: =SUM(G7:G14) -> 0
C17: ធាតុនៃចំណូល Receipt Item | D17: ការពន្យល់ Description | E17: ឆ្នាំនេះ This Year | G17: ឆ្នាំមុន Last Year
C18: អំណោយនិងការបរិច្ចាគ Grants and donations | E18: 0 | G18: 0
D26: សរុប Total | E26: =SUM(E18:E25) -> 0 | G26: =SUM(G18:G25) -> 0
C28: ធាតុនៃចំណូល Receipt Item | D28: ការពន្យល់ Description | E28: ឆ្នាំនេះ This Year | G28: ឆ្នាំមុន Last Year
C29: កម្រៃ, ការចូលរួមវិភាគទាន និង ចំណូលផ្សេងទៀតពីសមាជិក Fees, subscriptions and Other receipts from members | D29: គ្មាន | E29: 0 | G29: 0
D37: សរុប Total | E37: =SUM(E29:E36) -> 0 | G37: =SUM(G29:G36) -> 0
C39: ធាតុនៃចំណូល Receipt Item | D39: ការពន្យល់ Description | E39: ឆ្នាំនេះ This Year | G39: ឆ្នាំមុន Last Year
C40: ចំណូលពីការលក់ទំនិញ ឬសេវា Receipts from providing goods or services | D40: គ្មាន | E40: 0 | G40: 0
D48: សរុប Total | E48: =SUM(E40:E47) -> 0 | G48: =SUM(G40:G47) -> 0
C50: ធាតុនៃចំណូល Receipt Item | D50: ការពន្យល់ Description | E50: ឆ្នាំនេះ This Year | G50: ឆ្នាំមុន Last Year
C51: ការប្រាក់, ភាគលាភ និង ចំណូលពីការវិនិយោគផ្សេងទៀត Interest, dividends and other investment income receipts | D51: ចំណូលការប្រាក់ពីធនាគារ | E51: =PL!K8 -> 523.73785 | G51: 277.97
D59: សរុប Total | E59: =SUM(E51:E58) -> 523.73785 | G59: =SUM(G51:G58) -> 277.97
C61: ធាតុនៃចំណូល Receipt Item | D61: ការពន្យល់ Description | E61: ឆ្នាំនេះ This Year | G61: ឆ្នាំមុន Last Year
C62: ចំណូលផ្សេងទៀត Other receipts | D62: ពីERIKSHJALPEN ការិយាល័យកណ្តាលនៅប្រទេសស៊ុយអែត | E62: =PL!K7 -> 1022005.7 | G62: 725898
D70: សរុប Total | E70: =SUM(E62:E69) -> 1022005.7 | G70: =SUM(G62:G69) -> 725898
C72: ធាតុនៃចំណូល Receipt Item | D72: ការពន្យល់ Description | E72: ឆ្នាំនេះ This Year | G72: ឆ្នាំមុន Last Year
C73: ចំណូលមូលធន Capital receipts | D73: គ្មាន | E73: 0 | G73: 0
D81: សរុប Total | E81: =SUM(E73:E80) -> 0 | G81: =SUM(G73:G80) -> 0

Sheet Note3 Payments
A3: កំណត់សមា្គល់ទី៣: ការវិភាគលើចំណាយ "តើអង្គភាពបានធ្វើអ្វីខ្លះ?" Note 3: Analysis of Payments "What did it cost?"
E4: ពាន់រៀល | G4: ពាន់រៀល
E5: KHR'000 | G5: KHR'000
C6: ធាតុនៃចំណាយ Payment Item | D6: ការពន្យល់ Description | E6: ឆ្នាំនេះ This Year | G6: ឆ្នាំមុន Last Year
C7: ចំណាយទាក់ទងនឹងការរៃអង្គាសប្រាក់ជាសាធារណៈ Payments related to public fundraising | D7: គ្មាន | E7: 0 | G7: 0
D15: សរុប Total | E15: =SUM(E7:E14) -> 0 | G15: =SUM(G7:G14) -> 0
C17: ធាតុនៃចំណាយ Payment Item | D17: ការពន្យល់ Description | E17: ឆ្នាំនេះ This Year | G17: ឆ្នាំមុន Last Year
C18: ចំណាយទាក់ទងនឹងអ្នកស្ម័គ្រចិត្ត និងនិយោជិក Volunteer and employee related payments | D18: ចំណាយលើប្រាក់ខែបុគ្គលិក 5នាក់ | E18: =PL!I12/1000 -> 466460.1 | G18: 518092
D19: ចំណាយលើធានារ៉ាប់រងគ្រោះថ្នាក់ | E19: =PL!I13/1000 -> 972.5568 | G19: 1019
D20: ចំណាយលើ ប ស ស សម្រាប់បុគ្គលិក 5នាក់ | E20: =PL!I14/1000 -> 3053.7826 | G20: 1840
D21: ចំណាយលើ ប្រាក់បំណាច់ប្រចាំឆ្នាំ Seniority | E21: =(PL!I15+PL!I16)/1000 -> 80927.486 | G21: 24422
D22: ចំណាយលើ ធានារ៉ាប់រងសុខភាពសម្រាប់បុគ្គលិក | E22: =PL!I17/1000 -> 28566.078 | G22: 2254
D26: សរុប Total | E26: =SUM(E18:E25) -> 579980.01 | G26: =SUM(G18:G25) -> 547627
C29: ធាតុនៃចំណាយ Payment Item | D29: ការពន្យល់ Description | E29: ឆ្នាំនេះ This Year | G29: ឆ្នាំមុន Last Year
C30: ចំណាយទាក់ទងនឹងការផ្តល់ទំនិញ ឬសេវា Payments related to providing goods or services | D30: ចំណាយលើ ការជួលការិយាល័យ | E30: =PL!I18/1000 -> 2900.8402 | G30: 26888
D31: ចំណាយលើ ទូរសព្ទ័ និង អ៊ីនធ័ណេត | E31: =PL!I21/1000 -> 950.5795 | G31: 1488
D32: ចំណាយលើ ទឹក ភ្លើងសម្រាប់ការិយាល័យ | E32: =(PL!I19+PL!I20)/1000 -> 74728.457 | G32: 1778
D33: ចំណាយលើ សេវាកម្មធនាគារ | E33: =PL!I22/1000 -> 4091.9445 | G33: 588
D34: ចំណាយលើ ថតចំលង និងទឹកថ្នាំ | E34: =PL!I23/1000 -> 2124.2 | G34: 0
D35: ចំណាយលើ សម្ភារះការិយាល័យ | E35: =PL!I24/1000 -> 2583.0681 | G35: 0
D36: ចំណាយលើ កាសែត និងទស្សនាវដ្តី | E36: =PL!I25/1000 -> 410.134 | G36: 0
D37: ចំណាយលើ ការជួបប្រជុំជាមួយអង្គការដៃគូ និង រដ្ឋាភិបាល | E37: =PL!I26/1000 -> 1150.9896 | G37: 3101
D38: ចំណាយលើ ការចុះបញ្ជីជាមួយក្រសូងការបរទេស | E38: =PL!I27/1000 -> 1409.325 | G38: 9867
D39: ចំណាយលើ ការជួយគាំទ្រសកម្មភាពនាយកដ្ឋានប្រឆាំងការជួញដូរ | E39: =PL!I28/1000 -> 45590.643 | G39: 44511
D40: ចំណាយលើ ការពន្ធផ្សេងៗ | E40: =PL!I29/1000 -> 84455.578 | G40: 0
D41: ចំណាយលើ សកម្មភាពផ្សេងៗទៀតដែលមិនបានគ្រោងទុក | E41: =PL!I30/1000 -> -171.93765 | G41: 0
D46: សរុប Total | E46: =SUM(E30:E45) -> 220223.82 | G46: =SUM(G30:G45) -> 88221
C48: ធាតុនៃចំណាយ Payment Item | D48: ការពន្យល់ Description | E48: ឆ្នាំនេះ This Year | G48: ឆ្នាំមុន Last Year
C49: អំណោយ និងការបរិច្ចាគដែលបានទូទាត់ Grants and donations paid | D49: គ្មាន | E49: 0 | G49: 0
D57: សរុប Total | E57: =SUM(E49:E56) -> 0 | G57: =SUM(G49:G56) -> 0
C59: ធាតុនៃចំណាយ Payment Item | D59: ការពន្យល់ Description | E59: ឆ្នាំនេះ This Year | G59: ឆ្នាំមុន Last Year
C60: ចំណាយកិច្ចប្រតិបត្តិការផ្សេងៗ Other operating payments | D60: ចំណាយលើការខ្ចប់វិច និងដឹកជញ្ជូនរើការិយល័យ | E60: 0 | G60: 224
D61: ចំណាយលើកាត់កញ្ចក់ខណ្ឌ័បន្ទប់ការិយល័យថ្មី | E61: 0 | G61: 1141
D62: ចំណាយលើ ការថែទាំជួសជុលកំព្យូទ័រ | E62: =(PL!I33+PL!I34+PL!I35+PL!I36)/1000 -> 10218.056 | G62: 2422
D63: ចំណាយលើ ថ្លៃសវនករ​និង ១០% អ.ត.ប សម្រាប់ឆ្នាំ2022 | E63: =PL!I38/1000 -> 18259.95 | G63: 6722
D64: ចំណាយលើសមាជិកភាពជាមួយ អង្គការ CCC & CRC | E64: =(PL!I39+PL!I40)/1000 -> 19189.287 | G64: 2094
D65: ចំណាយលើ អាហារ និងស្នាក់នៅពេលចុះខេត្ត + ការធ្វើដំណើរ | E65: =(PL!I41+PL!I47)/1000 -> 2603.3297 | G65: 3156
D66: ចំណាយលើវគ្គបណ្តុះបណ្តាល រដ្ឋបាល និង ធនធានមនុស្ស | E66: 0 | G66: 5271
D67: ចំណាយលើ វគ្គបណ្តុះបណ្តាលវគ្គ កិច្ចការពារដើម្បីកុមារមានសុវត្ថិភាព | E67: =PL!I51/1000 -> 10323.898 | G67: 2736
D68: ចំណាយលើវគ្គបណ្តុះបណ្តាល ជាមួយ ACAR | E68: 0 | G68: 652
...

Sheet Note4-7
A2: កំណត់សមា្គល់ទី៤: អាករលើតម្លៃបន្ថែម Note 4: Valued Added Tax*
I4: ពាន់រៀល | J4: ពាន់រៀល
I5: KHR'000 | J5: KHR'000
C6: អាករលើតម្លៃបន្ថែម Valued Added Tax* | D6: ការពន្យល់ Description | I6: ឆ្នាំនេះ This Year | J6: ឆ្នាំមុន Last Year
C7: អាករលើតម្លៃបន្ថែមលើធាតុចូល (VAT ចូល)* Valued Added Tax Input (VAT Input)* | D7: ចំណាយ VAT លើក្រុមហ៊ុន និងសណ្ឋាគារ សម្រាប់ជួលសិក្សាសាលា | I7: =VAT!B15 -> 7220.576 | J7: =VAT!E15 -> 1516.93
C8: អាករលើតម្លៃបន្ថែមលើធាតុចេញ (VAT ចេញ)* Valued Added Tax Input (VAT Output)* | D8: គ្មាន | I8: 0 | J8: 0
A10: កំណត់សមា្គល់ទី៥: ការកែប្រែកំហុសឆ្គង Note 5: Correction of Errors *
I12: ពាន់រៀល | J12: ពាន់រៀល
I13: KHR'000 | J13: KHR'000
A14: អ១ O1 | C14: ការកែប្រែកំហុសឆ្គង Correction of Errors* | D14: ការពន្យល់ Description | I14: ឆ្នាំនេះ This Year | J14: ឆ្នាំមុន Last Year
C15: គ្មាន | D15: គ្មាន | I15: 0 | J15: 0
A23: កំណត់សមា្គល់ទី៦: ប្រតិបត្តិការជាមួយភាគីពាក់ព័ន្ធ Note 6: Related Party Transactions *
G25: ពាន់រៀល | H25: ពាន់រៀល | I25: ពាន់រៀល | J25: ពាន់រៀល
G26: KHR'000 | H26: KHR'000 | I26: KHR'000 | J26: KHR'000
G27: ឆ្នាំនេះ This Year | H27: ឆ្នាំមុន Last Year | I27: ឆ្នាំនេះ This Year | J27: ឆ្នាំមុន Last Year
A28: អ២ អ៣ អ៤ 02 03 04 | C28: ការពន្យល់អំពីទំនាក់ទំនងជាមួយភាគីពាក់ព័ន្ធ * Description of Related Party Relationship* | D28: ការពន្យល់អំពីប្រតិបត្តិការ (មិនថាជា សាច់ប្រាក់ ឬជាចំនួនជាវត្ថុ) * Description of the Transaction (whether in cash or amount in kind)* | G28: តម្លៃនៃប្រតិបត្តិការ * Value of Transactions* | H28: តម្លៃនៃប្រតិបត្តិការ * Value of Transactions* | I28: ចំនួនទឹកប្រាក់នៅសល់ *Amount Outstanding* | J28: ចំនួនទឹកប្រាក់នៅសល់ *Amount Outstanding*
C29: គ្មាន | D29: គ្មាន | G29: 0 | H29: 0 | I29: 0 | J29: 0
D34: សរុប Total | G34: =SUM(G29:G33) -> 0 | H34: =SUM(H29:H33) -> 0 | I34: =SUM(I29:I33) -> 0 | J34: =SUM(J29:J33) -> 0
C36: ឬ (លុបជម្រើសមួយដែលអង្គភាពមិនអាចអនុវត្តបាន) OR (Delete one not applicable to the entity)
C38: ពុំមានប្រតិបត្តិការទាក់ទងនឹងភាគីពាក់ព័ន្ធក្នុងអំឡុងឆ្នាំហិរញ្ញវត្ថុឡើយ ។ (ឆ្នាំមុន - គ្មាន) There were no transactions involving related parties during the financial year. (Last Year - Nil)
A40: កំណត់សមា្គល់ទី៧: ព្រឹត្តិការណ៍ក្រោយកាលបរិច្ឆេទរាយការណ៍ Note 7: Events After the Reporting Date*
A44: អ៥ អ៦ 05 06 | C44: ចរិកលក្ខណៈនៃព្រឹត្តិការណ៍ * Nature of the Event* | E44: ចំនួនទឹកប្រាក់ប៉ាន់ស្មាន* Estimated Amount* | F44: ព្រឹត្តិការណ៍អាចប៉ះពាល់ដល់ដំណើរការបន្តទៅមុខរបស់អង្គភាពបានយ៉ាងដូចម្តេច * How, if at all, the event is likely to affect the continuing viability of the entity*
C45: ចំណាយលើ សវនកម្ម | E45: =PL!I38/1000 -> 18259.95
C50: ឬ (លុបជម្រើសមួយដែលអង្គភាពមិនអាចអនុវត្តបាន) OR (Delete one not applicable to the entity)
C52: ពុំមានប្រតិបត្តិការទាក់ទងនឹងភាគីពាក់ព័ន្ធក្នុងអំឡុងឆ្នាំហិរញ្ញវត្ថុឡើយ ។ (ឆ្នាំមុន - គ្មាន) There were no transactions involving related parties during the financial year. (Last Year - Nil)

Sheet Note8-10
A1: ខ. កំណត់សមា្គល់ជាជម្រើស
A2: II. OPTIONAL NOTES
A3: កំណត់សមា្គល់ទី៨: កំណត់សម្គាល់លើសមិទ្ធកម្មសេវា Note 8: Note to Service Performance
A5: អ៧ 07 | C5: ៨.១ ការពន្យល់អំពីលទ្ធផលរបស់អង្គភាព: 8.1 Description of the Entity's Outcomes:
C6: អង្គការដៃគូអភិវឌ្ឍន៍ អេរិក្ស នៅឆ្នាំ 2021​ទទួលបានអនុស្សរណៈនៃការយោគយល់ពី ក្រសួងការបរទេស និងកិច្ចសហប្រតិបត្តិការអន្តរជាតិ នៅថ្ងៃទី 21 ខែ មករា។
D15: ជាក់ស្តែង Actual* | E15: ផែនការថវិកា Budget | F15: ជាក់ស្តែង Actual*
D16: ឆ្នាំនេះ This Year | E16: ឆ្នាំនេះ This Year | F16: ឆ្នាំមុន Last Year
A18: អ៨ O8 | C18: ៨.២ ការពន្យល់ និងការបញ្ជាក់ពីចំនួន (តាមលទ្ធភាពដែលអាចអនុវត្តបាន) ទិន្នផលរបស់អង្គភាព: 8.2 Description and Quantification (to the extent practicable) of the Entity's Outputs:
C19: ផ្តល់មូលនិធិដល់អង្គការដៃគូចំនួន៦
C20: 1- អង្កការ​សម្ពន្ធ័ចាប់ដៃចំនួន | D20: 1,850,087,730 រៀល (US$450,143)
C21: 2- អង្គការ ម្លប់ឫស្សី ចំនួន | D21: 1,180,318,020 រៀល (US$287,182)
C22: 3-​អង្គការ ពន្លឺកម្ពុជាចំនួន | D22: 719,250,000 រៀល (US$175,000)
C23: 4-​អង្គការ​គាំពារភូមិយើង | D23: 616,500,000 រៀល (US$150,000)
C24: 5- អង្គការ ហាកាកម្ពុជា | D24: 1,151,634,330 រៀល (US$340,016)
C25: 6-អង្គការ ប្រិយសម្ពន្ធ័គ្រីស្ទបរិស័ទកម្ពុជា | D25: 488,744,760 រៀល (US$118,916)
A27: កំណត់សមា្គល់ទី៩: ធនធាន និងកាតព្វកិច្ច Note 9: Resources and Commitments
A29: បញ្ជីធនធាន SCHEDULE OF RESOURCES
E30: ពាន់រៀល | G30: ពាន់រៀល
E31: KHR'000 | G31: KHR'000
A32: អ៩ O9 | C32: គណនីធនាគារ និងសាច់ប្រាក់ពីរបាយការណ៍ចំណូល និងចំណាយ Bank Accounts and Cash from Statement of Receipts and Payments | D32: ការពន្យល់ Description | E32: ឆ្នាំនេះ This Year | G32: ឆ្នាំមុន Last Year
D33: សរុបចំណូលដែលទទួលបានពីERIKSស្នាក់ការកណ្តាលនៅប្រទេសស៊ុយអែត | E33: =PL!K9 -> 1022529.5 | G33: 600899
D34: សាច់ប្រាក់ដើមឆ្នាំ 2023 | E34: =(BS!G22+BS!G23)/1000 -> 170287.25 | G34: 0
D35: សាច់ប្រាក់ដើមឆ្នាំ 2022 | E35: =(BS!G21-43482000)/1000 -> -66937.77 | G35: 120615
D36: ចំណាយសរុបក្នុងឆ្នាំ 2022 | E36: =-(PL!J56+BS!H32)/1000 -> -962825.57 | G36: -627111
D42: សរុប Total | E42: =SUM(E33:E41) -> 163053.36 | G42: =SUM(G33:G41) -> 94403
A44: អ១០ O10 | C44: ប្រាក់រក្សាទុកជំនួសអ្នកដទៃ Money Held on Behalf of Others | D44: ការពន្យល់ Description | E44: ឆ្នាំនេះ This Year | G44: ឆ្នាំមុន Last Year
D45: គ្មាន | E45: 0 | G45: 0
G46: 0
D54: សរុប Total | E54: =SUM(E45:E53) -> 0 | G54: =SUM(G45:G53) -> 0
A57: អ១១ O11 | C57: ប្រាក់ដែលជំពាក់អង្គភាព Money Owed to the Entity | D57: ការពន្យល់ Description | E57: ឆ្នាំនេះ This Year | G57: ឆ្នាំមុន Last Year
D58: គ្មាន | E58: 0 | G58: 0
D67: សរុប Total | E67: =SUM(E58:E66) -> 0 | G67: =SUM(G58:G66) -> 0
A69: អ១២ O12 | C69: ធនធានផ្សេងទៀត Other Resources | D69: ការពន្យល់និងប្រភពនៃតម្លៃ(ថ្លៃដើម ឬតម្លៃបច្ចុប្បន្នចាំបាច់ប្រសិនបើអាចទទួលបាន) Description and Source of Value (cost or current value required if practicable to obtain) | E69: ឆ្នាំនេះ This Year | G69: ឆ្នាំមុន Last Year
D70: គ្មាន | E70: 0 | G70: 0
D79: សរុប Total | E79: =SUM(E70:E78) -> 0 | G79: =SUM(G70:G78) -> 0
A82: បញ្ជីកាតព្វកិច្ច SCHEDULE OF COMMITMENTS
A84: អ១៣ O13 | C84: ប្រាក់ដែលអង្គភាពត្រូវសង Money Payable by the Entity | D84: ការពន្យល់ Description | E84: ឆ្នាំនេះ This Year | G84: ឆ្នាំមុន Last Year
D85: គ្មាន | E85: 0 | G85: 0
D94: សរុប Total | E94: =SUM(E85:E93) -> 0 | G94: =SUM(G85:G93) -> 0
A97: អ០១៤ O14 | C97: កាតព្វកិច្ចផ្សេងទៀត Other Commitments | D97: ការពន្យល់ Description | E97: ឆ្នាំនេះ This Year | G97: ឆ្នាំមុន Last Year
...

Sheet PL
B1: SEA RO CAMBODIA
B2: Profit & Loss Account
B3: Year to Date to 31st Dec 2023 | I3: Ex. Rate
F4: 4085 | I4: 4085
B6: REVENUE | C6: $ | D6: $ | F6: Riels | I6: Riels
A7: 8500 | B7: =VLOOKUP($A7,[1]TB!A6:E57,2,FALSE) -> Transfer from ERIKS HQ | C7: =VLOOKUP(A7,[1]TB!A6:E57,4,FALSE) -> 250185 | F7: =C7*$F$4 -> 1022005725 | I7: =C7*$I$4 -> 1022005725 | J7: R&P 1 | K7: =I7/1000 -> 1022005.7
A8: 8700 | B8: =VLOOKUP($A8,[1]TB!A7:E58,2,FALSE) -> Income from Bank Interest | C8: =VLOOKUP(A8,[1]TB!A7:E58,4,FALSE) -> 128.21 | F8: =C8*$F$4 -> 523737.85 | I8: =C8*$I$4 -> 523737.85 | J8: R&P 5 | K8: =I8/1000 -> 523.73785
B9: Total Revenues | D9: =SUM(C7:C8) -> 250313.21 | G9: =SUM(F7:F8) -> 1.0225295e+09 | J9: =SUM(I7:I8) -> 1.0225295e+09 | K9: =SUM(K7:K8) -> 1022529.5
B11: EXPENDITURES | L11: Summary Coding
A12: 3001 | B12: =VLOOKUP($A12,[1]TB!A6:E57,2,FALSE) -> Salaries | C12: =VLOOKUP(A12,[1]TB!A12:E62,3,FALSE) -> 114188.52 | F12: =C12*$F$4 -> 4.664601e+08 | I12: =C12*$I$4 -> 4.664601e+08 | J12: R&P 8 | K12: =SUM(I12:I17)/1000 -> 579980.01
A13: 3003 | B13: =VLOOKUP($A13,[1]TB!A6:E58,2,FALSE) -> Group Accident insurance | C13: =VLOOKUP(A13,[1]TB!A13:E63,3,FALSE) -> 238.08 | F13: =C13*$F$4 -> 972556.8 | I13: =C13*$I$4 -> 972556.8 | L13: B23 | M13: =I12+I15+I16 -> 5.4738759e+08
A14: 3004 | B14: =VLOOKUP($A14,[1]TB!A6:E59,2,FALSE) -> Contribution to host Org. salary | C14: =VLOOKUP(A14,[1]TB!A14:E64,3,FALSE) -> 747.56 | F14: =C14*$F$4 -> 3053782.6 | I14: =C14*$I$4 -> 3053782.6 | L14: B24 | M14: =I19+I20 -> 74728457
A15: 3005 | B15: =VLOOKUP($A15,[1]TB!A7:E60,2,FALSE) -> Social Security Insurances for staff | C15: =VLOOKUP(A15,[1]TB!A10:E65,3,FALSE) -> 1219.49 | F15: =C15*$F$4 -> 4981616.7 | I15: =C15*$I$4 -> 4981616.7 | L15: B25 | M15: =I42+I43+I44+I45+I46+I47 -> 16000414
A16: 3006 | B16: =VLOOKUP($A16,[1]TB!A8:E61,2,FALSE) -> Incentive Allowance/Seniority | C16: =VLOOKUP(A16,[1]TB!A15:E66,3,FALSE) -> 18591.4 | F16: =C16*$F$4 -> 75945869 | I16: =C16*$I$4 -> 75945869 | L16: B27 | M16: =I18 -> 2900840.2
A17: 3007 | B17: =VLOOKUP($A17,[1]TB!A9:E62,2,FALSE) -> Office staff gratuity | C17: =VLOOKUP(A17,[1]TB!A16:E67,3,FALSE) -> 6992.92 | F17: =C17*$F$4 -> 28566078 | I17: =C17*$I$4 -> 28566078 | L17: B28 | M17: =I33 -> 817000
A18: 3009 | B18: =VLOOKUP($A18,[1]TB!A11:E63,2,FALSE) -> Staff Medical insurances | C18: =VLOOKUP(A18,[1]TB!A17:E68,3,FALSE) -> 710.12 | F18: =C18*$F$4 -> 2900840.2 | I18: =C18*$I$4 -> 2900840.2 | J18: R&P 9 | K18: =SUM(I18:I30)/1000 -> 220223.82 | L18: B30
A19: 3099 | B19: =VLOOKUP($A19,[1]TB!A12:E64,2,FALSE) -> Micelleneous for personnel | C19: =VLOOKUP(A19,[1]TB!A18:E69,3,FALSE) -> 6767.38 | F19: =C19*$F$4 -> 27644747 | I19: =C19*$I$4 -> 27644747 | L19: B31 | M19: =I29 -> 84455578
A20: 4001 | B20: =VLOOKUP($A20,[1]TB!A13:E65,2,FALSE) -> Office Rent or lease payments | C20: =VLOOKUP(A20,[1]TB!A19:E70,3,FALSE) -> 11526 | F20: =C20*$F$4 -> 47083710 | I20: =C20*$I$4 -> 47083710 | L20: B32
A21: 4002 | B21: =VLOOKUP($A21,[1]TB!A14:E66,2,FALSE) -> Utilities | C21: =VLOOKUP(A21,[1]TB!A20:E71,3,FALSE) -> 232.7 | F21: =C21*$F$4 -> 950579.5 | I21: =C21*$I$4 -> 950579.5 | L21: B33 | M21: =I38 -> 18259950
A22: 4005 | B22: =VLOOKUP($A22,[1]TB!A10:E67,2,FALSE) -> Office Electricity | C22: =VLOOKUP(A22,[1]TB!A21:E72,3,FALSE) -> 1001.7 | F22: =C22*$F$4 -> 4091944.5 | I22: =C22*$I$4 -> 4091944.5
A23: 4007 | B23: =VLOOKUP($A23,[1]TB!A15:E68,2,FALSE) -> Office Phone and Fax | C23: =VLOOKUP(A23,[1]TB!A22:E73,3,FALSE) -> 520 | F23: =C23*$F$4 -> 2124200 | I23: =C23*$I$4 -> 2124200
A24: 4008 | B24: =VLOOKUP($A24,[1]TB!A16:E69,2,FALSE) -> Bank Charge | C24: =VLOOKUP(A24,[1]TB!A23:E74,3,FALSE) -> 632.33 | F24: =C24*$F$4 -> 2583068.1 | I24: =C24*$I$4 -> 2583068.1 | L24: B34
A25: 4009 | B25: =VLOOKUP($A25,[1]TB!A17:E70,2,FALSE) -> Printer ink, printing and copies | C25: =VLOOKUP(A25,[1]TB!A24:E75,3,FALSE) -> 100.4 | F25: =C25*$F$4 -> 410134 | I25: =C25*$I$4 -> 410134 | L25: B35
A26: 4010 | B26: =VLOOKUP($A26,[1]TB!A18:E71,2,FALSE) -> Stationary & Printing | C26: =VLOOKUP(A26,[1]TB!A25:E76,3,FALSE) -> 281.76 | F26: =C26*$F$4 -> 1150989.6 | I26: =C26*$I$4 -> 1150989.6 | L26: B36
A27: 4013 | B27: =VLOOKUP($A27,[1]TB!A19:E72,2,FALSE) -> Office Registration Expenses | C27: =VLOOKUP(A27,[1]TB!A26:E77,3,FALSE) -> 345 | F27: =C27*$F$4 -> 1409325 | I27: =C27*$I$4 -> 1409325 | L27: B37
A28: 4014 | B28: =VLOOKUP($A28,[1]TB!A20:E73,2,FALSE) -> Projection budget work with MoI | C28: =VLOOKUP(A28,[1]TB!A27:E78,3,FALSE) -> 11160.5 | F28: =C28*$F$4 -> 45590642 | I28: =C28*$I$4 -> 45590642 | L28: B38
A29: 4015 | B29: =VLOOKUP($A29,[1]TB!A21:E74,2,FALSE) -> Tax Expenditure | C29: =VLOOKUP(A29,[1]TB!A28:E79,3,FALSE) -> 20674.56 | F29: =C29*$F$4 -> 84455578 | I29: =C29*$I$4 -> 84455578 | L29: B39
A30: 4016 | B30: =VLOOKUP($A30,[1]TB!A22:E75,2,FALSE) -> Tax Exchange Gain/Loss | C30: =-VLOOKUP(A30,[1]TB!A29:E80,4,FALSE) -> -42.09 | F30: =C30*$F$4 -> -171937.65 | I30: =C30*$I$4 -> -171937.65 | L30: B40
A31: 5001 | B31: =VLOOKUP($A31,[1]TB!A23:E76,2,FALSE) -> Office Equipment Expenses | C31: =VLOOKUP(A31,[1]TB!A30:E81,3,FALSE) -> 1167 | F31: =C31*$F$4 -> 4767195 | I31: =C31*$I$4 -> 4767195 | J31: R&P 11 | K31: =SUM(I31:I56)/1000 -> 146399.78 | L31: B41 | M31: =I13+I14+I17+I21+I22+I23+I24+I25+I27+I26+I28+I30+I31+I32+I34+I35+I36+I37+I39+I40+I41+I48+I49+I50+I51+I52+I53 -> 1.9862777e+08
A32: 5003 | B32: =VLOOKUP($A32,[1]TB!A24:E77,2,FALSE) -> IT Accessories Expenses | C32: =VLOOKUP(A32,[1]TB!A31:E82,3,FALSE) -> 170.4 | F32: =C32*$F$4 -> 696084 | I32: =C32*$I$4 -> 696084
A33: 5005 | B33: =VLOOKUP($A33,[1]TB!A25:E78,2,FALSE) -> Internet Expenses | C33: =VLOOKUP(A33,[1]TB!A32:E83,3,FALSE) -> 200 | F33: =C33*$F$4 -> 817000 | I33: =C33*$I$4 -> 817000
A34: 5006 | B34: =VLOOKUP($A34,[1]TB!A26:E79,2,FALSE) -> IT License/upgrading Expenses | C34: =VLOOKUP(A34,[1]TB!A33:E84,3,FALSE) -> 549.1 | F34: =C34*$F$4 -> 2243073.5 | I34: =C34*$I$4 -> 2243073.5
A35: 5008 | B35: =VLOOKUP($A35,[1]TB!A27:E80,2,FALSE) -> Laptop for new staff | C35: =VLOOKUP(A35,[1]TB!A34:E85,3,FALSE) -> 966.9 | F35: =C35*$F$4 -> 3949786.5 | I35: =C35*$I$4 -> 3949786.5
A36: 5099 | B36: =VLOOKUP($A36,[1]TB!A28:E81,2,FALSE) -> Miscellanoeus Office Expenses | C36: =VLOOKUP(A36,[1]TB!A35:E86,3,FALSE) -> 785.36 | F36: =C36*$F$4 -> 3208195.6 | I36: =C36*$I$4 -> 3208195.6
A37: 5202 | B37: =VLOOKUP($A37,[1]TB!A29:E82,2,FALSE) -> Other Consultant fee | C37: =VLOOKUP(A37,[1]TB!A36:E87,3,FALSE) -> 1105 | F37: =C37*$F$4 -> 4513925 | I37: =C37*$I$4 -> 4513925
A38: 5203 | B38: =VLOOKUP($A38,[1]TB!A30:E83,2,FALSE) -> Professional fee Audit cost | C38: =VLOOKUP(A38,[1]TB!A37:E88,3,FALSE) -> 4470 | F38: =C38*$F$4 -> 18259950 | I38: =C38*$I$4 -> 18259950
A39: 5205 | B39: =VLOOKUP($A39,[1]TB!A31:E84,2,FALSE) -> Membership Local networking /registration | C39: =VLOOKUP(A39,[1]TB!A38:E89,3,FALSE) -> 658.8 | F39: =C39*$F$4 -> 2691198 | I39: =C39*$I$4 -> 2691198
A40: 6001 | B40: =VLOOKUP($A40,[1]TB!A32:E85,2,FALSE) -> Meals and Accommodations expenses | C40: =VLOOKUP(A40,[1]TB!A39:E90,3,FALSE) -> 4038.7 | F40: =C40*$F$4 -> 16498090 | I40: =C40*$I$4 -> 16498090 | N40: =SUM(M13:M39) -> 9.431776e+08
A41: 6003 | B41: =VLOOKUP($A41,[1]TB!A33:E86,2,FALSE) -> Vehicle Running Costs Expenses | C41: =VLOOKUP(A41,[1]TB!A40:E91,3,FALSE) -> 447.29 | F41: =C41*$F$4 -> 1827179.7 | I41: =C41*$I$4 -> 1827179.7 | N41: =J56 -> 9.4660361e+08
A42: 6004 | B42: =VLOOKUP($A42,[1]TB!A34:E87,2,FALSE) -> Vehicle Running Cost | C42: =VLOOKUP(A42,[1]TB!A41:E92,3,FALSE) -> 52.5 | F42: =C42*$F$4 -> 214462.5 | I42: =C42*$I$4 -> 214462.5 | N42: =N40-N41 -> -3426007.8
...

Sheet BS
A1: SEA RO CAMBODIA
A2: Balance Sheet
A3: AS AT 31 DECEMBER 2023
C5: US DOLLARS | G5: RIELS
G6: 4110
B7: Fixed Assets | C7: $ | D7: $
B8: =VLOOKUP($A8,[1]TB!$A$1:$E$49,2,FALSE) -> #N/A | C8: 0 | G8: =C8*G6 -> 0
B9: Total Fixed Assets | D9: =SUM(C8:C8) -> 0 | H9: =SUM(G8:G8) -> 0
B11: Current Assets
A12: 1000 | B12: =VLOOKUP($A12,[1]TB!$A$6:$E$49,2,FALSE) -> Cash In Bank | C12: =VLOOKUP($A12,[1]TB!$A$1:$E$74,3,FALSE) -> 36772.37 | G12: =C12*$G$6 -> 1.5113444e+08 | H12: R&P 20 | I12: =SUM(G12:G15)/1000 -> 163053.44
A13: 1006 | B13: =VLOOKUP($A13,[1]TB!$A$6:$E$49,2,FALSE) -> Office Rental Deposit | C13: =VLOOKUP($A13,[1]TB!$A$1:$E$74,3,FALSE) -> 2700 | G13: =C13*$G$6 -> 11097000
A14: 1004 | B14: =VLOOKUP($A14,[1]TB!$A$6:$E$49,2,FALSE) -> Accrual Payment | C14: =VLOOKUP($A14,[1]TB!$A$1:$E$74,3,FALSE) -> 0 | G14: =C14*$G$6 -> 0
A15: 1005 | B15: =VLOOKUP($A15,[1]TB!$A$6:$E$49,2,FALSE) -> Program Advance | C15: =VLOOKUP($A15,[1]TB!$A$1:$E$74,3,FALSE) -> 200 | G15: =C15*$G$6 -> 822000
B16: TOTAL CURRENT ASSETS | D16: =SUM(C12:C15) -> 39672.37 | H16: =SUM(G12:G15) -> 1.6305344e+08
B18: Total Assets | D18: =D9+D16 -> 39672.37 | H18: =H9+H16 -> 1.6305344e+08
B20: CAPITAL/EQUITY
A21: 1800 | B21: =VLOOKUP($A21,[1]TB!$A$1:$E$48,2,FALSE) -> Opening Balance Equity | C21: =-VLOOKUP($A21,[1]TB!$A$1:$E$74,3,FALSE) -> -5707 | G21: =C21*$G$6 -> -23455770
A22: 1900 | B22: =VLOOKUP($A22,[1]TB!$A$1:$E$48,2,FALSE) -> Retained Earnings | C22: =VLOOKUP($A22,[1]TB!$A$1:$E$48,4,FALSE) -> 22845.92 | G22: =C22*$G$6 -> 93896731 | H22: R&P18
B23: Profit & Loss Account | C23: ='[1]P & L'!D59 -> 18586.5 | G23: =C23*$G$6 -> 76390515 | I23: =G23/1000 -> 76390.515
B24: Total Capital | D24: =SUM(C21:C23) -> 35725.42 | H24: =SUM(G21:G23) -> 1.4683148e+08 | I24: =H24/1000 -> 146831.48
B26: LIABILITIES
A27: 1700 | B27: =VLOOKUP($A27,[1]TB!$A$1:$E$48,2,FALSE) -> Salary Tax Payable | C27: =VLOOKUP($A27,[1]TB!$A$1:$E$48,4,FALSE) -> 1224.65 | G27: =C27*$G$6 -> 5033311.5
A28: 1750 | B28: =VLOOKUP($A28,[1]TB!$A$1:$E$48,2,FALSE) -> Current WHT Liability | C28: =VLOOKUP($A28,[1]TB!$A$1:$E$48,4,FALSE) -> 422 | G28: =C28*$G$6 -> 1734420
A29: 1760 | B29: =VLOOKUP($A29,[1]TB!$A$1:$E$48,2,FALSE) -> Pension Payable | C29: =VLOOKUP($A29,[1]TB!$A$1:$E$48,4,FALSE) -> 29.18 | G29: =C29*$G$6 -> 119929.8
A30: 1770 | B30: =VLOOKUP($A30,[1]TB!$A$1:$E$48,2,FALSE) -> Reimbursement to owing Staff | C30: =VLOOKUP($A30,[1]TB!$A$1:$E$48,4,FALSE) -> 1.12 | G30: =C30*$G$6 -> 4603.2
A31: 1780 | B31: =VLOOKUP($A31,[1]TB!$A$1:$E$48,2,FALSE) -> Payable to Auditor | C31: =VLOOKUP($A31,[1]TB!$A$1:$E$48,4,FALSE) -> 2270 | G31: =C31*$G$6 -> 9329700
B32: Total Liabilities | D32: =SUM(C27:C31) -> 3946.95 | H32: =SUM(G27:G31) -> 16221964 | I32: =H32/1000 -> 16221.965
I33: =H33/4052 -> 0
B34: Total Capital & Liabilities | D34: =D24+D32 -> 39672.37 | H34: =SUM(H24+H32) -> 1.6305344e+08 | I34: =SUM(I22:I32) -> 239443.96

Sheet VAT
A1: 2022 | D1: 2021
A2: MONTH | B2: Input VAT | D2: MONTH | E2: Input VAT
A3: JAN | B3: 354851 | D3: JAN | E3: 0
A4: FEB | B4: 0 | D4: FEB | E4: 0
A5: MAR | B5: 321322 | D5: MAR | E5: 0
A6: APR | B6: 961477 | D6: APR | E6: 80960
A7: MAY | B7: 354502 | D7: MAY | E7: 607830
A8: JUN | B8: 355200 | D8: JUN | E8: 0
A9: JUL | B9: 0 | D9: JUL | E9: 0
A10: AUG | B10: 888979 | D10: AUG | E10: 0
A11: SEPT | B11: 407560 | D11: SEPT | E11: 0
A12: OCT | B12: 1522966 | D12: OCT | E12: 687616
A13: NOV | B13: 1612077 | D13: NOV | E13: 140524
A14: DEC | B14: 441642 | D14: DEC | E14: 0
A15: TOTAL | B15: =SUM(B3:B14)/1000 -> 7220.576 | D15: TOTAL | E15: =SUM(E3:E14)/1000 -> 1516.93
